BEGIN:VCALENDAR
VERSION:2.0
PRODID:-//Kelvern Celtic Society - ECPv6.15.20//NONSGML v1.0//EN
CALSCALE:GREGORIAN
METHOD:PUBLISH
X-ORIGINAL-URL:https://kelvernceltic.ca
X-WR-CALDESC:Events for Kelvern Celtic Society
REFRESH-INTERVAL;VALUE=DURATION:PT1H
X-Robots-Tag:noindex
X-PUBLISHED-TTL:PT1H
BEGIN:VTIMEZONE
TZID:America/Vancouver
BEGIN:DAYLIGHT
TZOFFSETFROM:-0800
TZOFFSETTO:-0700
TZNAME:PDT
DTSTART:20250309T100000
END:DAYLIGHT
BEGIN:STANDARD
TZOFFSETFROM:-0700
TZOFFSETTO:-0800
TZNAME:PST
DTSTART:20251102T090000
END:STANDARD
BEGIN:DAYLIGHT
TZOFFSETFROM:-0800
TZOFFSETTO:-0700
TZNAME:PDT
DTSTART:20260308T100000
END:DAYLIGHT
BEGIN:STANDARD
TZOFFSETFROM:-0700
TZOFFSETTO:-0800
TZNAME:PST
DTSTART:20261101T090000
END:STANDARD
BEGIN:DAYLIGHT
TZOFFSETFROM:-0800
TZOFFSETTO:-0700
TZNAME:PDT
DTSTART:20270314T100000
END:DAYLIGHT
BEGIN:STANDARD
TZOFFSETFROM:-0700
TZOFFSETTO:-0800
TZNAME:PST
DTSTART:20271107T090000
END:STANDARD
BEGIN:DAYLIGHT
TZOFFSETFROM:-0800
TZOFFSETTO:-0700
TZNAME:PDT
DTSTART:20280312T100000
END:DAYLIGHT
BEGIN:STANDARD
TZOFFSETFROM:-0700
TZOFFSETTO:-0800
TZNAME:PST
DTSTART:20281105T090000
END:STANDARD
BEGIN:DAYLIGHT
TZOFFSETFROM:-0800
TZOFFSETTO:-0700
TZNAME:PDT
DTSTART:20290311T100000
END:DAYLIGHT
BEGIN:STANDARD
TZOFFSETFROM:-0700
TZOFFSETTO:-0800
TZNAME:PST
DTSTART:20291104T090000
END:STANDARD
BEGIN:DAYLIGHT
TZOFFSETFROM:-0800
TZOFFSETTO:-0700
TZNAME:PDT
DTSTART:20300310T100000
END:DAYLIGHT
BEGIN:STANDARD
TZOFFSETFROM:-0700
TZOFFSETTO:-0800
TZNAME:PST
DTSTART:20301103T090000
END:STANDARD
END:VTIMEZONE
BEGIN:VEVENT
DTSTART;VALUE=DATE:20260303
DTEND;VALUE=DATE:20260427
DTSTAMP:20260419T201100
CREATED:20210323T174609Z
LAST-MODIFIED:20230419T182907Z
UID:10004256-1772496000-1777244399@kelvernceltic.ca
SUMMARY:Bursary Applications being accepted
DESCRIPTION:Kelvern sponsors a bursary for students graduating from High School.\nNow accepting applications.  Applicants can be members\, children or grandchildren of Kelvern members.\nApplications will be accepted from March 1st to  April 25th in the graduating year of the candidate.    The successful candidate’s award will be paid directly to the approved\, post secondary institution of their choice\, by the Central Okanagan Foundation. \nAll applicants Must: \n\nHave an affiliation or a family affiliation with the Kelvern Celtic Society.\nPresently be enrolled in a secondary school setting and graduating in the year of application.\nBe an active community volunteer during secondary school years.\nHave an academic average suitable for acceptance into a post graduate institution or technical school.\nThe funds are earmarked for candidates who will be attending a public university or college.  Under the terms and conditions of the Canada Revenue Agency\, the monies which are administered on our behalf by the Central Okanagan Foundation can only be sent to public institutions with charitable status.
URL:https://kelvernceltic.ca/event/2021-bursary-applications-being-accepted/2026-03-03/
LOCATION:on line\, your computer or tablet
ATTACH;FMTTYPE=image/jpeg:https://kelvernceltic.ca/wp-content/uploads/2020/02/bursary.jpg
ORGANIZER;CN="Kelvern Celtic Society":MAILTO:info@kelvernceltic.ca
END:VEVENT
BEGIN:VEVENT
DTSTART;VALUE=DATE:20270302
DTEND;VALUE=DATE:20270426
DTSTAMP:20260419T201100
CREATED:20210323T174609Z
LAST-MODIFIED:20230419T182907Z
UID:10004257-1803945600-1808693999@kelvernceltic.ca
SUMMARY:Bursary Applications being accepted
DESCRIPTION:Kelvern sponsors a bursary for students graduating from High School.\nNow accepting applications.  Applicants can be members\, children or grandchildren of Kelvern members.\nApplications will be accepted from March 1st to  April 25th in the graduating year of the candidate.    The successful candidate’s award will be paid directly to the approved\, post secondary institution of their choice\, by the Central Okanagan Foundation. \nAll applicants Must: \n\nHave an affiliation or a family affiliation with the Kelvern Celtic Society.\nPresently be enrolled in a secondary school setting and graduating in the year of application.\nBe an active community volunteer during secondary school years.\nHave an academic average suitable for acceptance into a post graduate institution or technical school.\nThe funds are earmarked for candidates who will be attending a public university or college.  Under the terms and conditions of the Canada Revenue Agency\, the monies which are administered on our behalf by the Central Okanagan Foundation can only be sent to public institutions with charitable status.
URL:https://kelvernceltic.ca/event/2021-bursary-applications-being-accepted/2027-03-02/
LOCATION:on line\, your computer or tablet
ATTACH;FMTTYPE=image/jpeg:https://kelvernceltic.ca/wp-content/uploads/2020/02/bursary.jpg
ORGANIZER;CN="Kelvern Celtic Society":MAILTO:info@kelvernceltic.ca
END:VEVENT
BEGIN:VEVENT
DTSTART;VALUE=DATE:20270409
DTEND;VALUE=DATE:20270410
DTSTAMP:20260419T201100
CREATED:20250408T172241Z
LAST-MODIFIED:20250408T172241Z
UID:10005317-1807228800-1807315199@kelvernceltic.ca
SUMMARY:Bursary Application Deadline April 30
DESCRIPTION:All applicants Must: \n\nHave an affiliation or a family affiliation with the Kelvern Celtic Society.\nPresently be enrolled in a secondary school setting and graduating in the year of application.\nBe an active community volunteer during secondary school years.\nHave an academic average suitable for acceptance into a post graduate institution or technical school.\nThe funds are earmarked for candidates who will be attending a public university or college.  Under the terms and conditions of the Canada Revenue Agency\, the monies which are administered on our behalf by the Central Okanagan Foundation can only be sent to public institutions with charitable status.\n\nLink to application form here: \nKelvern Post Secondary Bursary
URL:https://kelvernceltic.ca/event/bursary-application-deadline-one-week-away-2-2/2027-04-09/
LOCATION:on line\, your computer or tablet
ATTACH;FMTTYPE=image/jpeg:https://kelvernceltic.ca/wp-content/uploads/2015/08/grad.jpg
ORGANIZER;CN="Kelvern Celtic Society":MAILTO:info@kelvernceltic.ca
END:VEVENT
BEGIN:VEVENT
DTSTART;VALUE=DATE:20280307
DTEND;VALUE=DATE:20280501
DTSTAMP:20260419T201100
CREATED:20210323T174609Z
LAST-MODIFIED:20230419T182907Z
UID:10004258-1836000000-1840748399@kelvernceltic.ca
SUMMARY:Bursary Applications being accepted
DESCRIPTION:Kelvern sponsors a bursary for students graduating from High School.\nNow accepting applications.  Applicants can be members\, children or grandchildren of Kelvern members.\nApplications will be accepted from March 1st to  April 25th in the graduating year of the candidate.    The successful candidate’s award will be paid directly to the approved\, post secondary institution of their choice\, by the Central Okanagan Foundation. \nAll applicants Must: \n\nHave an affiliation or a family affiliation with the Kelvern Celtic Society.\nPresently be enrolled in a secondary school setting and graduating in the year of application.\nBe an active community volunteer during secondary school years.\nHave an academic average suitable for acceptance into a post graduate institution or technical school.\nThe funds are earmarked for candidates who will be attending a public university or college.  Under the terms and conditions of the Canada Revenue Agency\, the monies which are administered on our behalf by the Central Okanagan Foundation can only be sent to public institutions with charitable status.
URL:https://kelvernceltic.ca/event/2021-bursary-applications-being-accepted/2028-03-07/
LOCATION:on line\, your computer or tablet
ATTACH;FMTTYPE=image/jpeg:https://kelvernceltic.ca/wp-content/uploads/2020/02/bursary.jpg
ORGANIZER;CN="Kelvern Celtic Society":MAILTO:info@kelvernceltic.ca
END:VEVENT
BEGIN:VEVENT
DTSTART;VALUE=DATE:20280414
DTEND;VALUE=DATE:20280415
DTSTAMP:20260419T201100
CREATED:20250408T172241Z
LAST-MODIFIED:20250408T172241Z
UID:10005318-1839283200-1839369599@kelvernceltic.ca
SUMMARY:Bursary Application Deadline April 30
DESCRIPTION:All applicants Must: \n\nHave an affiliation or a family affiliation with the Kelvern Celtic Society.\nPresently be enrolled in a secondary school setting and graduating in the year of application.\nBe an active community volunteer during secondary school years.\nHave an academic average suitable for acceptance into a post graduate institution or technical school.\nThe funds are earmarked for candidates who will be attending a public university or college.  Under the terms and conditions of the Canada Revenue Agency\, the monies which are administered on our behalf by the Central Okanagan Foundation can only be sent to public institutions with charitable status.\n\nLink to application form here: \nKelvern Post Secondary Bursary
URL:https://kelvernceltic.ca/event/bursary-application-deadline-one-week-away-2-2/2028-04-14/
LOCATION:on line\, your computer or tablet
ATTACH;FMTTYPE=image/jpeg:https://kelvernceltic.ca/wp-content/uploads/2015/08/grad.jpg
ORGANIZER;CN="Kelvern Celtic Society":MAILTO:info@kelvernceltic.ca
END:VEVENT
BEGIN:VEVENT
DTSTART;VALUE=DATE:20290413
DTEND;VALUE=DATE:20290414
DTSTAMP:20260419T201100
CREATED:20250408T172241Z
LAST-MODIFIED:20250408T172241Z
UID:10005319-1870732800-1870819199@kelvernceltic.ca
SUMMARY:Bursary Application Deadline April 30
DESCRIPTION:All applicants Must: \n\nHave an affiliation or a family affiliation with the Kelvern Celtic Society.\nPresently be enrolled in a secondary school setting and graduating in the year of application.\nBe an active community volunteer during secondary school years.\nHave an academic average suitable for acceptance into a post graduate institution or technical school.\nThe funds are earmarked for candidates who will be attending a public university or college.  Under the terms and conditions of the Canada Revenue Agency\, the monies which are administered on our behalf by the Central Okanagan Foundation can only be sent to public institutions with charitable status.\n\nLink to application form here: \nKelvern Post Secondary Bursary
URL:https://kelvernceltic.ca/event/bursary-application-deadline-one-week-away-2-2/2029-04-13/
LOCATION:on line\, your computer or tablet
ATTACH;FMTTYPE=image/jpeg:https://kelvernceltic.ca/wp-content/uploads/2015/08/grad.jpg
ORGANIZER;CN="Kelvern Celtic Society":MAILTO:info@kelvernceltic.ca
END:VEVENT
END:VCALENDAR