BEGIN:VCALENDAR
VERSION:2.0
PRODID:-//Kelvern Celtic Society - ECPv6.15.20//NONSGML v1.0//EN
CALSCALE:GREGORIAN
METHOD:PUBLISH
X-WR-CALNAME:Kelvern Celtic Society
X-ORIGINAL-URL:https://kelvernceltic.ca
X-WR-CALDESC:Events for Kelvern Celtic Society
REFRESH-INTERVAL;VALUE=DURATION:PT1H
X-Robots-Tag:noindex
X-PUBLISHED-TTL:PT1H
BEGIN:VTIMEZONE
TZID:America/Vancouver
BEGIN:DAYLIGHT
TZOFFSETFROM:-0800
TZOFFSETTO:-0700
TZNAME:PDT
DTSTART:20210314T100000
END:DAYLIGHT
BEGIN:STANDARD
TZOFFSETFROM:-0700
TZOFFSETTO:-0800
TZNAME:PST
DTSTART:20211107T090000
END:STANDARD
BEGIN:DAYLIGHT
TZOFFSETFROM:-0800
TZOFFSETTO:-0700
TZNAME:PDT
DTSTART:20220313T100000
END:DAYLIGHT
BEGIN:STANDARD
TZOFFSETFROM:-0700
TZOFFSETTO:-0800
TZNAME:PST
DTSTART:20221106T090000
END:STANDARD
BEGIN:DAYLIGHT
TZOFFSETFROM:-0800
TZOFFSETTO:-0700
TZNAME:PDT
DTSTART:20230312T100000
END:DAYLIGHT
BEGIN:STANDARD
TZOFFSETFROM:-0700
TZOFFSETTO:-0800
TZNAME:PST
DTSTART:20231105T090000
END:STANDARD
BEGIN:DAYLIGHT
TZOFFSETFROM:-0800
TZOFFSETTO:-0700
TZNAME:PDT
DTSTART:20240310T100000
END:DAYLIGHT
BEGIN:STANDARD
TZOFFSETFROM:-0700
TZOFFSETTO:-0800
TZNAME:PST
DTSTART:20241103T090000
END:STANDARD
BEGIN:DAYLIGHT
TZOFFSETFROM:-0800
TZOFFSETTO:-0700
TZNAME:PDT
DTSTART:20250309T100000
END:DAYLIGHT
BEGIN:STANDARD
TZOFFSETFROM:-0700
TZOFFSETTO:-0800
TZNAME:PST
DTSTART:20251102T090000
END:STANDARD
BEGIN:DAYLIGHT
TZOFFSETFROM:-0800
TZOFFSETTO:-0700
TZNAME:PDT
DTSTART:20260308T100000
END:DAYLIGHT
BEGIN:STANDARD
TZOFFSETFROM:-0700
TZOFFSETTO:-0800
TZNAME:PST
DTSTART:20261101T090000
END:STANDARD
BEGIN:DAYLIGHT
TZOFFSETFROM:-0800
TZOFFSETTO:-0700
TZNAME:PDT
DTSTART:20270314T100000
END:DAYLIGHT
BEGIN:STANDARD
TZOFFSETFROM:-0700
TZOFFSETTO:-0800
TZNAME:PST
DTSTART:20271107T090000
END:STANDARD
END:VTIMEZONE
BEGIN:VEVENT
DTSTART;VALUE=DATE:20260410
DTEND;VALUE=DATE:20260411
DTSTAMP:20260419T221204
CREATED:20250408T172241Z
LAST-MODIFIED:20250408T172241Z
UID:10005316-1775779200-1775865599@kelvernceltic.ca
SUMMARY:Bursary Application Deadline April 30
DESCRIPTION:All applicants Must: \n\nHave an affiliation or a family affiliation with the Kelvern Celtic Society.\nPresently be enrolled in a secondary school setting and graduating in the year of application.\nBe an active community volunteer during secondary school years.\nHave an academic average suitable for acceptance into a post graduate institution or technical school.\nThe funds are earmarked for candidates who will be attending a public university or college.  Under the terms and conditions of the Canada Revenue Agency\, the monies which are administered on our behalf by the Central Okanagan Foundation can only be sent to public institutions with charitable status.\n\nLink to application form here: \nKelvern Post Secondary Bursary
URL:https://kelvernceltic.ca/event/bursary-application-deadline-one-week-away-2-2/2026-04-10/
LOCATION:on line\, your computer or tablet
ATTACH;FMTTYPE=image/jpeg:https://kelvernceltic.ca/wp-content/uploads/2015/08/grad.jpg
ORGANIZER;CN="Kelvern Celtic Society":MAILTO:info@kelvernceltic.ca
END:VEVENT
BEGIN:VEVENT
DTSTART;TZID=America/Vancouver:20251025T130000
DTEND;TZID=America/Vancouver:20251025T150000
DTSTAMP:20260419T221204
CREATED:20191003T134620Z
LAST-MODIFIED:20250827T010333Z
UID:10004153-1761397200-1761404400@kelvernceltic.ca
SUMMARY:Kelvern Celtic Society AGM
DESCRIPTION:The Kelvern Annual General Meeting for 2025\nOct 25\, 2025 – Save the date\, more info to come\nAll groups please have a representative either attend in person or on-line and be prepared with a short report about your groups activities for the last year and plans for upcoming year.  It is not necessary for you president\, pipe major\, manager or secretary to represent your group – any member will do! \nLocation: \nPaul Munro’s home \n  \nOn-Line: \nKelvern Celtic Society AGM \nAgenda:\n\nReading and approval of previous years minutes\n\nReports from member groups\, introduction of new members\n\nElection of officers \nUpdate on insurance program\nFinancial Statements \nReport on our youth bursary program\nOther business\n\nExecutive positions are: \n\nPresident\, Mary Thurber reluctantly accepted the position again hoping to be replaced before 2025 as she is already webmaster.\nVice President\nPast President\, currently Paul Munro remains same.\nSecretary Paul Munro  (term ends 20245).  \nTreasurer Derek Hall\nDirectors at Large \nGreg Davidson  (term ends 2026)\nKaren Campbell (term ends 2025)\n\n  \n 
URL:https://kelvernceltic.ca/event/kelvern-celtic-society-agm/
LOCATION:on line\, your computer or tablet
CATEGORIES:meeting
ATTACH;FMTTYPE=image/jpeg:https://kelvernceltic.ca/wp-content/uploads/2015/08/kelvern-jpg.jpg
ORGANIZER;CN="Kelvern Celtic Society":MAILTO:info@kelvernceltic.ca
END:VEVENT
BEGIN:VEVENT
DTSTART;VALUE=DATE:20250411
DTEND;VALUE=DATE:20250412
DTSTAMP:20260419T221204
CREATED:20250408T172241Z
LAST-MODIFIED:20250408T172241Z
UID:10005189-1744329600-1744415999@kelvernceltic.ca
SUMMARY:Bursary Application Deadline April 30
DESCRIPTION:All applicants Must: \n\nHave an affiliation or a family affiliation with the Kelvern Celtic Society.\nPresently be enrolled in a secondary school setting and graduating in the year of application.\nBe an active community volunteer during secondary school years.\nHave an academic average suitable for acceptance into a post graduate institution or technical school.\nThe funds are earmarked for candidates who will be attending a public university or college.  Under the terms and conditions of the Canada Revenue Agency\, the monies which are administered on our behalf by the Central Okanagan Foundation can only be sent to public institutions with charitable status.\n\nLink to application form here: \nKelvern Post Secondary Bursary
URL:https://kelvernceltic.ca/event/bursary-application-deadline-one-week-away-2-2/2025-04-11/
LOCATION:on line\, your computer or tablet
ATTACH;FMTTYPE=image/jpeg:https://kelvernceltic.ca/wp-content/uploads/2015/08/grad.jpg
ORGANIZER;CN="Kelvern Celtic Society":MAILTO:info@kelvernceltic.ca
END:VEVENT
BEGIN:VEVENT
DTSTART;VALUE=DATE:20250304
DTEND;VALUE=DATE:20250428
DTSTAMP:20260419T221204
CREATED:20210323T174609Z
LAST-MODIFIED:20230419T182907Z
UID:10004255-1741046400-1745794799@kelvernceltic.ca
SUMMARY:Bursary Applications being accepted
DESCRIPTION:Kelvern sponsors a bursary for students graduating from High School.\nNow accepting applications.  Applicants can be members\, children or grandchildren of Kelvern members.\nApplications will be accepted from March 1st to  April 25th in the graduating year of the candidate.    The successful candidate’s award will be paid directly to the approved\, post secondary institution of their choice\, by the Central Okanagan Foundation. \nAll applicants Must: \n\nHave an affiliation or a family affiliation with the Kelvern Celtic Society.\nPresently be enrolled in a secondary school setting and graduating in the year of application.\nBe an active community volunteer during secondary school years.\nHave an academic average suitable for acceptance into a post graduate institution or technical school.\nThe funds are earmarked for candidates who will be attending a public university or college.  Under the terms and conditions of the Canada Revenue Agency\, the monies which are administered on our behalf by the Central Okanagan Foundation can only be sent to public institutions with charitable status.
URL:https://kelvernceltic.ca/event/2021-bursary-applications-being-accepted/2025-03-04/
LOCATION:on line\, your computer or tablet
ATTACH;FMTTYPE=image/jpeg:https://kelvernceltic.ca/wp-content/uploads/2020/02/bursary.jpg
ORGANIZER;CN="Kelvern Celtic Society":MAILTO:info@kelvernceltic.ca
END:VEVENT
BEGIN:VEVENT
DTSTART;VALUE=DATE:20240410
DTEND;VALUE=DATE:20240411
DTSTAMP:20260419T221204
CREATED:20240315T182732Z
LAST-MODIFIED:20240315T182732Z
UID:10004261-1712707200-1712793599@kelvernceltic.ca
SUMMARY:Bursary Application Deadline April 30
DESCRIPTION:All applicants Must: \n\nHave an affiliation or a family affiliation with the Kelvern Celtic Society.\nPresently be enrolled in a secondary school setting and graduating in the year of application.\nBe an active community volunteer during secondary school years.\nHave an academic average suitable for acceptance into a post graduate institution or technical school.\nThe funds are earmarked for candidates who will be attending a public university or college.  Under the terms and conditions of the Canada Revenue Agency\, the monies which are administered on our behalf by the Central Okanagan Foundation can only be sent to public institutions with charitable status.\n\nLink to application form here: \nKelvern Post Secondary Bursary
URL:https://kelvernceltic.ca/event/bursary-application-deadline-one-week-away-2/
LOCATION:on line\, your computer or tablet
ATTACH;FMTTYPE=image/jpeg:https://kelvernceltic.ca/wp-content/uploads/2015/08/grad.jpg
ORGANIZER;CN="Kelvern Celtic Society":MAILTO:info@kelvernceltic.ca
END:VEVENT
BEGIN:VEVENT
DTSTART;VALUE=DATE:20240305
DTEND;VALUE=DATE:20240429
DTSTAMP:20260419T221204
CREATED:20210323T174609Z
LAST-MODIFIED:20230419T182907Z
UID:10004254-1709596800-1714345199@kelvernceltic.ca
SUMMARY:Bursary Applications being accepted
DESCRIPTION:Kelvern sponsors a bursary for students graduating from High School.\nNow accepting applications.  Applicants can be members\, children or grandchildren of Kelvern members.\nApplications will be accepted from March 1st to  April 25th in the graduating year of the candidate.    The successful candidate’s award will be paid directly to the approved\, post secondary institution of their choice\, by the Central Okanagan Foundation. \nAll applicants Must: \n\nHave an affiliation or a family affiliation with the Kelvern Celtic Society.\nPresently be enrolled in a secondary school setting and graduating in the year of application.\nBe an active community volunteer during secondary school years.\nHave an academic average suitable for acceptance into a post graduate institution or technical school.\nThe funds are earmarked for candidates who will be attending a public university or college.  Under the terms and conditions of the Canada Revenue Agency\, the monies which are administered on our behalf by the Central Okanagan Foundation can only be sent to public institutions with charitable status.
URL:https://kelvernceltic.ca/event/2021-bursary-applications-being-accepted/2024-03-05/
LOCATION:on line\, your computer or tablet
ATTACH;FMTTYPE=image/jpeg:https://kelvernceltic.ca/wp-content/uploads/2020/02/bursary.jpg
ORGANIZER;CN="Kelvern Celtic Society":MAILTO:info@kelvernceltic.ca
END:VEVENT
BEGIN:VEVENT
DTSTART;VALUE=DATE:20230419
DTEND;VALUE=DATE:20230420
DTSTAMP:20260419T221204
CREATED:20210323T174802Z
LAST-MODIFIED:20240315T182849Z
UID:10004260-1681862400-1681948799@kelvernceltic.ca
SUMMARY:Bursary Application Deadline April 30
DESCRIPTION:All applicants Must: \n\nHave an affiliation or a family affiliation with the Kelvern Celtic Society.\nPresently be enrolled in a secondary school setting and graduating in the year of application.\nBe an active community volunteer during secondary school years.\nHave an academic average suitable for acceptance into a post graduate institution or technical school.\nThe funds are earmarked for candidates who will be attending a public university or college.  Under the terms and conditions of the Canada Revenue Agency\, the monies which are administered on our behalf by the Central Okanagan Foundation can only be sent to public institutions with charitable status.\n\nLink to application form here: \nKelvern Post Secondary Bursary
URL:https://kelvernceltic.ca/event/bursary-application-deadline-one-week-away/2023-04-19/
LOCATION:on line\, your computer or tablet
ATTACH;FMTTYPE=image/jpeg:https://kelvernceltic.ca/wp-content/uploads/2015/08/grad.jpg
ORGANIZER;CN="Kelvern Celtic Society":MAILTO:info@kelvernceltic.ca
END:VEVENT
BEGIN:VEVENT
DTSTART;VALUE=DATE:20230307
DTEND;VALUE=DATE:20230501
DTSTAMP:20260419T221204
CREATED:20210323T174609Z
LAST-MODIFIED:20230419T182907Z
UID:10004253-1678147200-1682895599@kelvernceltic.ca
SUMMARY:Bursary Applications being accepted
DESCRIPTION:Kelvern sponsors a bursary for students graduating from High School.\nNow accepting applications.  Applicants can be members\, children or grandchildren of Kelvern members.\nApplications will be accepted from March 1st to  April 25th in the graduating year of the candidate.    The successful candidate’s award will be paid directly to the approved\, post secondary institution of their choice\, by the Central Okanagan Foundation. \nAll applicants Must: \n\nHave an affiliation or a family affiliation with the Kelvern Celtic Society.\nPresently be enrolled in a secondary school setting and graduating in the year of application.\nBe an active community volunteer during secondary school years.\nHave an academic average suitable for acceptance into a post graduate institution or technical school.\nThe funds are earmarked for candidates who will be attending a public university or college.  Under the terms and conditions of the Canada Revenue Agency\, the monies which are administered on our behalf by the Central Okanagan Foundation can only be sent to public institutions with charitable status.
URL:https://kelvernceltic.ca/event/2021-bursary-applications-being-accepted/2023-03-07/
LOCATION:on line\, your computer or tablet
ATTACH;FMTTYPE=image/jpeg:https://kelvernceltic.ca/wp-content/uploads/2020/02/bursary.jpg
ORGANIZER;CN="Kelvern Celtic Society":MAILTO:info@kelvernceltic.ca
END:VEVENT
BEGIN:VEVENT
DTSTART;VALUE=DATE:20220420
DTEND;VALUE=DATE:20220421
DTSTAMP:20260419T221204
CREATED:20210323T174802Z
LAST-MODIFIED:20240315T182849Z
UID:10004259-1650412800-1650499199@kelvernceltic.ca
SUMMARY:Bursary Application Deadline April 30
DESCRIPTION:All applicants Must: \n\nHave an affiliation or a family affiliation with the Kelvern Celtic Society.\nPresently be enrolled in a secondary school setting and graduating in the year of application.\nBe an active community volunteer during secondary school years.\nHave an academic average suitable for acceptance into a post graduate institution or technical school.\nThe funds are earmarked for candidates who will be attending a public university or college.  Under the terms and conditions of the Canada Revenue Agency\, the monies which are administered on our behalf by the Central Okanagan Foundation can only be sent to public institutions with charitable status.\n\nLink to application form here: \nKelvern Post Secondary Bursary
URL:https://kelvernceltic.ca/event/bursary-application-deadline-one-week-away/2022-04-20/
LOCATION:on line\, your computer or tablet
ATTACH;FMTTYPE=image/jpeg:https://kelvernceltic.ca/wp-content/uploads/2015/08/grad.jpg
ORGANIZER;CN="Kelvern Celtic Society":MAILTO:info@kelvernceltic.ca
END:VEVENT
BEGIN:VEVENT
DTSTART;VALUE=DATE:20220301
DTEND;VALUE=DATE:20220425
DTSTAMP:20260419T221204
CREATED:20210323T174609Z
LAST-MODIFIED:20230419T182907Z
UID:10004159-1646092800-1650841199@kelvernceltic.ca
SUMMARY:Bursary Applications being accepted
DESCRIPTION:Kelvern sponsors a bursary for students graduating from High School.\nNow accepting applications.  Applicants can be members\, children or grandchildren of Kelvern members.\nApplications will be accepted from March 1st to  April 25th in the graduating year of the candidate.    The successful candidate’s award will be paid directly to the approved\, post secondary institution of their choice\, by the Central Okanagan Foundation. \nAll applicants Must: \n\nHave an affiliation or a family affiliation with the Kelvern Celtic Society.\nPresently be enrolled in a secondary school setting and graduating in the year of application.\nBe an active community volunteer during secondary school years.\nHave an academic average suitable for acceptance into a post graduate institution or technical school.\nThe funds are earmarked for candidates who will be attending a public university or college.  Under the terms and conditions of the Canada Revenue Agency\, the monies which are administered on our behalf by the Central Okanagan Foundation can only be sent to public institutions with charitable status.
URL:https://kelvernceltic.ca/event/2021-bursary-applications-being-accepted/2022-03-01/
LOCATION:on line\, your computer or tablet
ATTACH;FMTTYPE=image/jpeg:https://kelvernceltic.ca/wp-content/uploads/2020/02/bursary.jpg
ORGANIZER;CN="Kelvern Celtic Society":MAILTO:info@kelvernceltic.ca
END:VEVENT
END:VCALENDAR