BEGIN:VCALENDAR
VERSION:2.0
PRODID:-//Kelvern Celtic Society - ECPv6.15.20//NONSGML v1.0//EN
CALSCALE:GREGORIAN
METHOD:PUBLISH
X-WR-CALNAME:Kelvern Celtic Society
X-ORIGINAL-URL:https://kelvernceltic.ca
X-WR-CALDESC:Events for Kelvern Celtic Society
REFRESH-INTERVAL;VALUE=DURATION:PT1H
X-Robots-Tag:noindex
X-PUBLISHED-TTL:PT1H
BEGIN:VTIMEZONE
TZID:America/Vancouver
BEGIN:DAYLIGHT
TZOFFSETFROM:-0800
TZOFFSETTO:-0700
TZNAME:PDT
DTSTART:20250309T100000
END:DAYLIGHT
BEGIN:STANDARD
TZOFFSETFROM:-0700
TZOFFSETTO:-0800
TZNAME:PST
DTSTART:20251102T090000
END:STANDARD
BEGIN:DAYLIGHT
TZOFFSETFROM:-0800
TZOFFSETTO:-0700
TZNAME:PDT
DTSTART:20260308T100000
END:DAYLIGHT
BEGIN:STANDARD
TZOFFSETFROM:-0700
TZOFFSETTO:-0800
TZNAME:PST
DTSTART:20261101T090000
END:STANDARD
BEGIN:DAYLIGHT
TZOFFSETFROM:-0800
TZOFFSETTO:-0700
TZNAME:PDT
DTSTART:20270314T100000
END:DAYLIGHT
BEGIN:STANDARD
TZOFFSETFROM:-0700
TZOFFSETTO:-0800
TZNAME:PST
DTSTART:20271107T090000
END:STANDARD
BEGIN:DAYLIGHT
TZOFFSETFROM:-0800
TZOFFSETTO:-0700
TZNAME:PDT
DTSTART:20280312T100000
END:DAYLIGHT
BEGIN:STANDARD
TZOFFSETFROM:-0700
TZOFFSETTO:-0800
TZNAME:PST
DTSTART:20281105T090000
END:STANDARD
BEGIN:DAYLIGHT
TZOFFSETFROM:-0800
TZOFFSETTO:-0700
TZNAME:PDT
DTSTART:20290311T100000
END:DAYLIGHT
BEGIN:STANDARD
TZOFFSETFROM:-0700
TZOFFSETTO:-0800
TZNAME:PST
DTSTART:20291104T090000
END:STANDARD
END:VTIMEZONE
BEGIN:VEVENT
DTSTART;VALUE=DATE:20261130
DTEND;VALUE=DATE:20261201
DTSTAMP:20260420T054216
CREATED:20200923T012952Z
LAST-MODIFIED:20221021T003643Z
UID:10004207-1795996800-1796083199@kelvernceltic.ca
SUMMARY:St. Andrews Day
DESCRIPTION:St Andrew has been celebrated in Scotland for over a thousand years\, with feasts being held in his honour as far back as the year 1000 AD. However\, it wasn’t until 1320\, when Scotland’s independence was declared with the signing of The Declaration of Arbroath\, that he officially became Scotland’s patron saint. Since then St Andrew has become tied up in so much of Scotland. The flag of Scotland\, the St Andrew’s Cross\, was chosen in honour of him. Also\, the ancient town of St Andrews was named due to its claim of being the final resting place of St Andrew. \nIn addition to Scotland\, Andrew is the patron saint of Barbados\, Cyprus\, Greece\, Romania\, Russia and Ukraine. Saint Andrew was an apostle who not only introduced his brother\, Peter\, to Jesus\, but also helped Scottish King Oengus I win a crucial battle against Northumberland\, securing Scotland’s safety. Saint Andrew died a martyr and was crucified on a saltire\, or an “X” shaped cross\, in Greece in 60 AD.  \nThere is a lot of folklore associated with St Andrew’s Day\, particularly around young women\, who hope to marry. At midnight\, as November 29 becomes November 30\, young woman prayed to be shown signs about their future husbands. They peeled an apple in such a way that the peel remained in a single piece and threw this over their shoulders. The shape that the peel formed on the ground indicated the first letter of their future husbands’ names. They also dropped molten lead or candle wax into a bucket of water. The shape that it formed indicated the profession of the men they would marry. \nSt Andrew’s Day is a public holiday in Scotland\, where it is a day off for the general population\, and schools and most businesses are closed.
URL:https://kelvernceltic.ca/event/st-andrews-day/2026-11-30/
CATEGORIES:Holiday
ATTACH;FMTTYPE=image/jpeg:https://kelvernceltic.ca/wp-content/uploads/2015/10/stAndrewsCross.jpg
END:VEVENT
BEGIN:VEVENT
DTSTART;VALUE=DATE:20261231
DTEND;VALUE=DATE:20270101
DTSTAMP:20260420T054216
CREATED:20181119T164642Z
LAST-MODIFIED:20221021T003817Z
UID:10004217-1798675200-1798761599@kelvernceltic.ca
SUMMARY:Happy Hogmanay
DESCRIPTION:Hogmanay is what the Scots call New Year’s Eve – 31 December – the big night that marks the arrival of the new year. \nTraditions associated with Hogmanay \nFirst-footing – to ensure good luck\, the first foot to arrive in your house on New Year’s Day should be a dark-haired male. The first-footer should also bring symbolic gifts\, such as coal\, shortbread\, salt\, black buns or whisky\, to ensure good fortune for the year ahead.\nClean the house – to begin the New Year with an unclean house is considered bad luck.\nClear your debts – an old superstition states that you should try to clear all your debts before the stroke of midnight.\nSing Robert Burns’ Auld Lang Syne after midnight – this custom is a staple of Hogmanay parties across the country (and many countries around the world too!). After the bells at midnight\, join hands in a circle and have a rousing rendition of Auld Lang Syne to start the New Year.
URL:https://kelvernceltic.ca/event/happy-hogmanay/2026-12-31/
CATEGORIES:Holiday
ATTACH;FMTTYPE=image/jpeg:https://kelvernceltic.ca/wp-content/uploads/2018/11/hOGMANAY.jpg
END:VEVENT
BEGIN:VEVENT
DTSTART;VALUE=DATE:20270125
DTEND;VALUE=DATE:20270126
DTSTAMP:20260420T054216
CREATED:20181119T165524Z
LAST-MODIFIED:20221021T003508Z
UID:10004203-1800835200-1800921599@kelvernceltic.ca
SUMMARY:Robbie Burns Day
DESCRIPTION:Robert Burns (25 January 1759 – 21 July 1796)\, also known as Rabbie Burns\, the Bard of Ayrshire\, was a Scottish poet and lyricist. He is widely regarded as the national poet of Scotland and is celebrated worldwide. \nThe day also celebrates Burns’ contribution to Scottish culture. Burns’ best known work is “Auld Lang Syne”. Other poems of note are \nA Man’s a Man for A’ That\nAe fond kiss\nAuld Lang Syne\nTo a Mouse\nA Red\, Red Rose.
URL:https://kelvernceltic.ca/event/robbie-burns-day/2027-01-25/
CATEGORIES:Holiday
ATTACH;FMTTYPE=image/jpeg:https://kelvernceltic.ca/wp-content/uploads/2015/12/Robbie-Burns-day.jpg
END:VEVENT
BEGIN:VEVENT
DTSTART;VALUE=DATE:20270406
DTEND;VALUE=DATE:20270407
DTSTAMP:20260420T054216
CREATED:20181119T165047Z
LAST-MODIFIED:20221021T004123Z
UID:10004221-1806969600-1807055999@kelvernceltic.ca
SUMMARY:Tartan Day
DESCRIPTION:Tartan Day is a celebration of Scottish heritage on April 6\, the date on which the Declaration of Arbroath was signed in 1320. An ad hoc event was held in New York City in 1982\, but the current format originated in Canada in the mid-1980s. It spread to other communities of the Scottish diaspora in the 1990s. \nCanada estimates 15.1% or 4.7 million Canadians claim Scottish descent.[3] As stated above\, Tartan Day in Canada originated with a proposal from the Federation of Scottish Clans in Nova Scotia and has since been proclaimed by all the provincial legislatures. In 2007 Peter Stoffer introduced a Private member’s bill for “An Act respecting a Tartan Day”. Progress of the bill was interrupted by the 2008 election\, but it has been resubmitted.[4] \nAn annual ‘Gathering of the Clans’ will take place each April 6 or on the Sunday nearest to it on Parliament Hill in Ottawa at noon with pipes\, drums\, and dancing hosted by the Sons of Scotland Pipe Band\, Canada’s oldest civilian pipe band.[5] The 2011 celebrations marked the first time that Tartan Day has been celebrated with Canada’s official tartan having been named: the Maple Leaf.
URL:https://kelvernceltic.ca/event/tartan-day/2027-04-06/
ATTACH;FMTTYPE=image/jpeg:https://kelvernceltic.ca/wp-content/uploads/2018/11/Tartan-day-1.jpg
END:VEVENT
BEGIN:VEVENT
DTSTART;VALUE=DATE:20280406
DTEND;VALUE=DATE:20280407
DTSTAMP:20260420T054216
CREATED:20181119T165047Z
LAST-MODIFIED:20221021T004123Z
UID:10005169-1838592000-1838678399@kelvernceltic.ca
SUMMARY:Tartan Day
DESCRIPTION:Tartan Day is a celebration of Scottish heritage on April 6\, the date on which the Declaration of Arbroath was signed in 1320. An ad hoc event was held in New York City in 1982\, but the current format originated in Canada in the mid-1980s. It spread to other communities of the Scottish diaspora in the 1990s. \nCanada estimates 15.1% or 4.7 million Canadians claim Scottish descent.[3] As stated above\, Tartan Day in Canada originated with a proposal from the Federation of Scottish Clans in Nova Scotia and has since been proclaimed by all the provincial legislatures. In 2007 Peter Stoffer introduced a Private member’s bill for “An Act respecting a Tartan Day”. Progress of the bill was interrupted by the 2008 election\, but it has been resubmitted.[4] \nAn annual ‘Gathering of the Clans’ will take place each April 6 or on the Sunday nearest to it on Parliament Hill in Ottawa at noon with pipes\, drums\, and dancing hosted by the Sons of Scotland Pipe Band\, Canada’s oldest civilian pipe band.[5] The 2011 celebrations marked the first time that Tartan Day has been celebrated with Canada’s official tartan having been named: the Maple Leaf.
URL:https://kelvernceltic.ca/event/tartan-day/2028-04-06/
ATTACH;FMTTYPE=image/jpeg:https://kelvernceltic.ca/wp-content/uploads/2018/11/Tartan-day-1.jpg
END:VEVENT
END:VCALENDAR