BEGIN:VCALENDAR
VERSION:2.0
PRODID:-//Kelvern Celtic Society - ECPv6.15.20//NONSGML v1.0//EN
CALSCALE:GREGORIAN
METHOD:PUBLISH
X-WR-CALNAME:Kelvern Celtic Society
X-ORIGINAL-URL:https://kelvernceltic.ca
X-WR-CALDESC:Events for Kelvern Celtic Society
REFRESH-INTERVAL;VALUE=DURATION:PT1H
X-Robots-Tag:noindex
X-PUBLISHED-TTL:PT1H
BEGIN:VTIMEZONE
TZID:America/Vancouver
BEGIN:DAYLIGHT
TZOFFSETFROM:-0800
TZOFFSETTO:-0700
TZNAME:PDT
DTSTART:20250309T100000
END:DAYLIGHT
BEGIN:STANDARD
TZOFFSETFROM:-0700
TZOFFSETTO:-0800
TZNAME:PST
DTSTART:20251102T090000
END:STANDARD
BEGIN:DAYLIGHT
TZOFFSETFROM:-0800
TZOFFSETTO:-0700
TZNAME:PDT
DTSTART:20260308T100000
END:DAYLIGHT
BEGIN:STANDARD
TZOFFSETFROM:-0700
TZOFFSETTO:-0800
TZNAME:PST
DTSTART:20261101T090000
END:STANDARD
BEGIN:DAYLIGHT
TZOFFSETFROM:-0800
TZOFFSETTO:-0700
TZNAME:PDT
DTSTART:20270314T100000
END:DAYLIGHT
BEGIN:STANDARD
TZOFFSETFROM:-0700
TZOFFSETTO:-0800
TZNAME:PST
DTSTART:20271107T090000
END:STANDARD
END:VTIMEZONE
BEGIN:VEVENT
DTSTART;TZID=America/Vancouver:20260915T174500
DTEND;TZID=America/Vancouver:20260915T184500
DTSTAMP:20260420T102156
CREATED:20260114T070216Z
LAST-MODIFIED:20260119T002346Z
UID:10005397-1789494300-1789497900@kelvernceltic.ca
SUMMARY:Kelowna Scottish Country Dancers - Foundation Class
DESCRIPTION:Kelowna Scottish Country Dancers will dance to the end of April\, 2026.  Our General\nClass runs from 7pm to 9pm every Tuesday.  Our Foundation Class runs\nfrom 5:45 pm until 6:45 pm every Tuesday.
URL:https://kelvernceltic.ca/event/kelowna-scottish-country-dancers-foundation-class/2026-09-15/
LOCATION:Central Okanagan United Church\, 721 Bernard Ave\, Kelowna\, British Columbia\, Canada
CATEGORIES:Scottish Country Dance,Social
ATTACH;FMTTYPE=image/jpeg:https://kelvernceltic.ca/wp-content/uploads/2026/01/Kelowna-Scottish-Country-Dancers.jpg
END:VEVENT
BEGIN:VEVENT
DTSTART;TZID=America/Vancouver:20260915T190000
DTEND;TZID=America/Vancouver:20260915T210000
DTSTAMP:20260420T102156
CREATED:20260118T214326Z
LAST-MODIFIED:20260119T002459Z
UID:10005464-1789498800-1789506000@kelvernceltic.ca
SUMMARY:Kelowna Scottish Country Dancers - General Class
DESCRIPTION:Kelowna Scottish Dancers will dance to the end of April\, 2026.  Our General\nClass runs from 7pm to 9pm every Tuesday.  Our Foundation Class runs\nfrom 5:45 pm until 6:45 pm every Tuesday.ry
URL:https://kelvernceltic.ca/event/kelowna-scottish-country-dancers-general-class/2026-09-15/
LOCATION:Central Okanagan United Church\, 721 Bernard Ave\, Kelowna\, British Columbia\, Canada
CATEGORIES:Class,practice,Scottish Country Dance
ATTACH;FMTTYPE=image/jpeg:https://kelvernceltic.ca/wp-content/uploads/2026/01/Kelowna-Scottish-Country-Dancers.jpg
END:VEVENT
BEGIN:VEVENT
DTSTART;TZID=America/Vancouver:20260922T174500
DTEND;TZID=America/Vancouver:20260922T184500
DTSTAMP:20260420T102156
CREATED:20260114T070216Z
LAST-MODIFIED:20260119T002346Z
UID:10005398-1790099100-1790102700@kelvernceltic.ca
SUMMARY:Kelowna Scottish Country Dancers - Foundation Class
DESCRIPTION:Kelowna Scottish Country Dancers will dance to the end of April\, 2026.  Our General\nClass runs from 7pm to 9pm every Tuesday.  Our Foundation Class runs\nfrom 5:45 pm until 6:45 pm every Tuesday.
URL:https://kelvernceltic.ca/event/kelowna-scottish-country-dancers-foundation-class/2026-09-22/
LOCATION:Central Okanagan United Church\, 721 Bernard Ave\, Kelowna\, British Columbia\, Canada
CATEGORIES:Scottish Country Dance,Social
ATTACH;FMTTYPE=image/jpeg:https://kelvernceltic.ca/wp-content/uploads/2026/01/Kelowna-Scottish-Country-Dancers.jpg
END:VEVENT
BEGIN:VEVENT
DTSTART;TZID=America/Vancouver:20260922T190000
DTEND;TZID=America/Vancouver:20260922T210000
DTSTAMP:20260420T102156
CREATED:20260118T214326Z
LAST-MODIFIED:20260119T002459Z
UID:10005465-1790103600-1790110800@kelvernceltic.ca
SUMMARY:Kelowna Scottish Country Dancers - General Class
DESCRIPTION:Kelowna Scottish Dancers will dance to the end of April\, 2026.  Our General\nClass runs from 7pm to 9pm every Tuesday.  Our Foundation Class runs\nfrom 5:45 pm until 6:45 pm every Tuesday.ry
URL:https://kelvernceltic.ca/event/kelowna-scottish-country-dancers-general-class/2026-09-22/
LOCATION:Central Okanagan United Church\, 721 Bernard Ave\, Kelowna\, British Columbia\, Canada
CATEGORIES:Class,practice,Scottish Country Dance
ATTACH;FMTTYPE=image/jpeg:https://kelvernceltic.ca/wp-content/uploads/2026/01/Kelowna-Scottish-Country-Dancers.jpg
END:VEVENT
BEGIN:VEVENT
DTSTART;TZID=America/Vancouver:20260929T174500
DTEND;TZID=America/Vancouver:20260929T184500
DTSTAMP:20260420T102156
CREATED:20260114T070216Z
LAST-MODIFIED:20260119T002346Z
UID:10005399-1790703900-1790707500@kelvernceltic.ca
SUMMARY:Kelowna Scottish Country Dancers - Foundation Class
DESCRIPTION:Kelowna Scottish Country Dancers will dance to the end of April\, 2026.  Our General\nClass runs from 7pm to 9pm every Tuesday.  Our Foundation Class runs\nfrom 5:45 pm until 6:45 pm every Tuesday.
URL:https://kelvernceltic.ca/event/kelowna-scottish-country-dancers-foundation-class/2026-09-29/
LOCATION:Central Okanagan United Church\, 721 Bernard Ave\, Kelowna\, British Columbia\, Canada
CATEGORIES:Scottish Country Dance,Social
ATTACH;FMTTYPE=image/jpeg:https://kelvernceltic.ca/wp-content/uploads/2026/01/Kelowna-Scottish-Country-Dancers.jpg
END:VEVENT
BEGIN:VEVENT
DTSTART;TZID=America/Vancouver:20260929T190000
DTEND;TZID=America/Vancouver:20260929T210000
DTSTAMP:20260420T102156
CREATED:20260118T214326Z
LAST-MODIFIED:20260119T002459Z
UID:10005466-1790708400-1790715600@kelvernceltic.ca
SUMMARY:Kelowna Scottish Country Dancers - General Class
DESCRIPTION:Kelowna Scottish Dancers will dance to the end of April\, 2026.  Our General\nClass runs from 7pm to 9pm every Tuesday.  Our Foundation Class runs\nfrom 5:45 pm until 6:45 pm every Tuesday.ry
URL:https://kelvernceltic.ca/event/kelowna-scottish-country-dancers-general-class/2026-09-29/
LOCATION:Central Okanagan United Church\, 721 Bernard Ave\, Kelowna\, British Columbia\, Canada
CATEGORIES:Class,practice,Scottish Country Dance
ATTACH;FMTTYPE=image/jpeg:https://kelvernceltic.ca/wp-content/uploads/2026/01/Kelowna-Scottish-Country-Dancers.jpg
END:VEVENT
BEGIN:VEVENT
DTSTART;TZID=America/Vancouver:20261006T174500
DTEND;TZID=America/Vancouver:20261006T184500
DTSTAMP:20260420T102156
CREATED:20260114T070216Z
LAST-MODIFIED:20260119T002346Z
UID:10005400-1791308700-1791312300@kelvernceltic.ca
SUMMARY:Kelowna Scottish Country Dancers - Foundation Class
DESCRIPTION:Kelowna Scottish Country Dancers will dance to the end of April\, 2026.  Our General\nClass runs from 7pm to 9pm every Tuesday.  Our Foundation Class runs\nfrom 5:45 pm until 6:45 pm every Tuesday.
URL:https://kelvernceltic.ca/event/kelowna-scottish-country-dancers-foundation-class/2026-10-06/
LOCATION:Central Okanagan United Church\, 721 Bernard Ave\, Kelowna\, British Columbia\, Canada
CATEGORIES:Scottish Country Dance,Social
ATTACH;FMTTYPE=image/jpeg:https://kelvernceltic.ca/wp-content/uploads/2026/01/Kelowna-Scottish-Country-Dancers.jpg
END:VEVENT
BEGIN:VEVENT
DTSTART;TZID=America/Vancouver:20261006T190000
DTEND;TZID=America/Vancouver:20261006T210000
DTSTAMP:20260420T102156
CREATED:20260118T214326Z
LAST-MODIFIED:20260119T002459Z
UID:10005467-1791313200-1791320400@kelvernceltic.ca
SUMMARY:Kelowna Scottish Country Dancers - General Class
DESCRIPTION:Kelowna Scottish Dancers will dance to the end of April\, 2026.  Our General\nClass runs from 7pm to 9pm every Tuesday.  Our Foundation Class runs\nfrom 5:45 pm until 6:45 pm every Tuesday.ry
URL:https://kelvernceltic.ca/event/kelowna-scottish-country-dancers-general-class/2026-10-06/
LOCATION:Central Okanagan United Church\, 721 Bernard Ave\, Kelowna\, British Columbia\, Canada
CATEGORIES:Class,practice,Scottish Country Dance
ATTACH;FMTTYPE=image/jpeg:https://kelvernceltic.ca/wp-content/uploads/2026/01/Kelowna-Scottish-Country-Dancers.jpg
END:VEVENT
BEGIN:VEVENT
DTSTART;TZID=America/Vancouver:20261013T174500
DTEND;TZID=America/Vancouver:20261013T184500
DTSTAMP:20260420T102156
CREATED:20260114T070216Z
LAST-MODIFIED:20260119T002346Z
UID:10005401-1791913500-1791917100@kelvernceltic.ca
SUMMARY:Kelowna Scottish Country Dancers - Foundation Class
DESCRIPTION:Kelowna Scottish Country Dancers will dance to the end of April\, 2026.  Our General\nClass runs from 7pm to 9pm every Tuesday.  Our Foundation Class runs\nfrom 5:45 pm until 6:45 pm every Tuesday.
URL:https://kelvernceltic.ca/event/kelowna-scottish-country-dancers-foundation-class/2026-10-13/
LOCATION:Central Okanagan United Church\, 721 Bernard Ave\, Kelowna\, British Columbia\, Canada
CATEGORIES:Scottish Country Dance,Social
ATTACH;FMTTYPE=image/jpeg:https://kelvernceltic.ca/wp-content/uploads/2026/01/Kelowna-Scottish-Country-Dancers.jpg
END:VEVENT
BEGIN:VEVENT
DTSTART;TZID=America/Vancouver:20261013T190000
DTEND;TZID=America/Vancouver:20261013T210000
DTSTAMP:20260420T102156
CREATED:20260118T214326Z
LAST-MODIFIED:20260119T002459Z
UID:10005468-1791918000-1791925200@kelvernceltic.ca
SUMMARY:Kelowna Scottish Country Dancers - General Class
DESCRIPTION:Kelowna Scottish Dancers will dance to the end of April\, 2026.  Our General\nClass runs from 7pm to 9pm every Tuesday.  Our Foundation Class runs\nfrom 5:45 pm until 6:45 pm every Tuesday.ry
URL:https://kelvernceltic.ca/event/kelowna-scottish-country-dancers-general-class/2026-10-13/
LOCATION:Central Okanagan United Church\, 721 Bernard Ave\, Kelowna\, British Columbia\, Canada
CATEGORIES:Class,practice,Scottish Country Dance
ATTACH;FMTTYPE=image/jpeg:https://kelvernceltic.ca/wp-content/uploads/2026/01/Kelowna-Scottish-Country-Dancers.jpg
END:VEVENT
BEGIN:VEVENT
DTSTART;TZID=America/Vancouver:20261020T174500
DTEND;TZID=America/Vancouver:20261020T184500
DTSTAMP:20260420T102156
CREATED:20260114T070216Z
LAST-MODIFIED:20260119T002346Z
UID:10005402-1792518300-1792521900@kelvernceltic.ca
SUMMARY:Kelowna Scottish Country Dancers - Foundation Class
DESCRIPTION:Kelowna Scottish Country Dancers will dance to the end of April\, 2026.  Our General\nClass runs from 7pm to 9pm every Tuesday.  Our Foundation Class runs\nfrom 5:45 pm until 6:45 pm every Tuesday.
URL:https://kelvernceltic.ca/event/kelowna-scottish-country-dancers-foundation-class/2026-10-20/
LOCATION:Central Okanagan United Church\, 721 Bernard Ave\, Kelowna\, British Columbia\, Canada
CATEGORIES:Scottish Country Dance,Social
ATTACH;FMTTYPE=image/jpeg:https://kelvernceltic.ca/wp-content/uploads/2026/01/Kelowna-Scottish-Country-Dancers.jpg
END:VEVENT
BEGIN:VEVENT
DTSTART;TZID=America/Vancouver:20261020T190000
DTEND;TZID=America/Vancouver:20261020T210000
DTSTAMP:20260420T102156
CREATED:20260118T214326Z
LAST-MODIFIED:20260119T002459Z
UID:10005469-1792522800-1792530000@kelvernceltic.ca
SUMMARY:Kelowna Scottish Country Dancers - General Class
DESCRIPTION:Kelowna Scottish Dancers will dance to the end of April\, 2026.  Our General\nClass runs from 7pm to 9pm every Tuesday.  Our Foundation Class runs\nfrom 5:45 pm until 6:45 pm every Tuesday.ry
URL:https://kelvernceltic.ca/event/kelowna-scottish-country-dancers-general-class/2026-10-20/
LOCATION:Central Okanagan United Church\, 721 Bernard Ave\, Kelowna\, British Columbia\, Canada
CATEGORIES:Class,practice,Scottish Country Dance
ATTACH;FMTTYPE=image/jpeg:https://kelvernceltic.ca/wp-content/uploads/2026/01/Kelowna-Scottish-Country-Dancers.jpg
END:VEVENT
BEGIN:VEVENT
DTSTART;TZID=America/Vancouver:20261027T174500
DTEND;TZID=America/Vancouver:20261027T184500
DTSTAMP:20260420T102156
CREATED:20260114T070216Z
LAST-MODIFIED:20260119T002346Z
UID:10005403-1793123100-1793126700@kelvernceltic.ca
SUMMARY:Kelowna Scottish Country Dancers - Foundation Class
DESCRIPTION:Kelowna Scottish Country Dancers will dance to the end of April\, 2026.  Our General\nClass runs from 7pm to 9pm every Tuesday.  Our Foundation Class runs\nfrom 5:45 pm until 6:45 pm every Tuesday.
URL:https://kelvernceltic.ca/event/kelowna-scottish-country-dancers-foundation-class/2026-10-27/
LOCATION:Central Okanagan United Church\, 721 Bernard Ave\, Kelowna\, British Columbia\, Canada
CATEGORIES:Scottish Country Dance,Social
ATTACH;FMTTYPE=image/jpeg:https://kelvernceltic.ca/wp-content/uploads/2026/01/Kelowna-Scottish-Country-Dancers.jpg
END:VEVENT
BEGIN:VEVENT
DTSTART;TZID=America/Vancouver:20261027T190000
DTEND;TZID=America/Vancouver:20261027T210000
DTSTAMP:20260420T102156
CREATED:20260118T214326Z
LAST-MODIFIED:20260119T002459Z
UID:10005470-1793127600-1793134800@kelvernceltic.ca
SUMMARY:Kelowna Scottish Country Dancers - General Class
DESCRIPTION:Kelowna Scottish Dancers will dance to the end of April\, 2026.  Our General\nClass runs from 7pm to 9pm every Tuesday.  Our Foundation Class runs\nfrom 5:45 pm until 6:45 pm every Tuesday.ry
URL:https://kelvernceltic.ca/event/kelowna-scottish-country-dancers-general-class/2026-10-27/
LOCATION:Central Okanagan United Church\, 721 Bernard Ave\, Kelowna\, British Columbia\, Canada
CATEGORIES:Class,practice,Scottish Country Dance
ATTACH;FMTTYPE=image/jpeg:https://kelvernceltic.ca/wp-content/uploads/2026/01/Kelowna-Scottish-Country-Dancers.jpg
END:VEVENT
BEGIN:VEVENT
DTSTART;TZID=America/Vancouver:20261103T174500
DTEND;TZID=America/Vancouver:20261103T184500
DTSTAMP:20260420T102156
CREATED:20260114T070216Z
LAST-MODIFIED:20260119T002346Z
UID:10005404-1793727900-1793731500@kelvernceltic.ca
SUMMARY:Kelowna Scottish Country Dancers - Foundation Class
DESCRIPTION:Kelowna Scottish Country Dancers will dance to the end of April\, 2026.  Our General\nClass runs from 7pm to 9pm every Tuesday.  Our Foundation Class runs\nfrom 5:45 pm until 6:45 pm every Tuesday.
URL:https://kelvernceltic.ca/event/kelowna-scottish-country-dancers-foundation-class/2026-11-03/
LOCATION:Central Okanagan United Church\, 721 Bernard Ave\, Kelowna\, British Columbia\, Canada
CATEGORIES:Scottish Country Dance,Social
ATTACH;FMTTYPE=image/jpeg:https://kelvernceltic.ca/wp-content/uploads/2026/01/Kelowna-Scottish-Country-Dancers.jpg
END:VEVENT
BEGIN:VEVENT
DTSTART;TZID=America/Vancouver:20261103T190000
DTEND;TZID=America/Vancouver:20261103T210000
DTSTAMP:20260420T102156
CREATED:20260118T214326Z
LAST-MODIFIED:20260119T002459Z
UID:10005471-1793732400-1793739600@kelvernceltic.ca
SUMMARY:Kelowna Scottish Country Dancers - General Class
DESCRIPTION:Kelowna Scottish Dancers will dance to the end of April\, 2026.  Our General\nClass runs from 7pm to 9pm every Tuesday.  Our Foundation Class runs\nfrom 5:45 pm until 6:45 pm every Tuesday.ry
URL:https://kelvernceltic.ca/event/kelowna-scottish-country-dancers-general-class/2026-11-03/
LOCATION:Central Okanagan United Church\, 721 Bernard Ave\, Kelowna\, British Columbia\, Canada
CATEGORIES:Class,practice,Scottish Country Dance
ATTACH;FMTTYPE=image/jpeg:https://kelvernceltic.ca/wp-content/uploads/2026/01/Kelowna-Scottish-Country-Dancers.jpg
END:VEVENT
BEGIN:VEVENT
DTSTART;TZID=America/Vancouver:20261110T174500
DTEND;TZID=America/Vancouver:20261110T184500
DTSTAMP:20260420T102156
CREATED:20260114T070216Z
LAST-MODIFIED:20260119T002346Z
UID:10005405-1794332700-1794336300@kelvernceltic.ca
SUMMARY:Kelowna Scottish Country Dancers - Foundation Class
DESCRIPTION:Kelowna Scottish Country Dancers will dance to the end of April\, 2026.  Our General\nClass runs from 7pm to 9pm every Tuesday.  Our Foundation Class runs\nfrom 5:45 pm until 6:45 pm every Tuesday.
URL:https://kelvernceltic.ca/event/kelowna-scottish-country-dancers-foundation-class/2026-11-10/
LOCATION:Central Okanagan United Church\, 721 Bernard Ave\, Kelowna\, British Columbia\, Canada
CATEGORIES:Scottish Country Dance,Social
ATTACH;FMTTYPE=image/jpeg:https://kelvernceltic.ca/wp-content/uploads/2026/01/Kelowna-Scottish-Country-Dancers.jpg
END:VEVENT
BEGIN:VEVENT
DTSTART;TZID=America/Vancouver:20261110T190000
DTEND;TZID=America/Vancouver:20261110T210000
DTSTAMP:20260420T102156
CREATED:20260118T214326Z
LAST-MODIFIED:20260119T002459Z
UID:10005472-1794337200-1794344400@kelvernceltic.ca
SUMMARY:Kelowna Scottish Country Dancers - General Class
DESCRIPTION:Kelowna Scottish Dancers will dance to the end of April\, 2026.  Our General\nClass runs from 7pm to 9pm every Tuesday.  Our Foundation Class runs\nfrom 5:45 pm until 6:45 pm every Tuesday.ry
URL:https://kelvernceltic.ca/event/kelowna-scottish-country-dancers-general-class/2026-11-10/
LOCATION:Central Okanagan United Church\, 721 Bernard Ave\, Kelowna\, British Columbia\, Canada
CATEGORIES:Class,practice,Scottish Country Dance
ATTACH;FMTTYPE=image/jpeg:https://kelvernceltic.ca/wp-content/uploads/2026/01/Kelowna-Scottish-Country-Dancers.jpg
END:VEVENT
BEGIN:VEVENT
DTSTART;TZID=America/Vancouver:20261117T174500
DTEND;TZID=America/Vancouver:20261117T184500
DTSTAMP:20260420T102156
CREATED:20260114T070216Z
LAST-MODIFIED:20260119T002346Z
UID:10005406-1794937500-1794941100@kelvernceltic.ca
SUMMARY:Kelowna Scottish Country Dancers - Foundation Class
DESCRIPTION:Kelowna Scottish Country Dancers will dance to the end of April\, 2026.  Our General\nClass runs from 7pm to 9pm every Tuesday.  Our Foundation Class runs\nfrom 5:45 pm until 6:45 pm every Tuesday.
URL:https://kelvernceltic.ca/event/kelowna-scottish-country-dancers-foundation-class/2026-11-17/
LOCATION:Central Okanagan United Church\, 721 Bernard Ave\, Kelowna\, British Columbia\, Canada
CATEGORIES:Scottish Country Dance,Social
ATTACH;FMTTYPE=image/jpeg:https://kelvernceltic.ca/wp-content/uploads/2026/01/Kelowna-Scottish-Country-Dancers.jpg
END:VEVENT
BEGIN:VEVENT
DTSTART;TZID=America/Vancouver:20261117T190000
DTEND;TZID=America/Vancouver:20261117T210000
DTSTAMP:20260420T102156
CREATED:20260118T214326Z
LAST-MODIFIED:20260119T002459Z
UID:10005473-1794942000-1794949200@kelvernceltic.ca
SUMMARY:Kelowna Scottish Country Dancers - General Class
DESCRIPTION:Kelowna Scottish Dancers will dance to the end of April\, 2026.  Our General\nClass runs from 7pm to 9pm every Tuesday.  Our Foundation Class runs\nfrom 5:45 pm until 6:45 pm every Tuesday.ry
URL:https://kelvernceltic.ca/event/kelowna-scottish-country-dancers-general-class/2026-11-17/
LOCATION:Central Okanagan United Church\, 721 Bernard Ave\, Kelowna\, British Columbia\, Canada
CATEGORIES:Class,practice,Scottish Country Dance
ATTACH;FMTTYPE=image/jpeg:https://kelvernceltic.ca/wp-content/uploads/2026/01/Kelowna-Scottish-Country-Dancers.jpg
END:VEVENT
BEGIN:VEVENT
DTSTART;TZID=America/Vancouver:20261124T174500
DTEND;TZID=America/Vancouver:20261124T184500
DTSTAMP:20260420T102156
CREATED:20260114T070216Z
LAST-MODIFIED:20260119T002346Z
UID:10005407-1795542300-1795545900@kelvernceltic.ca
SUMMARY:Kelowna Scottish Country Dancers - Foundation Class
DESCRIPTION:Kelowna Scottish Country Dancers will dance to the end of April\, 2026.  Our General\nClass runs from 7pm to 9pm every Tuesday.  Our Foundation Class runs\nfrom 5:45 pm until 6:45 pm every Tuesday.
URL:https://kelvernceltic.ca/event/kelowna-scottish-country-dancers-foundation-class/2026-11-24/
LOCATION:Central Okanagan United Church\, 721 Bernard Ave\, Kelowna\, British Columbia\, Canada
CATEGORIES:Scottish Country Dance,Social
ATTACH;FMTTYPE=image/jpeg:https://kelvernceltic.ca/wp-content/uploads/2026/01/Kelowna-Scottish-Country-Dancers.jpg
END:VEVENT
BEGIN:VEVENT
DTSTART;TZID=America/Vancouver:20261124T190000
DTEND;TZID=America/Vancouver:20261124T210000
DTSTAMP:20260420T102156
CREATED:20260118T214326Z
LAST-MODIFIED:20260119T002459Z
UID:10005474-1795546800-1795554000@kelvernceltic.ca
SUMMARY:Kelowna Scottish Country Dancers - General Class
DESCRIPTION:Kelowna Scottish Dancers will dance to the end of April\, 2026.  Our General\nClass runs from 7pm to 9pm every Tuesday.  Our Foundation Class runs\nfrom 5:45 pm until 6:45 pm every Tuesday.ry
URL:https://kelvernceltic.ca/event/kelowna-scottish-country-dancers-general-class/2026-11-24/
LOCATION:Central Okanagan United Church\, 721 Bernard Ave\, Kelowna\, British Columbia\, Canada
CATEGORIES:Class,practice,Scottish Country Dance
ATTACH;FMTTYPE=image/jpeg:https://kelvernceltic.ca/wp-content/uploads/2026/01/Kelowna-Scottish-Country-Dancers.jpg
END:VEVENT
BEGIN:VEVENT
DTSTART;TZID=America/Vancouver:20261201T174500
DTEND;TZID=America/Vancouver:20261201T184500
DTSTAMP:20260420T102156
CREATED:20260114T070216Z
LAST-MODIFIED:20260119T002346Z
UID:10005408-1796147100-1796150700@kelvernceltic.ca
SUMMARY:Kelowna Scottish Country Dancers - Foundation Class
DESCRIPTION:Kelowna Scottish Country Dancers will dance to the end of April\, 2026.  Our General\nClass runs from 7pm to 9pm every Tuesday.  Our Foundation Class runs\nfrom 5:45 pm until 6:45 pm every Tuesday.
URL:https://kelvernceltic.ca/event/kelowna-scottish-country-dancers-foundation-class/2026-12-01/
LOCATION:Central Okanagan United Church\, 721 Bernard Ave\, Kelowna\, British Columbia\, Canada
CATEGORIES:Scottish Country Dance,Social
ATTACH;FMTTYPE=image/jpeg:https://kelvernceltic.ca/wp-content/uploads/2026/01/Kelowna-Scottish-Country-Dancers.jpg
END:VEVENT
BEGIN:VEVENT
DTSTART;TZID=America/Vancouver:20261201T190000
DTEND;TZID=America/Vancouver:20261201T210000
DTSTAMP:20260420T102156
CREATED:20260118T214326Z
LAST-MODIFIED:20260119T002459Z
UID:10005475-1796151600-1796158800@kelvernceltic.ca
SUMMARY:Kelowna Scottish Country Dancers - General Class
DESCRIPTION:Kelowna Scottish Dancers will dance to the end of April\, 2026.  Our General\nClass runs from 7pm to 9pm every Tuesday.  Our Foundation Class runs\nfrom 5:45 pm until 6:45 pm every Tuesday.ry
URL:https://kelvernceltic.ca/event/kelowna-scottish-country-dancers-general-class/2026-12-01/
LOCATION:Central Okanagan United Church\, 721 Bernard Ave\, Kelowna\, British Columbia\, Canada
CATEGORIES:Class,practice,Scottish Country Dance
ATTACH;FMTTYPE=image/jpeg:https://kelvernceltic.ca/wp-content/uploads/2026/01/Kelowna-Scottish-Country-Dancers.jpg
END:VEVENT
BEGIN:VEVENT
DTSTART;TZID=America/Vancouver:20261208T174500
DTEND;TZID=America/Vancouver:20261208T184500
DTSTAMP:20260420T102156
CREATED:20260114T070216Z
LAST-MODIFIED:20260119T002346Z
UID:10005409-1796751900-1796755500@kelvernceltic.ca
SUMMARY:Kelowna Scottish Country Dancers - Foundation Class
DESCRIPTION:Kelowna Scottish Country Dancers will dance to the end of April\, 2026.  Our General\nClass runs from 7pm to 9pm every Tuesday.  Our Foundation Class runs\nfrom 5:45 pm until 6:45 pm every Tuesday.
URL:https://kelvernceltic.ca/event/kelowna-scottish-country-dancers-foundation-class/2026-12-08/
LOCATION:Central Okanagan United Church\, 721 Bernard Ave\, Kelowna\, British Columbia\, Canada
CATEGORIES:Scottish Country Dance,Social
ATTACH;FMTTYPE=image/jpeg:https://kelvernceltic.ca/wp-content/uploads/2026/01/Kelowna-Scottish-Country-Dancers.jpg
END:VEVENT
BEGIN:VEVENT
DTSTART;TZID=America/Vancouver:20261208T190000
DTEND;TZID=America/Vancouver:20261208T210000
DTSTAMP:20260420T102156
CREATED:20260118T214326Z
LAST-MODIFIED:20260119T002459Z
UID:10005476-1796756400-1796763600@kelvernceltic.ca
SUMMARY:Kelowna Scottish Country Dancers - General Class
DESCRIPTION:Kelowna Scottish Dancers will dance to the end of April\, 2026.  Our General\nClass runs from 7pm to 9pm every Tuesday.  Our Foundation Class runs\nfrom 5:45 pm until 6:45 pm every Tuesday.ry
URL:https://kelvernceltic.ca/event/kelowna-scottish-country-dancers-general-class/2026-12-08/
LOCATION:Central Okanagan United Church\, 721 Bernard Ave\, Kelowna\, British Columbia\, Canada
CATEGORIES:Class,practice,Scottish Country Dance
ATTACH;FMTTYPE=image/jpeg:https://kelvernceltic.ca/wp-content/uploads/2026/01/Kelowna-Scottish-Country-Dancers.jpg
END:VEVENT
BEGIN:VEVENT
DTSTART;TZID=America/Vancouver:20261215T174500
DTEND;TZID=America/Vancouver:20261215T184500
DTSTAMP:20260420T102156
CREATED:20260114T070216Z
LAST-MODIFIED:20260119T002346Z
UID:10005410-1797356700-1797360300@kelvernceltic.ca
SUMMARY:Kelowna Scottish Country Dancers - Foundation Class
DESCRIPTION:Kelowna Scottish Country Dancers will dance to the end of April\, 2026.  Our General\nClass runs from 7pm to 9pm every Tuesday.  Our Foundation Class runs\nfrom 5:45 pm until 6:45 pm every Tuesday.
URL:https://kelvernceltic.ca/event/kelowna-scottish-country-dancers-foundation-class/2026-12-15/
LOCATION:Central Okanagan United Church\, 721 Bernard Ave\, Kelowna\, British Columbia\, Canada
CATEGORIES:Scottish Country Dance,Social
ATTACH;FMTTYPE=image/jpeg:https://kelvernceltic.ca/wp-content/uploads/2026/01/Kelowna-Scottish-Country-Dancers.jpg
END:VEVENT
BEGIN:VEVENT
DTSTART;TZID=America/Vancouver:20261215T190000
DTEND;TZID=America/Vancouver:20261215T210000
DTSTAMP:20260420T102156
CREATED:20260118T214326Z
LAST-MODIFIED:20260119T002459Z
UID:10005477-1797361200-1797368400@kelvernceltic.ca
SUMMARY:Kelowna Scottish Country Dancers - General Class
DESCRIPTION:Kelowna Scottish Dancers will dance to the end of April\, 2026.  Our General\nClass runs from 7pm to 9pm every Tuesday.  Our Foundation Class runs\nfrom 5:45 pm until 6:45 pm every Tuesday.ry
URL:https://kelvernceltic.ca/event/kelowna-scottish-country-dancers-general-class/2026-12-15/
LOCATION:Central Okanagan United Church\, 721 Bernard Ave\, Kelowna\, British Columbia\, Canada
CATEGORIES:Class,practice,Scottish Country Dance
ATTACH;FMTTYPE=image/jpeg:https://kelvernceltic.ca/wp-content/uploads/2026/01/Kelowna-Scottish-Country-Dancers.jpg
END:VEVENT
BEGIN:VEVENT
DTSTART;TZID=America/Vancouver:20261222T174500
DTEND;TZID=America/Vancouver:20261222T184500
DTSTAMP:20260420T102156
CREATED:20260114T070216Z
LAST-MODIFIED:20260119T002346Z
UID:10005411-1797961500-1797965100@kelvernceltic.ca
SUMMARY:Kelowna Scottish Country Dancers - Foundation Class
DESCRIPTION:Kelowna Scottish Country Dancers will dance to the end of April\, 2026.  Our General\nClass runs from 7pm to 9pm every Tuesday.  Our Foundation Class runs\nfrom 5:45 pm until 6:45 pm every Tuesday.
URL:https://kelvernceltic.ca/event/kelowna-scottish-country-dancers-foundation-class/2026-12-22/
LOCATION:Central Okanagan United Church\, 721 Bernard Ave\, Kelowna\, British Columbia\, Canada
CATEGORIES:Scottish Country Dance,Social
ATTACH;FMTTYPE=image/jpeg:https://kelvernceltic.ca/wp-content/uploads/2026/01/Kelowna-Scottish-Country-Dancers.jpg
END:VEVENT
BEGIN:VEVENT
DTSTART;TZID=America/Vancouver:20261222T190000
DTEND;TZID=America/Vancouver:20261222T210000
DTSTAMP:20260420T102156
CREATED:20260118T214326Z
LAST-MODIFIED:20260119T002459Z
UID:10005478-1797966000-1797973200@kelvernceltic.ca
SUMMARY:Kelowna Scottish Country Dancers - General Class
DESCRIPTION:Kelowna Scottish Dancers will dance to the end of April\, 2026.  Our General\nClass runs from 7pm to 9pm every Tuesday.  Our Foundation Class runs\nfrom 5:45 pm until 6:45 pm every Tuesday.ry
URL:https://kelvernceltic.ca/event/kelowna-scottish-country-dancers-general-class/2026-12-22/
LOCATION:Central Okanagan United Church\, 721 Bernard Ave\, Kelowna\, British Columbia\, Canada
CATEGORIES:Class,practice,Scottish Country Dance
ATTACH;FMTTYPE=image/jpeg:https://kelvernceltic.ca/wp-content/uploads/2026/01/Kelowna-Scottish-Country-Dancers.jpg
END:VEVENT
END:VCALENDAR