BEGIN:VCALENDAR
VERSION:2.0
PRODID:-//Kelvern Celtic Society - ECPv6.15.20//NONSGML v1.0//EN
CALSCALE:GREGORIAN
METHOD:PUBLISH
X-ORIGINAL-URL:https://kelvernceltic.ca
X-WR-CALDESC:Events for Kelvern Celtic Society
REFRESH-INTERVAL;VALUE=DURATION:PT1H
X-Robots-Tag:noindex
X-PUBLISHED-TTL:PT1H
BEGIN:VTIMEZONE
TZID:America/Vancouver
BEGIN:DAYLIGHT
TZOFFSETFROM:-0800
TZOFFSETTO:-0700
TZNAME:PDT
DTSTART:20250309T100000
END:DAYLIGHT
BEGIN:STANDARD
TZOFFSETFROM:-0700
TZOFFSETTO:-0800
TZNAME:PST
DTSTART:20251102T090000
END:STANDARD
BEGIN:DAYLIGHT
TZOFFSETFROM:-0800
TZOFFSETTO:-0700
TZNAME:PDT
DTSTART:20260308T100000
END:DAYLIGHT
BEGIN:STANDARD
TZOFFSETFROM:-0700
TZOFFSETTO:-0800
TZNAME:PST
DTSTART:20261101T090000
END:STANDARD
BEGIN:DAYLIGHT
TZOFFSETFROM:-0800
TZOFFSETTO:-0700
TZNAME:PDT
DTSTART:20270314T100000
END:DAYLIGHT
BEGIN:STANDARD
TZOFFSETFROM:-0700
TZOFFSETTO:-0800
TZNAME:PST
DTSTART:20271107T090000
END:STANDARD
END:VTIMEZONE
BEGIN:VEVENT
DTSTART;TZID=America/Vancouver:20260421T174500
DTEND;TZID=America/Vancouver:20260421T184500
DTSTAMP:20260420T054641
CREATED:20260114T070216Z
LAST-MODIFIED:20260119T002346Z
UID:10005376-1776793500-1776797100@kelvernceltic.ca
SUMMARY:Kelowna Scottish Country Dancers - Foundation Class
DESCRIPTION:Kelowna Scottish Country Dancers will dance to the end of April\, 2026.  Our General\nClass runs from 7pm to 9pm every Tuesday.  Our Foundation Class runs\nfrom 5:45 pm until 6:45 pm every Tuesday.
URL:https://kelvernceltic.ca/event/kelowna-scottish-country-dancers-foundation-class/2026-04-21/
LOCATION:Central Okanagan United Church\, 721 Bernard Ave\, Kelowna\, British Columbia\, Canada
CATEGORIES:Scottish Country Dance,Social
ATTACH;FMTTYPE=image/jpeg:https://kelvernceltic.ca/wp-content/uploads/2026/01/Kelowna-Scottish-Country-Dancers.jpg
END:VEVENT
BEGIN:VEVENT
DTSTART;TZID=America/Vancouver:20260421T190000
DTEND;TZID=America/Vancouver:20260421T210000
DTSTAMP:20260420T054641
CREATED:20260118T214326Z
LAST-MODIFIED:20260119T002459Z
UID:10005443-1776798000-1776805200@kelvernceltic.ca
SUMMARY:Kelowna Scottish Country Dancers - General Class
DESCRIPTION:Kelowna Scottish Dancers will dance to the end of April\, 2026.  Our General\nClass runs from 7pm to 9pm every Tuesday.  Our Foundation Class runs\nfrom 5:45 pm until 6:45 pm every Tuesday.ry
URL:https://kelvernceltic.ca/event/kelowna-scottish-country-dancers-general-class/2026-04-21/
LOCATION:Central Okanagan United Church\, 721 Bernard Ave\, Kelowna\, British Columbia\, Canada
CATEGORIES:Class,practice,Scottish Country Dance
ATTACH;FMTTYPE=image/jpeg:https://kelvernceltic.ca/wp-content/uploads/2026/01/Kelowna-Scottish-Country-Dancers.jpg
END:VEVENT
BEGIN:VEVENT
DTSTART;TZID=America/Vancouver:20260428T174500
DTEND;TZID=America/Vancouver:20260428T184500
DTSTAMP:20260420T054641
CREATED:20260114T070216Z
LAST-MODIFIED:20260119T002346Z
UID:10005377-1777398300-1777401900@kelvernceltic.ca
SUMMARY:Kelowna Scottish Country Dancers - Foundation Class
DESCRIPTION:Kelowna Scottish Country Dancers will dance to the end of April\, 2026.  Our General\nClass runs from 7pm to 9pm every Tuesday.  Our Foundation Class runs\nfrom 5:45 pm until 6:45 pm every Tuesday.
URL:https://kelvernceltic.ca/event/kelowna-scottish-country-dancers-foundation-class/2026-04-28/
LOCATION:Central Okanagan United Church\, 721 Bernard Ave\, Kelowna\, British Columbia\, Canada
CATEGORIES:Scottish Country Dance,Social
ATTACH;FMTTYPE=image/jpeg:https://kelvernceltic.ca/wp-content/uploads/2026/01/Kelowna-Scottish-Country-Dancers.jpg
END:VEVENT
BEGIN:VEVENT
DTSTART;TZID=America/Vancouver:20260428T190000
DTEND;TZID=America/Vancouver:20260428T210000
DTSTAMP:20260420T054641
CREATED:20260118T214326Z
LAST-MODIFIED:20260119T002459Z
UID:10005444-1777402800-1777410000@kelvernceltic.ca
SUMMARY:Kelowna Scottish Country Dancers - General Class
DESCRIPTION:Kelowna Scottish Dancers will dance to the end of April\, 2026.  Our General\nClass runs from 7pm to 9pm every Tuesday.  Our Foundation Class runs\nfrom 5:45 pm until 6:45 pm every Tuesday.ry
URL:https://kelvernceltic.ca/event/kelowna-scottish-country-dancers-general-class/2026-04-28/
LOCATION:Central Okanagan United Church\, 721 Bernard Ave\, Kelowna\, British Columbia\, Canada
CATEGORIES:Class,practice,Scottish Country Dance
ATTACH;FMTTYPE=image/jpeg:https://kelvernceltic.ca/wp-content/uploads/2026/01/Kelowna-Scottish-Country-Dancers.jpg
END:VEVENT
BEGIN:VEVENT
DTSTART;TZID=America/Vancouver:20260505T174500
DTEND;TZID=America/Vancouver:20260505T184500
DTSTAMP:20260420T054641
CREATED:20260114T070216Z
LAST-MODIFIED:20260119T002346Z
UID:10005378-1778003100-1778006700@kelvernceltic.ca
SUMMARY:Kelowna Scottish Country Dancers - Foundation Class
DESCRIPTION:Kelowna Scottish Country Dancers will dance to the end of April\, 2026.  Our General\nClass runs from 7pm to 9pm every Tuesday.  Our Foundation Class runs\nfrom 5:45 pm until 6:45 pm every Tuesday.
URL:https://kelvernceltic.ca/event/kelowna-scottish-country-dancers-foundation-class/2026-05-05/
LOCATION:Central Okanagan United Church\, 721 Bernard Ave\, Kelowna\, British Columbia\, Canada
CATEGORIES:Scottish Country Dance,Social
ATTACH;FMTTYPE=image/jpeg:https://kelvernceltic.ca/wp-content/uploads/2026/01/Kelowna-Scottish-Country-Dancers.jpg
END:VEVENT
BEGIN:VEVENT
DTSTART;TZID=America/Vancouver:20260505T190000
DTEND;TZID=America/Vancouver:20260505T210000
DTSTAMP:20260420T054641
CREATED:20260118T214326Z
LAST-MODIFIED:20260119T002459Z
UID:10005445-1778007600-1778014800@kelvernceltic.ca
SUMMARY:Kelowna Scottish Country Dancers - General Class
DESCRIPTION:Kelowna Scottish Dancers will dance to the end of April\, 2026.  Our General\nClass runs from 7pm to 9pm every Tuesday.  Our Foundation Class runs\nfrom 5:45 pm until 6:45 pm every Tuesday.ry
URL:https://kelvernceltic.ca/event/kelowna-scottish-country-dancers-general-class/2026-05-05/
LOCATION:Central Okanagan United Church\, 721 Bernard Ave\, Kelowna\, British Columbia\, Canada
CATEGORIES:Class,practice,Scottish Country Dance
ATTACH;FMTTYPE=image/jpeg:https://kelvernceltic.ca/wp-content/uploads/2026/01/Kelowna-Scottish-Country-Dancers.jpg
END:VEVENT
BEGIN:VEVENT
DTSTART;TZID=America/Vancouver:20260512T174500
DTEND;TZID=America/Vancouver:20260512T184500
DTSTAMP:20260420T054641
CREATED:20260114T070216Z
LAST-MODIFIED:20260119T002346Z
UID:10005379-1778607900-1778611500@kelvernceltic.ca
SUMMARY:Kelowna Scottish Country Dancers - Foundation Class
DESCRIPTION:Kelowna Scottish Country Dancers will dance to the end of April\, 2026.  Our General\nClass runs from 7pm to 9pm every Tuesday.  Our Foundation Class runs\nfrom 5:45 pm until 6:45 pm every Tuesday.
URL:https://kelvernceltic.ca/event/kelowna-scottish-country-dancers-foundation-class/2026-05-12/
LOCATION:Central Okanagan United Church\, 721 Bernard Ave\, Kelowna\, British Columbia\, Canada
CATEGORIES:Scottish Country Dance,Social
ATTACH;FMTTYPE=image/jpeg:https://kelvernceltic.ca/wp-content/uploads/2026/01/Kelowna-Scottish-Country-Dancers.jpg
END:VEVENT
BEGIN:VEVENT
DTSTART;TZID=America/Vancouver:20260512T190000
DTEND;TZID=America/Vancouver:20260512T210000
DTSTAMP:20260420T054641
CREATED:20260118T214326Z
LAST-MODIFIED:20260119T002459Z
UID:10005446-1778612400-1778619600@kelvernceltic.ca
SUMMARY:Kelowna Scottish Country Dancers - General Class
DESCRIPTION:Kelowna Scottish Dancers will dance to the end of April\, 2026.  Our General\nClass runs from 7pm to 9pm every Tuesday.  Our Foundation Class runs\nfrom 5:45 pm until 6:45 pm every Tuesday.ry
URL:https://kelvernceltic.ca/event/kelowna-scottish-country-dancers-general-class/2026-05-12/
LOCATION:Central Okanagan United Church\, 721 Bernard Ave\, Kelowna\, British Columbia\, Canada
CATEGORIES:Class,practice,Scottish Country Dance
ATTACH;FMTTYPE=image/jpeg:https://kelvernceltic.ca/wp-content/uploads/2026/01/Kelowna-Scottish-Country-Dancers.jpg
END:VEVENT
BEGIN:VEVENT
DTSTART;TZID=America/Vancouver:20260519T174500
DTEND;TZID=America/Vancouver:20260519T184500
DTSTAMP:20260420T054641
CREATED:20260114T070216Z
LAST-MODIFIED:20260119T002346Z
UID:10005380-1779212700-1779216300@kelvernceltic.ca
SUMMARY:Kelowna Scottish Country Dancers - Foundation Class
DESCRIPTION:Kelowna Scottish Country Dancers will dance to the end of April\, 2026.  Our General\nClass runs from 7pm to 9pm every Tuesday.  Our Foundation Class runs\nfrom 5:45 pm until 6:45 pm every Tuesday.
URL:https://kelvernceltic.ca/event/kelowna-scottish-country-dancers-foundation-class/2026-05-19/
LOCATION:Central Okanagan United Church\, 721 Bernard Ave\, Kelowna\, British Columbia\, Canada
CATEGORIES:Scottish Country Dance,Social
ATTACH;FMTTYPE=image/jpeg:https://kelvernceltic.ca/wp-content/uploads/2026/01/Kelowna-Scottish-Country-Dancers.jpg
END:VEVENT
BEGIN:VEVENT
DTSTART;TZID=America/Vancouver:20260519T190000
DTEND;TZID=America/Vancouver:20260519T210000
DTSTAMP:20260420T054641
CREATED:20260118T214326Z
LAST-MODIFIED:20260119T002459Z
UID:10005447-1779217200-1779224400@kelvernceltic.ca
SUMMARY:Kelowna Scottish Country Dancers - General Class
DESCRIPTION:Kelowna Scottish Dancers will dance to the end of April\, 2026.  Our General\nClass runs from 7pm to 9pm every Tuesday.  Our Foundation Class runs\nfrom 5:45 pm until 6:45 pm every Tuesday.ry
URL:https://kelvernceltic.ca/event/kelowna-scottish-country-dancers-general-class/2026-05-19/
LOCATION:Central Okanagan United Church\, 721 Bernard Ave\, Kelowna\, British Columbia\, Canada
CATEGORIES:Class,practice,Scottish Country Dance
ATTACH;FMTTYPE=image/jpeg:https://kelvernceltic.ca/wp-content/uploads/2026/01/Kelowna-Scottish-Country-Dancers.jpg
END:VEVENT
BEGIN:VEVENT
DTSTART;TZID=America/Vancouver:20260526T174500
DTEND;TZID=America/Vancouver:20260526T184500
DTSTAMP:20260420T054641
CREATED:20260114T070216Z
LAST-MODIFIED:20260119T002346Z
UID:10005381-1779817500-1779821100@kelvernceltic.ca
SUMMARY:Kelowna Scottish Country Dancers - Foundation Class
DESCRIPTION:Kelowna Scottish Country Dancers will dance to the end of April\, 2026.  Our General\nClass runs from 7pm to 9pm every Tuesday.  Our Foundation Class runs\nfrom 5:45 pm until 6:45 pm every Tuesday.
URL:https://kelvernceltic.ca/event/kelowna-scottish-country-dancers-foundation-class/2026-05-26/
LOCATION:Central Okanagan United Church\, 721 Bernard Ave\, Kelowna\, British Columbia\, Canada
CATEGORIES:Scottish Country Dance,Social
ATTACH;FMTTYPE=image/jpeg:https://kelvernceltic.ca/wp-content/uploads/2026/01/Kelowna-Scottish-Country-Dancers.jpg
END:VEVENT
BEGIN:VEVENT
DTSTART;TZID=America/Vancouver:20260526T190000
DTEND;TZID=America/Vancouver:20260526T210000
DTSTAMP:20260420T054641
CREATED:20260118T214326Z
LAST-MODIFIED:20260119T002459Z
UID:10005448-1779822000-1779829200@kelvernceltic.ca
SUMMARY:Kelowna Scottish Country Dancers - General Class
DESCRIPTION:Kelowna Scottish Dancers will dance to the end of April\, 2026.  Our General\nClass runs from 7pm to 9pm every Tuesday.  Our Foundation Class runs\nfrom 5:45 pm until 6:45 pm every Tuesday.ry
URL:https://kelvernceltic.ca/event/kelowna-scottish-country-dancers-general-class/2026-05-26/
LOCATION:Central Okanagan United Church\, 721 Bernard Ave\, Kelowna\, British Columbia\, Canada
CATEGORIES:Class,practice,Scottish Country Dance
ATTACH;FMTTYPE=image/jpeg:https://kelvernceltic.ca/wp-content/uploads/2026/01/Kelowna-Scottish-Country-Dancers.jpg
END:VEVENT
BEGIN:VEVENT
DTSTART;TZID=America/Vancouver:20260602T174500
DTEND;TZID=America/Vancouver:20260602T184500
DTSTAMP:20260420T054641
CREATED:20260114T070216Z
LAST-MODIFIED:20260119T002346Z
UID:10005382-1780422300-1780425900@kelvernceltic.ca
SUMMARY:Kelowna Scottish Country Dancers - Foundation Class
DESCRIPTION:Kelowna Scottish Country Dancers will dance to the end of April\, 2026.  Our General\nClass runs from 7pm to 9pm every Tuesday.  Our Foundation Class runs\nfrom 5:45 pm until 6:45 pm every Tuesday.
URL:https://kelvernceltic.ca/event/kelowna-scottish-country-dancers-foundation-class/2026-06-02/
LOCATION:Central Okanagan United Church\, 721 Bernard Ave\, Kelowna\, British Columbia\, Canada
CATEGORIES:Scottish Country Dance,Social
ATTACH;FMTTYPE=image/jpeg:https://kelvernceltic.ca/wp-content/uploads/2026/01/Kelowna-Scottish-Country-Dancers.jpg
END:VEVENT
BEGIN:VEVENT
DTSTART;TZID=America/Vancouver:20260602T190000
DTEND;TZID=America/Vancouver:20260602T210000
DTSTAMP:20260420T054641
CREATED:20260118T214326Z
LAST-MODIFIED:20260119T002459Z
UID:10005449-1780426800-1780434000@kelvernceltic.ca
SUMMARY:Kelowna Scottish Country Dancers - General Class
DESCRIPTION:Kelowna Scottish Dancers will dance to the end of April\, 2026.  Our General\nClass runs from 7pm to 9pm every Tuesday.  Our Foundation Class runs\nfrom 5:45 pm until 6:45 pm every Tuesday.ry
URL:https://kelvernceltic.ca/event/kelowna-scottish-country-dancers-general-class/2026-06-02/
LOCATION:Central Okanagan United Church\, 721 Bernard Ave\, Kelowna\, British Columbia\, Canada
CATEGORIES:Class,practice,Scottish Country Dance
ATTACH;FMTTYPE=image/jpeg:https://kelvernceltic.ca/wp-content/uploads/2026/01/Kelowna-Scottish-Country-Dancers.jpg
END:VEVENT
BEGIN:VEVENT
DTSTART;TZID=America/Vancouver:20260609T174500
DTEND;TZID=America/Vancouver:20260609T184500
DTSTAMP:20260420T054641
CREATED:20260114T070216Z
LAST-MODIFIED:20260119T002346Z
UID:10005383-1781027100-1781030700@kelvernceltic.ca
SUMMARY:Kelowna Scottish Country Dancers - Foundation Class
DESCRIPTION:Kelowna Scottish Country Dancers will dance to the end of April\, 2026.  Our General\nClass runs from 7pm to 9pm every Tuesday.  Our Foundation Class runs\nfrom 5:45 pm until 6:45 pm every Tuesday.
URL:https://kelvernceltic.ca/event/kelowna-scottish-country-dancers-foundation-class/2026-06-09/
LOCATION:Central Okanagan United Church\, 721 Bernard Ave\, Kelowna\, British Columbia\, Canada
CATEGORIES:Scottish Country Dance,Social
ATTACH;FMTTYPE=image/jpeg:https://kelvernceltic.ca/wp-content/uploads/2026/01/Kelowna-Scottish-Country-Dancers.jpg
END:VEVENT
BEGIN:VEVENT
DTSTART;TZID=America/Vancouver:20260609T190000
DTEND;TZID=America/Vancouver:20260609T210000
DTSTAMP:20260420T054641
CREATED:20260118T214326Z
LAST-MODIFIED:20260119T002459Z
UID:10005450-1781031600-1781038800@kelvernceltic.ca
SUMMARY:Kelowna Scottish Country Dancers - General Class
DESCRIPTION:Kelowna Scottish Dancers will dance to the end of April\, 2026.  Our General\nClass runs from 7pm to 9pm every Tuesday.  Our Foundation Class runs\nfrom 5:45 pm until 6:45 pm every Tuesday.ry
URL:https://kelvernceltic.ca/event/kelowna-scottish-country-dancers-general-class/2026-06-09/
LOCATION:Central Okanagan United Church\, 721 Bernard Ave\, Kelowna\, British Columbia\, Canada
CATEGORIES:Class,practice,Scottish Country Dance
ATTACH;FMTTYPE=image/jpeg:https://kelvernceltic.ca/wp-content/uploads/2026/01/Kelowna-Scottish-Country-Dancers.jpg
END:VEVENT
BEGIN:VEVENT
DTSTART;TZID=America/Vancouver:20260616T174500
DTEND;TZID=America/Vancouver:20260616T184500
DTSTAMP:20260420T054641
CREATED:20260114T070216Z
LAST-MODIFIED:20260119T002346Z
UID:10005384-1781631900-1781635500@kelvernceltic.ca
SUMMARY:Kelowna Scottish Country Dancers - Foundation Class
DESCRIPTION:Kelowna Scottish Country Dancers will dance to the end of April\, 2026.  Our General\nClass runs from 7pm to 9pm every Tuesday.  Our Foundation Class runs\nfrom 5:45 pm until 6:45 pm every Tuesday.
URL:https://kelvernceltic.ca/event/kelowna-scottish-country-dancers-foundation-class/2026-06-16/
LOCATION:Central Okanagan United Church\, 721 Bernard Ave\, Kelowna\, British Columbia\, Canada
CATEGORIES:Scottish Country Dance,Social
ATTACH;FMTTYPE=image/jpeg:https://kelvernceltic.ca/wp-content/uploads/2026/01/Kelowna-Scottish-Country-Dancers.jpg
END:VEVENT
BEGIN:VEVENT
DTSTART;TZID=America/Vancouver:20260616T190000
DTEND;TZID=America/Vancouver:20260616T210000
DTSTAMP:20260420T054641
CREATED:20260118T214326Z
LAST-MODIFIED:20260119T002459Z
UID:10005451-1781636400-1781643600@kelvernceltic.ca
SUMMARY:Kelowna Scottish Country Dancers - General Class
DESCRIPTION:Kelowna Scottish Dancers will dance to the end of April\, 2026.  Our General\nClass runs from 7pm to 9pm every Tuesday.  Our Foundation Class runs\nfrom 5:45 pm until 6:45 pm every Tuesday.ry
URL:https://kelvernceltic.ca/event/kelowna-scottish-country-dancers-general-class/2026-06-16/
LOCATION:Central Okanagan United Church\, 721 Bernard Ave\, Kelowna\, British Columbia\, Canada
CATEGORIES:Class,practice,Scottish Country Dance
ATTACH;FMTTYPE=image/jpeg:https://kelvernceltic.ca/wp-content/uploads/2026/01/Kelowna-Scottish-Country-Dancers.jpg
END:VEVENT
BEGIN:VEVENT
DTSTART;TZID=America/Vancouver:20260623T174500
DTEND;TZID=America/Vancouver:20260623T184500
DTSTAMP:20260420T054641
CREATED:20260114T070216Z
LAST-MODIFIED:20260119T002346Z
UID:10005385-1782236700-1782240300@kelvernceltic.ca
SUMMARY:Kelowna Scottish Country Dancers - Foundation Class
DESCRIPTION:Kelowna Scottish Country Dancers will dance to the end of April\, 2026.  Our General\nClass runs from 7pm to 9pm every Tuesday.  Our Foundation Class runs\nfrom 5:45 pm until 6:45 pm every Tuesday.
URL:https://kelvernceltic.ca/event/kelowna-scottish-country-dancers-foundation-class/2026-06-23/
LOCATION:Central Okanagan United Church\, 721 Bernard Ave\, Kelowna\, British Columbia\, Canada
CATEGORIES:Scottish Country Dance,Social
ATTACH;FMTTYPE=image/jpeg:https://kelvernceltic.ca/wp-content/uploads/2026/01/Kelowna-Scottish-Country-Dancers.jpg
END:VEVENT
BEGIN:VEVENT
DTSTART;TZID=America/Vancouver:20260623T190000
DTEND;TZID=America/Vancouver:20260623T210000
DTSTAMP:20260420T054641
CREATED:20260118T214326Z
LAST-MODIFIED:20260119T002459Z
UID:10005452-1782241200-1782248400@kelvernceltic.ca
SUMMARY:Kelowna Scottish Country Dancers - General Class
DESCRIPTION:Kelowna Scottish Dancers will dance to the end of April\, 2026.  Our General\nClass runs from 7pm to 9pm every Tuesday.  Our Foundation Class runs\nfrom 5:45 pm until 6:45 pm every Tuesday.ry
URL:https://kelvernceltic.ca/event/kelowna-scottish-country-dancers-general-class/2026-06-23/
LOCATION:Central Okanagan United Church\, 721 Bernard Ave\, Kelowna\, British Columbia\, Canada
CATEGORIES:Class,practice,Scottish Country Dance
ATTACH;FMTTYPE=image/jpeg:https://kelvernceltic.ca/wp-content/uploads/2026/01/Kelowna-Scottish-Country-Dancers.jpg
END:VEVENT
BEGIN:VEVENT
DTSTART;TZID=America/Vancouver:20260630T174500
DTEND;TZID=America/Vancouver:20260630T184500
DTSTAMP:20260420T054641
CREATED:20260114T070216Z
LAST-MODIFIED:20260119T002346Z
UID:10005386-1782841500-1782845100@kelvernceltic.ca
SUMMARY:Kelowna Scottish Country Dancers - Foundation Class
DESCRIPTION:Kelowna Scottish Country Dancers will dance to the end of April\, 2026.  Our General\nClass runs from 7pm to 9pm every Tuesday.  Our Foundation Class runs\nfrom 5:45 pm until 6:45 pm every Tuesday.
URL:https://kelvernceltic.ca/event/kelowna-scottish-country-dancers-foundation-class/2026-06-30/
LOCATION:Central Okanagan United Church\, 721 Bernard Ave\, Kelowna\, British Columbia\, Canada
CATEGORIES:Scottish Country Dance,Social
ATTACH;FMTTYPE=image/jpeg:https://kelvernceltic.ca/wp-content/uploads/2026/01/Kelowna-Scottish-Country-Dancers.jpg
END:VEVENT
BEGIN:VEVENT
DTSTART;TZID=America/Vancouver:20260630T190000
DTEND;TZID=America/Vancouver:20260630T210000
DTSTAMP:20260420T054641
CREATED:20260118T214326Z
LAST-MODIFIED:20260119T002459Z
UID:10005453-1782846000-1782853200@kelvernceltic.ca
SUMMARY:Kelowna Scottish Country Dancers - General Class
DESCRIPTION:Kelowna Scottish Dancers will dance to the end of April\, 2026.  Our General\nClass runs from 7pm to 9pm every Tuesday.  Our Foundation Class runs\nfrom 5:45 pm until 6:45 pm every Tuesday.ry
URL:https://kelvernceltic.ca/event/kelowna-scottish-country-dancers-general-class/2026-06-30/
LOCATION:Central Okanagan United Church\, 721 Bernard Ave\, Kelowna\, British Columbia\, Canada
CATEGORIES:Class,practice,Scottish Country Dance
ATTACH;FMTTYPE=image/jpeg:https://kelvernceltic.ca/wp-content/uploads/2026/01/Kelowna-Scottish-Country-Dancers.jpg
END:VEVENT
BEGIN:VEVENT
DTSTART;TZID=America/Vancouver:20260707T174500
DTEND;TZID=America/Vancouver:20260707T184500
DTSTAMP:20260420T054641
CREATED:20260114T070216Z
LAST-MODIFIED:20260119T002346Z
UID:10005387-1783446300-1783449900@kelvernceltic.ca
SUMMARY:Kelowna Scottish Country Dancers - Foundation Class
DESCRIPTION:Kelowna Scottish Country Dancers will dance to the end of April\, 2026.  Our General\nClass runs from 7pm to 9pm every Tuesday.  Our Foundation Class runs\nfrom 5:45 pm until 6:45 pm every Tuesday.
URL:https://kelvernceltic.ca/event/kelowna-scottish-country-dancers-foundation-class/2026-07-07/
LOCATION:Central Okanagan United Church\, 721 Bernard Ave\, Kelowna\, British Columbia\, Canada
CATEGORIES:Scottish Country Dance,Social
ATTACH;FMTTYPE=image/jpeg:https://kelvernceltic.ca/wp-content/uploads/2026/01/Kelowna-Scottish-Country-Dancers.jpg
END:VEVENT
BEGIN:VEVENT
DTSTART;TZID=America/Vancouver:20260707T190000
DTEND;TZID=America/Vancouver:20260707T210000
DTSTAMP:20260420T054641
CREATED:20260118T214326Z
LAST-MODIFIED:20260119T002459Z
UID:10005454-1783450800-1783458000@kelvernceltic.ca
SUMMARY:Kelowna Scottish Country Dancers - General Class
DESCRIPTION:Kelowna Scottish Dancers will dance to the end of April\, 2026.  Our General\nClass runs from 7pm to 9pm every Tuesday.  Our Foundation Class runs\nfrom 5:45 pm until 6:45 pm every Tuesday.ry
URL:https://kelvernceltic.ca/event/kelowna-scottish-country-dancers-general-class/2026-07-07/
LOCATION:Central Okanagan United Church\, 721 Bernard Ave\, Kelowna\, British Columbia\, Canada
CATEGORIES:Class,practice,Scottish Country Dance
ATTACH;FMTTYPE=image/jpeg:https://kelvernceltic.ca/wp-content/uploads/2026/01/Kelowna-Scottish-Country-Dancers.jpg
END:VEVENT
BEGIN:VEVENT
DTSTART;TZID=America/Vancouver:20260714T174500
DTEND;TZID=America/Vancouver:20260714T184500
DTSTAMP:20260420T054641
CREATED:20260114T070216Z
LAST-MODIFIED:20260119T002346Z
UID:10005388-1784051100-1784054700@kelvernceltic.ca
SUMMARY:Kelowna Scottish Country Dancers - Foundation Class
DESCRIPTION:Kelowna Scottish Country Dancers will dance to the end of April\, 2026.  Our General\nClass runs from 7pm to 9pm every Tuesday.  Our Foundation Class runs\nfrom 5:45 pm until 6:45 pm every Tuesday.
URL:https://kelvernceltic.ca/event/kelowna-scottish-country-dancers-foundation-class/2026-07-14/
LOCATION:Central Okanagan United Church\, 721 Bernard Ave\, Kelowna\, British Columbia\, Canada
CATEGORIES:Scottish Country Dance,Social
ATTACH;FMTTYPE=image/jpeg:https://kelvernceltic.ca/wp-content/uploads/2026/01/Kelowna-Scottish-Country-Dancers.jpg
END:VEVENT
BEGIN:VEVENT
DTSTART;TZID=America/Vancouver:20260714T190000
DTEND;TZID=America/Vancouver:20260714T210000
DTSTAMP:20260420T054641
CREATED:20260118T214326Z
LAST-MODIFIED:20260119T002459Z
UID:10005455-1784055600-1784062800@kelvernceltic.ca
SUMMARY:Kelowna Scottish Country Dancers - General Class
DESCRIPTION:Kelowna Scottish Dancers will dance to the end of April\, 2026.  Our General\nClass runs from 7pm to 9pm every Tuesday.  Our Foundation Class runs\nfrom 5:45 pm until 6:45 pm every Tuesday.ry
URL:https://kelvernceltic.ca/event/kelowna-scottish-country-dancers-general-class/2026-07-14/
LOCATION:Central Okanagan United Church\, 721 Bernard Ave\, Kelowna\, British Columbia\, Canada
CATEGORIES:Class,practice,Scottish Country Dance
ATTACH;FMTTYPE=image/jpeg:https://kelvernceltic.ca/wp-content/uploads/2026/01/Kelowna-Scottish-Country-Dancers.jpg
END:VEVENT
BEGIN:VEVENT
DTSTART;TZID=America/Vancouver:20260721T174500
DTEND;TZID=America/Vancouver:20260721T184500
DTSTAMP:20260420T054641
CREATED:20260114T070216Z
LAST-MODIFIED:20260119T002346Z
UID:10005389-1784655900-1784659500@kelvernceltic.ca
SUMMARY:Kelowna Scottish Country Dancers - Foundation Class
DESCRIPTION:Kelowna Scottish Country Dancers will dance to the end of April\, 2026.  Our General\nClass runs from 7pm to 9pm every Tuesday.  Our Foundation Class runs\nfrom 5:45 pm until 6:45 pm every Tuesday.
URL:https://kelvernceltic.ca/event/kelowna-scottish-country-dancers-foundation-class/2026-07-21/
LOCATION:Central Okanagan United Church\, 721 Bernard Ave\, Kelowna\, British Columbia\, Canada
CATEGORIES:Scottish Country Dance,Social
ATTACH;FMTTYPE=image/jpeg:https://kelvernceltic.ca/wp-content/uploads/2026/01/Kelowna-Scottish-Country-Dancers.jpg
END:VEVENT
BEGIN:VEVENT
DTSTART;TZID=America/Vancouver:20260721T190000
DTEND;TZID=America/Vancouver:20260721T210000
DTSTAMP:20260420T054641
CREATED:20260118T214326Z
LAST-MODIFIED:20260119T002459Z
UID:10005456-1784660400-1784667600@kelvernceltic.ca
SUMMARY:Kelowna Scottish Country Dancers - General Class
DESCRIPTION:Kelowna Scottish Dancers will dance to the end of April\, 2026.  Our General\nClass runs from 7pm to 9pm every Tuesday.  Our Foundation Class runs\nfrom 5:45 pm until 6:45 pm every Tuesday.ry
URL:https://kelvernceltic.ca/event/kelowna-scottish-country-dancers-general-class/2026-07-21/
LOCATION:Central Okanagan United Church\, 721 Bernard Ave\, Kelowna\, British Columbia\, Canada
CATEGORIES:Class,practice,Scottish Country Dance
ATTACH;FMTTYPE=image/jpeg:https://kelvernceltic.ca/wp-content/uploads/2026/01/Kelowna-Scottish-Country-Dancers.jpg
END:VEVENT
BEGIN:VEVENT
DTSTART;TZID=America/Vancouver:20260728T174500
DTEND;TZID=America/Vancouver:20260728T184500
DTSTAMP:20260420T054641
CREATED:20260114T070216Z
LAST-MODIFIED:20260119T002346Z
UID:10005390-1785260700-1785264300@kelvernceltic.ca
SUMMARY:Kelowna Scottish Country Dancers - Foundation Class
DESCRIPTION:Kelowna Scottish Country Dancers will dance to the end of April\, 2026.  Our General\nClass runs from 7pm to 9pm every Tuesday.  Our Foundation Class runs\nfrom 5:45 pm until 6:45 pm every Tuesday.
URL:https://kelvernceltic.ca/event/kelowna-scottish-country-dancers-foundation-class/2026-07-28/
LOCATION:Central Okanagan United Church\, 721 Bernard Ave\, Kelowna\, British Columbia\, Canada
CATEGORIES:Scottish Country Dance,Social
ATTACH;FMTTYPE=image/jpeg:https://kelvernceltic.ca/wp-content/uploads/2026/01/Kelowna-Scottish-Country-Dancers.jpg
END:VEVENT
BEGIN:VEVENT
DTSTART;TZID=America/Vancouver:20260728T190000
DTEND;TZID=America/Vancouver:20260728T210000
DTSTAMP:20260420T054641
CREATED:20260118T214326Z
LAST-MODIFIED:20260119T002459Z
UID:10005457-1785265200-1785272400@kelvernceltic.ca
SUMMARY:Kelowna Scottish Country Dancers - General Class
DESCRIPTION:Kelowna Scottish Dancers will dance to the end of April\, 2026.  Our General\nClass runs from 7pm to 9pm every Tuesday.  Our Foundation Class runs\nfrom 5:45 pm until 6:45 pm every Tuesday.ry
URL:https://kelvernceltic.ca/event/kelowna-scottish-country-dancers-general-class/2026-07-28/
LOCATION:Central Okanagan United Church\, 721 Bernard Ave\, Kelowna\, British Columbia\, Canada
CATEGORIES:Class,practice,Scottish Country Dance
ATTACH;FMTTYPE=image/jpeg:https://kelvernceltic.ca/wp-content/uploads/2026/01/Kelowna-Scottish-Country-Dancers.jpg
END:VEVENT
END:VCALENDAR