BEGIN:VCALENDAR
VERSION:2.0
PRODID:-//Kelvern Celtic Society - ECPv6.15.20//NONSGML v1.0//EN
CALSCALE:GREGORIAN
METHOD:PUBLISH
X-WR-CALNAME:Kelvern Celtic Society
X-ORIGINAL-URL:https://kelvernceltic.ca
X-WR-CALDESC:Events for Kelvern Celtic Society
REFRESH-INTERVAL;VALUE=DURATION:PT1H
X-Robots-Tag:noindex
X-PUBLISHED-TTL:PT1H
BEGIN:VTIMEZONE
TZID:America/Vancouver
BEGIN:DAYLIGHT
TZOFFSETFROM:-0800
TZOFFSETTO:-0700
TZNAME:PDT
DTSTART:20240310T100000
END:DAYLIGHT
BEGIN:STANDARD
TZOFFSETFROM:-0700
TZOFFSETTO:-0800
TZNAME:PST
DTSTART:20241103T090000
END:STANDARD
BEGIN:DAYLIGHT
TZOFFSETFROM:-0800
TZOFFSETTO:-0700
TZNAME:PDT
DTSTART:20250309T100000
END:DAYLIGHT
BEGIN:STANDARD
TZOFFSETFROM:-0700
TZOFFSETTO:-0800
TZNAME:PST
DTSTART:20251102T090000
END:STANDARD
BEGIN:DAYLIGHT
TZOFFSETFROM:-0800
TZOFFSETTO:-0700
TZNAME:PDT
DTSTART:20260308T100000
END:DAYLIGHT
BEGIN:STANDARD
TZOFFSETFROM:-0700
TZOFFSETTO:-0800
TZNAME:PST
DTSTART:20261101T090000
END:STANDARD
BEGIN:DAYLIGHT
TZOFFSETFROM:-0800
TZOFFSETTO:-0700
TZNAME:PDT
DTSTART:20270314T100000
END:DAYLIGHT
BEGIN:STANDARD
TZOFFSETFROM:-0700
TZOFFSETTO:-0800
TZNAME:PST
DTSTART:20271107T090000
END:STANDARD
END:VTIMEZONE
BEGIN:VEVENT
DTSTART;TZID=America/Vancouver:20260414T190000
DTEND;TZID=America/Vancouver:20260414T210000
DTSTAMP:20260420T090623
CREATED:20260202T214148Z
LAST-MODIFIED:20260202T214414Z
UID:10005508-1776193200-1776200400@kelvernceltic.ca
SUMMARY:Vernon Scottish Country Dance Class
DESCRIPTION:WHERE? KNOX PRESBYTERIAN CHURCH HALL (3701 -32ND AVE)\nWHEN? TUESDAY evenings at 7:00 PM\nMore info? Phone Ruth: 250-5454-2626
URL:https://kelvernceltic.ca/event/vernon-scottish-country-dance-class-2-2-2/2026-04-14/
LOCATION:KNOX Presbyterian Church Hall\, 3701 -32ND AVE\, Vernon\, BC\, V1T 2N2\, Canada
CATEGORIES:Scottish Country Dance
ATTACH;FMTTYPE=image/jpeg:https://kelvernceltic.ca/wp-content/uploads/2023/10/Vernon-dance-class.jpg
ORGANIZER;CN="Vernon Scottish Country Dancers":MAILTO:vernonscd@gmail.com
END:VEVENT
BEGIN:VEVENT
DTSTART;TZID=America/Vancouver:20260414T174500
DTEND;TZID=America/Vancouver:20260414T184500
DTSTAMP:20260420T090623
CREATED:20260114T070216Z
LAST-MODIFIED:20260119T002346Z
UID:10005375-1776188700-1776192300@kelvernceltic.ca
SUMMARY:Kelowna Scottish Country Dancers - Foundation Class
DESCRIPTION:Kelowna Scottish Country Dancers will dance to the end of April\, 2026.  Our General\nClass runs from 7pm to 9pm every Tuesday.  Our Foundation Class runs\nfrom 5:45 pm until 6:45 pm every Tuesday.
URL:https://kelvernceltic.ca/event/kelowna-scottish-country-dancers-foundation-class/2026-04-14/
LOCATION:Central Okanagan United Church\, 721 Bernard Ave\, Kelowna\, British Columbia\, Canada
CATEGORIES:Scottish Country Dance,Social
ATTACH;FMTTYPE=image/jpeg:https://kelvernceltic.ca/wp-content/uploads/2026/01/Kelowna-Scottish-Country-Dancers.jpg
END:VEVENT
BEGIN:VEVENT
DTSTART;TZID=America/Vancouver:20260407T190000
DTEND;TZID=America/Vancouver:20260407T210000
DTSTAMP:20260420T090623
CREATED:20260202T214148Z
LAST-MODIFIED:20260202T214414Z
UID:10005507-1775588400-1775595600@kelvernceltic.ca
SUMMARY:Vernon Scottish Country Dance Class
DESCRIPTION:WHERE? KNOX PRESBYTERIAN CHURCH HALL (3701 -32ND AVE)\nWHEN? TUESDAY evenings at 7:00 PM\nMore info? Phone Ruth: 250-5454-2626
URL:https://kelvernceltic.ca/event/vernon-scottish-country-dance-class-2-2-2/2026-04-07/
LOCATION:KNOX Presbyterian Church Hall\, 3701 -32ND AVE\, Vernon\, BC\, V1T 2N2\, Canada
CATEGORIES:Scottish Country Dance
ATTACH;FMTTYPE=image/jpeg:https://kelvernceltic.ca/wp-content/uploads/2023/10/Vernon-dance-class.jpg
ORGANIZER;CN="Vernon Scottish Country Dancers":MAILTO:vernonscd@gmail.com
END:VEVENT
BEGIN:VEVENT
DTSTART;TZID=America/Vancouver:20260407T174500
DTEND;TZID=America/Vancouver:20260407T184500
DTSTAMP:20260420T090623
CREATED:20260114T070216Z
LAST-MODIFIED:20260119T002346Z
UID:10005374-1775583900-1775587500@kelvernceltic.ca
SUMMARY:Kelowna Scottish Country Dancers - Foundation Class
DESCRIPTION:Kelowna Scottish Country Dancers will dance to the end of April\, 2026.  Our General\nClass runs from 7pm to 9pm every Tuesday.  Our Foundation Class runs\nfrom 5:45 pm until 6:45 pm every Tuesday.
URL:https://kelvernceltic.ca/event/kelowna-scottish-country-dancers-foundation-class/2026-04-07/
LOCATION:Central Okanagan United Church\, 721 Bernard Ave\, Kelowna\, British Columbia\, Canada
CATEGORIES:Scottish Country Dance,Social
ATTACH;FMTTYPE=image/jpeg:https://kelvernceltic.ca/wp-content/uploads/2026/01/Kelowna-Scottish-Country-Dancers.jpg
END:VEVENT
BEGIN:VEVENT
DTSTART;TZID=America/Vancouver:20260331T190000
DTEND;TZID=America/Vancouver:20260331T210000
DTSTAMP:20260420T090623
CREATED:20260202T214148Z
LAST-MODIFIED:20260202T214414Z
UID:10005506-1774983600-1774990800@kelvernceltic.ca
SUMMARY:Vernon Scottish Country Dance Class
DESCRIPTION:WHERE? KNOX PRESBYTERIAN CHURCH HALL (3701 -32ND AVE)\nWHEN? TUESDAY evenings at 7:00 PM\nMore info? Phone Ruth: 250-5454-2626
URL:https://kelvernceltic.ca/event/vernon-scottish-country-dance-class-2-2-2/2026-03-31/
LOCATION:KNOX Presbyterian Church Hall\, 3701 -32ND AVE\, Vernon\, BC\, V1T 2N2\, Canada
CATEGORIES:Scottish Country Dance
ATTACH;FMTTYPE=image/jpeg:https://kelvernceltic.ca/wp-content/uploads/2023/10/Vernon-dance-class.jpg
ORGANIZER;CN="Vernon Scottish Country Dancers":MAILTO:vernonscd@gmail.com
END:VEVENT
BEGIN:VEVENT
DTSTART;TZID=America/Vancouver:20260331T174500
DTEND;TZID=America/Vancouver:20260331T184500
DTSTAMP:20260420T090623
CREATED:20260114T070216Z
LAST-MODIFIED:20260119T002346Z
UID:10005373-1774979100-1774982700@kelvernceltic.ca
SUMMARY:Kelowna Scottish Country Dancers - Foundation Class
DESCRIPTION:Kelowna Scottish Country Dancers will dance to the end of April\, 2026.  Our General\nClass runs from 7pm to 9pm every Tuesday.  Our Foundation Class runs\nfrom 5:45 pm until 6:45 pm every Tuesday.
URL:https://kelvernceltic.ca/event/kelowna-scottish-country-dancers-foundation-class/2026-03-31/
LOCATION:Central Okanagan United Church\, 721 Bernard Ave\, Kelowna\, British Columbia\, Canada
CATEGORIES:Scottish Country Dance,Social
ATTACH;FMTTYPE=image/jpeg:https://kelvernceltic.ca/wp-content/uploads/2026/01/Kelowna-Scottish-Country-Dancers.jpg
END:VEVENT
BEGIN:VEVENT
DTSTART;TZID=America/Vancouver:20260324T190000
DTEND;TZID=America/Vancouver:20260324T210000
DTSTAMP:20260420T090623
CREATED:20260202T214148Z
LAST-MODIFIED:20260202T214414Z
UID:10005505-1774378800-1774386000@kelvernceltic.ca
SUMMARY:Vernon Scottish Country Dance Class
DESCRIPTION:WHERE? KNOX PRESBYTERIAN CHURCH HALL (3701 -32ND AVE)\nWHEN? TUESDAY evenings at 7:00 PM\nMore info? Phone Ruth: 250-5454-2626
URL:https://kelvernceltic.ca/event/vernon-scottish-country-dance-class-2-2-2/2026-03-24/
LOCATION:KNOX Presbyterian Church Hall\, 3701 -32ND AVE\, Vernon\, BC\, V1T 2N2\, Canada
CATEGORIES:Scottish Country Dance
ATTACH;FMTTYPE=image/jpeg:https://kelvernceltic.ca/wp-content/uploads/2023/10/Vernon-dance-class.jpg
ORGANIZER;CN="Vernon Scottish Country Dancers":MAILTO:vernonscd@gmail.com
END:VEVENT
BEGIN:VEVENT
DTSTART;TZID=America/Vancouver:20260324T174500
DTEND;TZID=America/Vancouver:20260324T184500
DTSTAMP:20260420T090623
CREATED:20260114T070216Z
LAST-MODIFIED:20260119T002346Z
UID:10005372-1774374300-1774377900@kelvernceltic.ca
SUMMARY:Kelowna Scottish Country Dancers - Foundation Class
DESCRIPTION:Kelowna Scottish Country Dancers will dance to the end of April\, 2026.  Our General\nClass runs from 7pm to 9pm every Tuesday.  Our Foundation Class runs\nfrom 5:45 pm until 6:45 pm every Tuesday.
URL:https://kelvernceltic.ca/event/kelowna-scottish-country-dancers-foundation-class/2026-03-24/
LOCATION:Central Okanagan United Church\, 721 Bernard Ave\, Kelowna\, British Columbia\, Canada
CATEGORIES:Scottish Country Dance,Social
ATTACH;FMTTYPE=image/jpeg:https://kelvernceltic.ca/wp-content/uploads/2026/01/Kelowna-Scottish-Country-Dancers.jpg
END:VEVENT
BEGIN:VEVENT
DTSTART;TZID=America/Vancouver:20260317T190000
DTEND;TZID=America/Vancouver:20260317T210000
DTSTAMP:20260420T090624
CREATED:20260202T214148Z
LAST-MODIFIED:20260202T214414Z
UID:10005504-1773774000-1773781200@kelvernceltic.ca
SUMMARY:Vernon Scottish Country Dance Class
DESCRIPTION:WHERE? KNOX PRESBYTERIAN CHURCH HALL (3701 -32ND AVE)\nWHEN? TUESDAY evenings at 7:00 PM\nMore info? Phone Ruth: 250-5454-2626
URL:https://kelvernceltic.ca/event/vernon-scottish-country-dance-class-2-2-2/2026-03-17/
LOCATION:KNOX Presbyterian Church Hall\, 3701 -32ND AVE\, Vernon\, BC\, V1T 2N2\, Canada
CATEGORIES:Scottish Country Dance
ATTACH;FMTTYPE=image/jpeg:https://kelvernceltic.ca/wp-content/uploads/2023/10/Vernon-dance-class.jpg
ORGANIZER;CN="Vernon Scottish Country Dancers":MAILTO:vernonscd@gmail.com
END:VEVENT
BEGIN:VEVENT
DTSTART;TZID=America/Vancouver:20260317T174500
DTEND;TZID=America/Vancouver:20260317T184500
DTSTAMP:20260420T090624
CREATED:20260114T070216Z
LAST-MODIFIED:20260119T002346Z
UID:10005371-1773769500-1773773100@kelvernceltic.ca
SUMMARY:Kelowna Scottish Country Dancers - Foundation Class
DESCRIPTION:Kelowna Scottish Country Dancers will dance to the end of April\, 2026.  Our General\nClass runs from 7pm to 9pm every Tuesday.  Our Foundation Class runs\nfrom 5:45 pm until 6:45 pm every Tuesday.
URL:https://kelvernceltic.ca/event/kelowna-scottish-country-dancers-foundation-class/2026-03-17/
LOCATION:Central Okanagan United Church\, 721 Bernard Ave\, Kelowna\, British Columbia\, Canada
CATEGORIES:Scottish Country Dance,Social
ATTACH;FMTTYPE=image/jpeg:https://kelvernceltic.ca/wp-content/uploads/2026/01/Kelowna-Scottish-Country-Dancers.jpg
END:VEVENT
BEGIN:VEVENT
DTSTART;TZID=America/Vancouver:20260310T190000
DTEND;TZID=America/Vancouver:20260310T210000
DTSTAMP:20260420T090624
CREATED:20260202T214148Z
LAST-MODIFIED:20260202T214414Z
UID:10005503-1773169200-1773176400@kelvernceltic.ca
SUMMARY:Vernon Scottish Country Dance Class
DESCRIPTION:WHERE? KNOX PRESBYTERIAN CHURCH HALL (3701 -32ND AVE)\nWHEN? TUESDAY evenings at 7:00 PM\nMore info? Phone Ruth: 250-5454-2626
URL:https://kelvernceltic.ca/event/vernon-scottish-country-dance-class-2-2-2/2026-03-10/
LOCATION:KNOX Presbyterian Church Hall\, 3701 -32ND AVE\, Vernon\, BC\, V1T 2N2\, Canada
CATEGORIES:Scottish Country Dance
ATTACH;FMTTYPE=image/jpeg:https://kelvernceltic.ca/wp-content/uploads/2023/10/Vernon-dance-class.jpg
ORGANIZER;CN="Vernon Scottish Country Dancers":MAILTO:vernonscd@gmail.com
END:VEVENT
BEGIN:VEVENT
DTSTART;TZID=America/Vancouver:20260310T174500
DTEND;TZID=America/Vancouver:20260310T184500
DTSTAMP:20260420T090624
CREATED:20260114T070216Z
LAST-MODIFIED:20260119T002346Z
UID:10005370-1773164700-1773168300@kelvernceltic.ca
SUMMARY:Kelowna Scottish Country Dancers - Foundation Class
DESCRIPTION:Kelowna Scottish Country Dancers will dance to the end of April\, 2026.  Our General\nClass runs from 7pm to 9pm every Tuesday.  Our Foundation Class runs\nfrom 5:45 pm until 6:45 pm every Tuesday.
URL:https://kelvernceltic.ca/event/kelowna-scottish-country-dancers-foundation-class/2026-03-10/
LOCATION:Central Okanagan United Church\, 721 Bernard Ave\, Kelowna\, British Columbia\, Canada
CATEGORIES:Scottish Country Dance,Social
ATTACH;FMTTYPE=image/jpeg:https://kelvernceltic.ca/wp-content/uploads/2026/01/Kelowna-Scottish-Country-Dancers.jpg
END:VEVENT
BEGIN:VEVENT
DTSTART;TZID=America/Vancouver:20260303T190000
DTEND;TZID=America/Vancouver:20260303T210000
DTSTAMP:20260420T090624
CREATED:20260202T214148Z
LAST-MODIFIED:20260202T214414Z
UID:10005502-1772564400-1772571600@kelvernceltic.ca
SUMMARY:Vernon Scottish Country Dance Class
DESCRIPTION:WHERE? KNOX PRESBYTERIAN CHURCH HALL (3701 -32ND AVE)\nWHEN? TUESDAY evenings at 7:00 PM\nMore info? Phone Ruth: 250-5454-2626
URL:https://kelvernceltic.ca/event/vernon-scottish-country-dance-class-2-2-2/2026-03-03/
LOCATION:KNOX Presbyterian Church Hall\, 3701 -32ND AVE\, Vernon\, BC\, V1T 2N2\, Canada
CATEGORIES:Scottish Country Dance
ATTACH;FMTTYPE=image/jpeg:https://kelvernceltic.ca/wp-content/uploads/2023/10/Vernon-dance-class.jpg
ORGANIZER;CN="Vernon Scottish Country Dancers":MAILTO:vernonscd@gmail.com
END:VEVENT
BEGIN:VEVENT
DTSTART;TZID=America/Vancouver:20260303T174500
DTEND;TZID=America/Vancouver:20260303T184500
DTSTAMP:20260420T090624
CREATED:20260114T070216Z
LAST-MODIFIED:20260119T002346Z
UID:10005369-1772559900-1772563500@kelvernceltic.ca
SUMMARY:Kelowna Scottish Country Dancers - Foundation Class
DESCRIPTION:Kelowna Scottish Country Dancers will dance to the end of April\, 2026.  Our General\nClass runs from 7pm to 9pm every Tuesday.  Our Foundation Class runs\nfrom 5:45 pm until 6:45 pm every Tuesday.
URL:https://kelvernceltic.ca/event/kelowna-scottish-country-dancers-foundation-class/2026-03-03/
LOCATION:Central Okanagan United Church\, 721 Bernard Ave\, Kelowna\, British Columbia\, Canada
CATEGORIES:Scottish Country Dance,Social
ATTACH;FMTTYPE=image/jpeg:https://kelvernceltic.ca/wp-content/uploads/2026/01/Kelowna-Scottish-Country-Dancers.jpg
END:VEVENT
BEGIN:VEVENT
DTSTART;TZID=America/Vancouver:20260224T190000
DTEND;TZID=America/Vancouver:20260224T210000
DTSTAMP:20260420T090624
CREATED:20260202T214148Z
LAST-MODIFIED:20260202T214414Z
UID:10005501-1771959600-1771966800@kelvernceltic.ca
SUMMARY:Vernon Scottish Country Dance Class
DESCRIPTION:WHERE? KNOX PRESBYTERIAN CHURCH HALL (3701 -32ND AVE)\nWHEN? TUESDAY evenings at 7:00 PM\nMore info? Phone Ruth: 250-5454-2626
URL:https://kelvernceltic.ca/event/vernon-scottish-country-dance-class-2-2-2/2026-02-24/
LOCATION:KNOX Presbyterian Church Hall\, 3701 -32ND AVE\, Vernon\, BC\, V1T 2N2\, Canada
CATEGORIES:Scottish Country Dance
ATTACH;FMTTYPE=image/jpeg:https://kelvernceltic.ca/wp-content/uploads/2023/10/Vernon-dance-class.jpg
ORGANIZER;CN="Vernon Scottish Country Dancers":MAILTO:vernonscd@gmail.com
END:VEVENT
BEGIN:VEVENT
DTSTART;TZID=America/Vancouver:20260224T174500
DTEND;TZID=America/Vancouver:20260224T184500
DTSTAMP:20260420T090624
CREATED:20260114T070216Z
LAST-MODIFIED:20260119T002346Z
UID:10005368-1771955100-1771958700@kelvernceltic.ca
SUMMARY:Kelowna Scottish Country Dancers - Foundation Class
DESCRIPTION:Kelowna Scottish Country Dancers will dance to the end of April\, 2026.  Our General\nClass runs from 7pm to 9pm every Tuesday.  Our Foundation Class runs\nfrom 5:45 pm until 6:45 pm every Tuesday.
URL:https://kelvernceltic.ca/event/kelowna-scottish-country-dancers-foundation-class/2026-02-24/
LOCATION:Central Okanagan United Church\, 721 Bernard Ave\, Kelowna\, British Columbia\, Canada
CATEGORIES:Scottish Country Dance,Social
ATTACH;FMTTYPE=image/jpeg:https://kelvernceltic.ca/wp-content/uploads/2026/01/Kelowna-Scottish-Country-Dancers.jpg
END:VEVENT
BEGIN:VEVENT
DTSTART;TZID=America/Vancouver:20260217T190000
DTEND;TZID=America/Vancouver:20260217T210000
DTSTAMP:20260420T090624
CREATED:20260202T214148Z
LAST-MODIFIED:20260202T214414Z
UID:10005500-1771354800-1771362000@kelvernceltic.ca
SUMMARY:Vernon Scottish Country Dance Class
DESCRIPTION:WHERE? KNOX PRESBYTERIAN CHURCH HALL (3701 -32ND AVE)\nWHEN? TUESDAY evenings at 7:00 PM\nMore info? Phone Ruth: 250-5454-2626
URL:https://kelvernceltic.ca/event/vernon-scottish-country-dance-class-2-2-2/2026-02-17/
LOCATION:KNOX Presbyterian Church Hall\, 3701 -32ND AVE\, Vernon\, BC\, V1T 2N2\, Canada
CATEGORIES:Scottish Country Dance
ATTACH;FMTTYPE=image/jpeg:https://kelvernceltic.ca/wp-content/uploads/2023/10/Vernon-dance-class.jpg
ORGANIZER;CN="Vernon Scottish Country Dancers":MAILTO:vernonscd@gmail.com
END:VEVENT
BEGIN:VEVENT
DTSTART;TZID=America/Vancouver:20260217T174500
DTEND;TZID=America/Vancouver:20260217T184500
DTSTAMP:20260420T090624
CREATED:20260114T070216Z
LAST-MODIFIED:20260119T002346Z
UID:10005367-1771350300-1771353900@kelvernceltic.ca
SUMMARY:Kelowna Scottish Country Dancers - Foundation Class
DESCRIPTION:Kelowna Scottish Country Dancers will dance to the end of April\, 2026.  Our General\nClass runs from 7pm to 9pm every Tuesday.  Our Foundation Class runs\nfrom 5:45 pm until 6:45 pm every Tuesday.
URL:https://kelvernceltic.ca/event/kelowna-scottish-country-dancers-foundation-class/2026-02-17/
LOCATION:Central Okanagan United Church\, 721 Bernard Ave\, Kelowna\, British Columbia\, Canada
CATEGORIES:Scottish Country Dance,Social
ATTACH;FMTTYPE=image/jpeg:https://kelvernceltic.ca/wp-content/uploads/2026/01/Kelowna-Scottish-Country-Dancers.jpg
END:VEVENT
BEGIN:VEVENT
DTSTART;TZID=America/Vancouver:20260210T190000
DTEND;TZID=America/Vancouver:20260210T210000
DTSTAMP:20260420T090624
CREATED:20260202T214148Z
LAST-MODIFIED:20260202T214414Z
UID:10005499-1770750000-1770757200@kelvernceltic.ca
SUMMARY:Vernon Scottish Country Dance Class
DESCRIPTION:WHERE? KNOX PRESBYTERIAN CHURCH HALL (3701 -32ND AVE)\nWHEN? TUESDAY evenings at 7:00 PM\nMore info? Phone Ruth: 250-5454-2626
URL:https://kelvernceltic.ca/event/vernon-scottish-country-dance-class-2-2-2/2026-02-10/
LOCATION:KNOX Presbyterian Church Hall\, 3701 -32ND AVE\, Vernon\, BC\, V1T 2N2\, Canada
CATEGORIES:Scottish Country Dance
ATTACH;FMTTYPE=image/jpeg:https://kelvernceltic.ca/wp-content/uploads/2023/10/Vernon-dance-class.jpg
ORGANIZER;CN="Vernon Scottish Country Dancers":MAILTO:vernonscd@gmail.com
END:VEVENT
BEGIN:VEVENT
DTSTART;TZID=America/Vancouver:20260210T174500
DTEND;TZID=America/Vancouver:20260210T184500
DTSTAMP:20260420T090624
CREATED:20260114T070216Z
LAST-MODIFIED:20260119T002346Z
UID:10005366-1770745500-1770749100@kelvernceltic.ca
SUMMARY:Kelowna Scottish Country Dancers - Foundation Class
DESCRIPTION:Kelowna Scottish Country Dancers will dance to the end of April\, 2026.  Our General\nClass runs from 7pm to 9pm every Tuesday.  Our Foundation Class runs\nfrom 5:45 pm until 6:45 pm every Tuesday.
URL:https://kelvernceltic.ca/event/kelowna-scottish-country-dancers-foundation-class/2026-02-10/
LOCATION:Central Okanagan United Church\, 721 Bernard Ave\, Kelowna\, British Columbia\, Canada
CATEGORIES:Scottish Country Dance,Social
ATTACH;FMTTYPE=image/jpeg:https://kelvernceltic.ca/wp-content/uploads/2026/01/Kelowna-Scottish-Country-Dancers.jpg
END:VEVENT
BEGIN:VEVENT
DTSTART;TZID=America/Vancouver:20260203T190000
DTEND;TZID=America/Vancouver:20260203T210000
DTSTAMP:20260420T090624
CREATED:20260202T214148Z
LAST-MODIFIED:20260202T214414Z
UID:10005289-1770145200-1770152400@kelvernceltic.ca
SUMMARY:Vernon Scottish Country Dance Class
DESCRIPTION:WHERE? KNOX PRESBYTERIAN CHURCH HALL (3701 -32ND AVE)\nWHEN? TUESDAY evenings at 7:00 PM\nMore info? Phone Ruth: 250-5454-2626
URL:https://kelvernceltic.ca/event/vernon-scottish-country-dance-class-2-2-2/2026-02-03/
LOCATION:KNOX Presbyterian Church Hall\, 3701 -32ND AVE\, Vernon\, BC\, V1T 2N2\, Canada
CATEGORIES:Scottish Country Dance
ATTACH;FMTTYPE=image/jpeg:https://kelvernceltic.ca/wp-content/uploads/2023/10/Vernon-dance-class.jpg
ORGANIZER;CN="Vernon Scottish Country Dancers":MAILTO:vernonscd@gmail.com
END:VEVENT
BEGIN:VEVENT
DTSTART;TZID=America/Vancouver:20260203T174500
DTEND;TZID=America/Vancouver:20260203T184500
DTSTAMP:20260420T090624
CREATED:20260114T070216Z
LAST-MODIFIED:20260119T002346Z
UID:10005365-1770140700-1770144300@kelvernceltic.ca
SUMMARY:Kelowna Scottish Country Dancers - Foundation Class
DESCRIPTION:Kelowna Scottish Country Dancers will dance to the end of April\, 2026.  Our General\nClass runs from 7pm to 9pm every Tuesday.  Our Foundation Class runs\nfrom 5:45 pm until 6:45 pm every Tuesday.
URL:https://kelvernceltic.ca/event/kelowna-scottish-country-dancers-foundation-class/2026-02-03/
LOCATION:Central Okanagan United Church\, 721 Bernard Ave\, Kelowna\, British Columbia\, Canada
CATEGORIES:Scottish Country Dance,Social
ATTACH;FMTTYPE=image/jpeg:https://kelvernceltic.ca/wp-content/uploads/2026/01/Kelowna-Scottish-Country-Dancers.jpg
END:VEVENT
BEGIN:VEVENT
DTSTART;TZID=America/Vancouver:20260127T174500
DTEND;TZID=America/Vancouver:20260127T184500
DTSTAMP:20260420T090624
CREATED:20260114T070216Z
LAST-MODIFIED:20260119T002346Z
UID:10005364-1769535900-1769539500@kelvernceltic.ca
SUMMARY:Kelowna Scottish Country Dancers - Foundation Class
DESCRIPTION:Kelowna Scottish Country Dancers will dance to the end of April\, 2026.  Our General\nClass runs from 7pm to 9pm every Tuesday.  Our Foundation Class runs\nfrom 5:45 pm until 6:45 pm every Tuesday.
URL:https://kelvernceltic.ca/event/kelowna-scottish-country-dancers-foundation-class/2026-01-27/
LOCATION:Central Okanagan United Church\, 721 Bernard Ave\, Kelowna\, British Columbia\, Canada
CATEGORIES:Scottish Country Dance,Social
ATTACH;FMTTYPE=image/jpeg:https://kelvernceltic.ca/wp-content/uploads/2026/01/Kelowna-Scottish-Country-Dancers.jpg
END:VEVENT
BEGIN:VEVENT
DTSTART;TZID=America/Vancouver:20260120T174500
DTEND;TZID=America/Vancouver:20260120T184500
DTSTAMP:20260420T090624
CREATED:20260114T070216Z
LAST-MODIFIED:20260119T002346Z
UID:10005363-1768931100-1768934700@kelvernceltic.ca
SUMMARY:Kelowna Scottish Country Dancers - Foundation Class
DESCRIPTION:Kelowna Scottish Country Dancers will dance to the end of April\, 2026.  Our General\nClass runs from 7pm to 9pm every Tuesday.  Our Foundation Class runs\nfrom 5:45 pm until 6:45 pm every Tuesday.
URL:https://kelvernceltic.ca/event/kelowna-scottish-country-dancers-foundation-class/2026-01-20/
LOCATION:Central Okanagan United Church\, 721 Bernard Ave\, Kelowna\, British Columbia\, Canada
CATEGORIES:Scottish Country Dance,Social
ATTACH;FMTTYPE=image/jpeg:https://kelvernceltic.ca/wp-content/uploads/2026/01/Kelowna-Scottish-Country-Dancers.jpg
END:VEVENT
BEGIN:VEVENT
DTSTART;TZID=America/Vancouver:20260113T174500
DTEND;TZID=America/Vancouver:20260113T184500
DTSTAMP:20260420T090624
CREATED:20260114T070216Z
LAST-MODIFIED:20260119T002346Z
UID:10005359-1768326300-1768329900@kelvernceltic.ca
SUMMARY:Kelowna Scottish Country Dancers - Foundation Class
DESCRIPTION:Kelowna Scottish Country Dancers will dance to the end of April\, 2026.  Our General\nClass runs from 7pm to 9pm every Tuesday.  Our Foundation Class runs\nfrom 5:45 pm until 6:45 pm every Tuesday.
URL:https://kelvernceltic.ca/event/kelowna-scottish-country-dancers-foundation-class/2026-01-13/
LOCATION:Central Okanagan United Church\, 721 Bernard Ave\, Kelowna\, British Columbia\, Canada
CATEGORIES:Scottish Country Dance,Social
ATTACH;FMTTYPE=image/jpeg:https://kelvernceltic.ca/wp-content/uploads/2026/01/Kelowna-Scottish-Country-Dancers.jpg
END:VEVENT
BEGIN:VEVENT
DTSTART;TZID=America/Vancouver:20251209T190000
DTEND;TZID=America/Vancouver:20251209T210000
DTSTAMP:20260420T090624
CREATED:20250721T183145Z
LAST-MODIFIED:20250721T183145Z
UID:10005288-1765306800-1765314000@kelvernceltic.ca
SUMMARY:Vernon Scottish Country Dance Class
DESCRIPTION:WHERE? KNOX PRESBYTERIAN CHURCH HALL (3701 -32ND AVE)\nWHEN? TUESDAY evenings at 7:00 PM\nMore info? Phone Ruth: 250-5454-2626
URL:https://kelvernceltic.ca/event/vernon-scottish-country-dance-class-2-2/2025-12-09/
LOCATION:KNOX Presbyterian Church Hall\, 3701 -32ND AVE\, Vernon\, BC\, V1T 2N2\, Canada
CATEGORIES:Scottish Country Dance
ATTACH;FMTTYPE=image/jpeg:https://kelvernceltic.ca/wp-content/uploads/2023/10/Vernon-dance-class.jpg
ORGANIZER;CN="Vernon Scottish Country Dancers":MAILTO:vernonscd@gmail.com
END:VEVENT
BEGIN:VEVENT
DTSTART;TZID=America/Vancouver:20251202T190000
DTEND;TZID=America/Vancouver:20251202T210000
DTSTAMP:20260420T090624
CREATED:20250721T183145Z
LAST-MODIFIED:20250721T183145Z
UID:10005287-1764702000-1764709200@kelvernceltic.ca
SUMMARY:Vernon Scottish Country Dance Class
DESCRIPTION:WHERE? KNOX PRESBYTERIAN CHURCH HALL (3701 -32ND AVE)\nWHEN? TUESDAY evenings at 7:00 PM\nMore info? Phone Ruth: 250-5454-2626
URL:https://kelvernceltic.ca/event/vernon-scottish-country-dance-class-2-2/2025-12-02/
LOCATION:KNOX Presbyterian Church Hall\, 3701 -32ND AVE\, Vernon\, BC\, V1T 2N2\, Canada
CATEGORIES:Scottish Country Dance
ATTACH;FMTTYPE=image/jpeg:https://kelvernceltic.ca/wp-content/uploads/2023/10/Vernon-dance-class.jpg
ORGANIZER;CN="Vernon Scottish Country Dancers":MAILTO:vernonscd@gmail.com
END:VEVENT
BEGIN:VEVENT
DTSTART;TZID=America/Vancouver:20251125T190000
DTEND;TZID=America/Vancouver:20251125T210000
DTSTAMP:20260420T090624
CREATED:20250721T183145Z
LAST-MODIFIED:20250721T183145Z
UID:10005286-1764097200-1764104400@kelvernceltic.ca
SUMMARY:Vernon Scottish Country Dance Class
DESCRIPTION:WHERE? KNOX PRESBYTERIAN CHURCH HALL (3701 -32ND AVE)\nWHEN? TUESDAY evenings at 7:00 PM\nMore info? Phone Ruth: 250-5454-2626
URL:https://kelvernceltic.ca/event/vernon-scottish-country-dance-class-2-2/2025-11-25/
LOCATION:KNOX Presbyterian Church Hall\, 3701 -32ND AVE\, Vernon\, BC\, V1T 2N2\, Canada
CATEGORIES:Scottish Country Dance
ATTACH;FMTTYPE=image/jpeg:https://kelvernceltic.ca/wp-content/uploads/2023/10/Vernon-dance-class.jpg
ORGANIZER;CN="Vernon Scottish Country Dancers":MAILTO:vernonscd@gmail.com
END:VEVENT
BEGIN:VEVENT
DTSTART;TZID=America/Vancouver:20251118T190000
DTEND;TZID=America/Vancouver:20251118T210000
DTSTAMP:20260420T090624
CREATED:20250721T183145Z
LAST-MODIFIED:20250721T183145Z
UID:10005285-1763492400-1763499600@kelvernceltic.ca
SUMMARY:Vernon Scottish Country Dance Class
DESCRIPTION:WHERE? KNOX PRESBYTERIAN CHURCH HALL (3701 -32ND AVE)\nWHEN? TUESDAY evenings at 7:00 PM\nMore info? Phone Ruth: 250-5454-2626
URL:https://kelvernceltic.ca/event/vernon-scottish-country-dance-class-2-2/2025-11-18/
LOCATION:KNOX Presbyterian Church Hall\, 3701 -32ND AVE\, Vernon\, BC\, V1T 2N2\, Canada
CATEGORIES:Scottish Country Dance
ATTACH;FMTTYPE=image/jpeg:https://kelvernceltic.ca/wp-content/uploads/2023/10/Vernon-dance-class.jpg
ORGANIZER;CN="Vernon Scottish Country Dancers":MAILTO:vernonscd@gmail.com
END:VEVENT
BEGIN:VEVENT
DTSTART;TZID=America/Vancouver:20251111T190000
DTEND;TZID=America/Vancouver:20251111T210000
DTSTAMP:20260420T090624
CREATED:20250721T183145Z
LAST-MODIFIED:20250721T183145Z
UID:10005284-1762887600-1762894800@kelvernceltic.ca
SUMMARY:Vernon Scottish Country Dance Class
DESCRIPTION:WHERE? KNOX PRESBYTERIAN CHURCH HALL (3701 -32ND AVE)\nWHEN? TUESDAY evenings at 7:00 PM\nMore info? Phone Ruth: 250-5454-2626
URL:https://kelvernceltic.ca/event/vernon-scottish-country-dance-class-2-2/2025-11-11/
LOCATION:KNOX Presbyterian Church Hall\, 3701 -32ND AVE\, Vernon\, BC\, V1T 2N2\, Canada
CATEGORIES:Scottish Country Dance
ATTACH;FMTTYPE=image/jpeg:https://kelvernceltic.ca/wp-content/uploads/2023/10/Vernon-dance-class.jpg
ORGANIZER;CN="Vernon Scottish Country Dancers":MAILTO:vernonscd@gmail.com
END:VEVENT
END:VCALENDAR