BEGIN:VCALENDAR
VERSION:2.0
PRODID:-//Kelvern Celtic Society - ECPv6.15.20//NONSGML v1.0//EN
CALSCALE:GREGORIAN
METHOD:PUBLISH
X-ORIGINAL-URL:https://kelvernceltic.ca
X-WR-CALDESC:Events for Kelvern Celtic Society
REFRESH-INTERVAL;VALUE=DURATION:PT1H
X-Robots-Tag:noindex
X-PUBLISHED-TTL:PT1H
BEGIN:VTIMEZONE
TZID:America/Vancouver
BEGIN:DAYLIGHT
TZOFFSETFROM:-0800
TZOFFSETTO:-0700
TZNAME:PDT
DTSTART:20260308T100000
END:DAYLIGHT
BEGIN:STANDARD
TZOFFSETFROM:-0700
TZOFFSETTO:-0800
TZNAME:PST
DTSTART:20261101T090000
END:STANDARD
BEGIN:DAYLIGHT
TZOFFSETFROM:-0800
TZOFFSETTO:-0700
TZNAME:PDT
DTSTART:20270314T100000
END:DAYLIGHT
BEGIN:STANDARD
TZOFFSETFROM:-0700
TZOFFSETTO:-0800
TZNAME:PST
DTSTART:20271107T090000
END:STANDARD
BEGIN:DAYLIGHT
TZOFFSETFROM:-0800
TZOFFSETTO:-0700
TZNAME:PDT
DTSTART:20280312T100000
END:DAYLIGHT
BEGIN:STANDARD
TZOFFSETFROM:-0700
TZOFFSETTO:-0800
TZNAME:PST
DTSTART:20281105T090000
END:STANDARD
END:VTIMEZONE
BEGIN:VEVENT
DTSTART;TZID=America/Vancouver:20270209T174500
DTEND;TZID=America/Vancouver:20270209T184500
DTSTAMP:20260420T150020
CREATED:20260114T070216Z
LAST-MODIFIED:20260119T002346Z
UID:10005418-1802195100-1802198700@kelvernceltic.ca
SUMMARY:Kelowna Scottish Country Dancers - Foundation Class
DESCRIPTION:Kelowna Scottish Country Dancers will dance to the end of April\, 2026.  Our General\nClass runs from 7pm to 9pm every Tuesday.  Our Foundation Class runs\nfrom 5:45 pm until 6:45 pm every Tuesday.
URL:https://kelvernceltic.ca/event/kelowna-scottish-country-dancers-foundation-class/2027-02-09/
LOCATION:Central Okanagan United Church\, 721 Bernard Ave\, Kelowna\, British Columbia\, Canada
CATEGORIES:Scottish Country Dance,Social
ATTACH;FMTTYPE=image/jpeg:https://kelvernceltic.ca/wp-content/uploads/2026/01/Kelowna-Scottish-Country-Dancers.jpg
END:VEVENT
BEGIN:VEVENT
DTSTART;TZID=America/Vancouver:20270209T190000
DTEND;TZID=America/Vancouver:20270209T210000
DTSTAMP:20260420T150020
CREATED:20260202T214148Z
LAST-MODIFIED:20260202T214414Z
UID:10005551-1802199600-1802206800@kelvernceltic.ca
SUMMARY:Vernon Scottish Country Dance Class
DESCRIPTION:WHERE? KNOX PRESBYTERIAN CHURCH HALL (3701 -32ND AVE)\nWHEN? TUESDAY evenings at 7:00 PM\nMore info? Phone Ruth: 250-5454-2626
URL:https://kelvernceltic.ca/event/vernon-scottish-country-dance-class-2-2-2/2027-02-09/
LOCATION:KNOX Presbyterian Church Hall\, 3701 -32ND AVE\, Vernon\, BC\, V1T 2N2\, Canada
CATEGORIES:Scottish Country Dance
ATTACH;FMTTYPE=image/jpeg:https://kelvernceltic.ca/wp-content/uploads/2023/10/Vernon-dance-class.jpg
ORGANIZER;CN="Vernon Scottish Country Dancers":MAILTO:vernonscd@gmail.com
END:VEVENT
BEGIN:VEVENT
DTSTART;TZID=America/Vancouver:20270216T174500
DTEND;TZID=America/Vancouver:20270216T184500
DTSTAMP:20260420T150020
CREATED:20260114T070216Z
LAST-MODIFIED:20260119T002346Z
UID:10005419-1802799900-1802803500@kelvernceltic.ca
SUMMARY:Kelowna Scottish Country Dancers - Foundation Class
DESCRIPTION:Kelowna Scottish Country Dancers will dance to the end of April\, 2026.  Our General\nClass runs from 7pm to 9pm every Tuesday.  Our Foundation Class runs\nfrom 5:45 pm until 6:45 pm every Tuesday.
URL:https://kelvernceltic.ca/event/kelowna-scottish-country-dancers-foundation-class/2027-02-16/
LOCATION:Central Okanagan United Church\, 721 Bernard Ave\, Kelowna\, British Columbia\, Canada
CATEGORIES:Scottish Country Dance,Social
ATTACH;FMTTYPE=image/jpeg:https://kelvernceltic.ca/wp-content/uploads/2026/01/Kelowna-Scottish-Country-Dancers.jpg
END:VEVENT
BEGIN:VEVENT
DTSTART;TZID=America/Vancouver:20270216T190000
DTEND;TZID=America/Vancouver:20270216T210000
DTSTAMP:20260420T150020
CREATED:20260202T214148Z
LAST-MODIFIED:20260202T214414Z
UID:10005552-1802804400-1802811600@kelvernceltic.ca
SUMMARY:Vernon Scottish Country Dance Class
DESCRIPTION:WHERE? KNOX PRESBYTERIAN CHURCH HALL (3701 -32ND AVE)\nWHEN? TUESDAY evenings at 7:00 PM\nMore info? Phone Ruth: 250-5454-2626
URL:https://kelvernceltic.ca/event/vernon-scottish-country-dance-class-2-2-2/2027-02-16/
LOCATION:KNOX Presbyterian Church Hall\, 3701 -32ND AVE\, Vernon\, BC\, V1T 2N2\, Canada
CATEGORIES:Scottish Country Dance
ATTACH;FMTTYPE=image/jpeg:https://kelvernceltic.ca/wp-content/uploads/2023/10/Vernon-dance-class.jpg
ORGANIZER;CN="Vernon Scottish Country Dancers":MAILTO:vernonscd@gmail.com
END:VEVENT
BEGIN:VEVENT
DTSTART;TZID=America/Vancouver:20270223T174500
DTEND;TZID=America/Vancouver:20270223T184500
DTSTAMP:20260420T150020
CREATED:20260114T070216Z
LAST-MODIFIED:20260119T002346Z
UID:10005420-1803404700-1803408300@kelvernceltic.ca
SUMMARY:Kelowna Scottish Country Dancers - Foundation Class
DESCRIPTION:Kelowna Scottish Country Dancers will dance to the end of April\, 2026.  Our General\nClass runs from 7pm to 9pm every Tuesday.  Our Foundation Class runs\nfrom 5:45 pm until 6:45 pm every Tuesday.
URL:https://kelvernceltic.ca/event/kelowna-scottish-country-dancers-foundation-class/2027-02-23/
LOCATION:Central Okanagan United Church\, 721 Bernard Ave\, Kelowna\, British Columbia\, Canada
CATEGORIES:Scottish Country Dance,Social
ATTACH;FMTTYPE=image/jpeg:https://kelvernceltic.ca/wp-content/uploads/2026/01/Kelowna-Scottish-Country-Dancers.jpg
END:VEVENT
BEGIN:VEVENT
DTSTART;TZID=America/Vancouver:20270223T190000
DTEND;TZID=America/Vancouver:20270223T210000
DTSTAMP:20260420T150020
CREATED:20260202T214148Z
LAST-MODIFIED:20260202T214414Z
UID:10005553-1803409200-1803416400@kelvernceltic.ca
SUMMARY:Vernon Scottish Country Dance Class
DESCRIPTION:WHERE? KNOX PRESBYTERIAN CHURCH HALL (3701 -32ND AVE)\nWHEN? TUESDAY evenings at 7:00 PM\nMore info? Phone Ruth: 250-5454-2626
URL:https://kelvernceltic.ca/event/vernon-scottish-country-dance-class-2-2-2/2027-02-23/
LOCATION:KNOX Presbyterian Church Hall\, 3701 -32ND AVE\, Vernon\, BC\, V1T 2N2\, Canada
CATEGORIES:Scottish Country Dance
ATTACH;FMTTYPE=image/jpeg:https://kelvernceltic.ca/wp-content/uploads/2023/10/Vernon-dance-class.jpg
ORGANIZER;CN="Vernon Scottish Country Dancers":MAILTO:vernonscd@gmail.com
END:VEVENT
BEGIN:VEVENT
DTSTART;TZID=America/Vancouver:20270302T174500
DTEND;TZID=America/Vancouver:20270302T184500
DTSTAMP:20260420T150020
CREATED:20260114T070216Z
LAST-MODIFIED:20260119T002346Z
UID:10005421-1804009500-1804013100@kelvernceltic.ca
SUMMARY:Kelowna Scottish Country Dancers - Foundation Class
DESCRIPTION:Kelowna Scottish Country Dancers will dance to the end of April\, 2026.  Our General\nClass runs from 7pm to 9pm every Tuesday.  Our Foundation Class runs\nfrom 5:45 pm until 6:45 pm every Tuesday.
URL:https://kelvernceltic.ca/event/kelowna-scottish-country-dancers-foundation-class/2027-03-02/
LOCATION:Central Okanagan United Church\, 721 Bernard Ave\, Kelowna\, British Columbia\, Canada
CATEGORIES:Scottish Country Dance,Social
ATTACH;FMTTYPE=image/jpeg:https://kelvernceltic.ca/wp-content/uploads/2026/01/Kelowna-Scottish-Country-Dancers.jpg
END:VEVENT
BEGIN:VEVENT
DTSTART;TZID=America/Vancouver:20270302T190000
DTEND;TZID=America/Vancouver:20270302T210000
DTSTAMP:20260420T150020
CREATED:20260202T214148Z
LAST-MODIFIED:20260202T214414Z
UID:10005554-1804014000-1804021200@kelvernceltic.ca
SUMMARY:Vernon Scottish Country Dance Class
DESCRIPTION:WHERE? KNOX PRESBYTERIAN CHURCH HALL (3701 -32ND AVE)\nWHEN? TUESDAY evenings at 7:00 PM\nMore info? Phone Ruth: 250-5454-2626
URL:https://kelvernceltic.ca/event/vernon-scottish-country-dance-class-2-2-2/2027-03-02/
LOCATION:KNOX Presbyterian Church Hall\, 3701 -32ND AVE\, Vernon\, BC\, V1T 2N2\, Canada
CATEGORIES:Scottish Country Dance
ATTACH;FMTTYPE=image/jpeg:https://kelvernceltic.ca/wp-content/uploads/2023/10/Vernon-dance-class.jpg
ORGANIZER;CN="Vernon Scottish Country Dancers":MAILTO:vernonscd@gmail.com
END:VEVENT
BEGIN:VEVENT
DTSTART;TZID=America/Vancouver:20270309T174500
DTEND;TZID=America/Vancouver:20270309T184500
DTSTAMP:20260420T150020
CREATED:20260114T070216Z
LAST-MODIFIED:20260119T002346Z
UID:10005422-1804614300-1804617900@kelvernceltic.ca
SUMMARY:Kelowna Scottish Country Dancers - Foundation Class
DESCRIPTION:Kelowna Scottish Country Dancers will dance to the end of April\, 2026.  Our General\nClass runs from 7pm to 9pm every Tuesday.  Our Foundation Class runs\nfrom 5:45 pm until 6:45 pm every Tuesday.
URL:https://kelvernceltic.ca/event/kelowna-scottish-country-dancers-foundation-class/2027-03-09/
LOCATION:Central Okanagan United Church\, 721 Bernard Ave\, Kelowna\, British Columbia\, Canada
CATEGORIES:Scottish Country Dance,Social
ATTACH;FMTTYPE=image/jpeg:https://kelvernceltic.ca/wp-content/uploads/2026/01/Kelowna-Scottish-Country-Dancers.jpg
END:VEVENT
BEGIN:VEVENT
DTSTART;TZID=America/Vancouver:20270309T190000
DTEND;TZID=America/Vancouver:20270309T210000
DTSTAMP:20260420T150020
CREATED:20260202T214148Z
LAST-MODIFIED:20260202T214414Z
UID:10005555-1804618800-1804626000@kelvernceltic.ca
SUMMARY:Vernon Scottish Country Dance Class
DESCRIPTION:WHERE? KNOX PRESBYTERIAN CHURCH HALL (3701 -32ND AVE)\nWHEN? TUESDAY evenings at 7:00 PM\nMore info? Phone Ruth: 250-5454-2626
URL:https://kelvernceltic.ca/event/vernon-scottish-country-dance-class-2-2-2/2027-03-09/
LOCATION:KNOX Presbyterian Church Hall\, 3701 -32ND AVE\, Vernon\, BC\, V1T 2N2\, Canada
CATEGORIES:Scottish Country Dance
ATTACH;FMTTYPE=image/jpeg:https://kelvernceltic.ca/wp-content/uploads/2023/10/Vernon-dance-class.jpg
ORGANIZER;CN="Vernon Scottish Country Dancers":MAILTO:vernonscd@gmail.com
END:VEVENT
BEGIN:VEVENT
DTSTART;TZID=America/Vancouver:20270316T174500
DTEND;TZID=America/Vancouver:20270316T184500
DTSTAMP:20260420T150020
CREATED:20260114T070216Z
LAST-MODIFIED:20260119T002346Z
UID:10005423-1805219100-1805222700@kelvernceltic.ca
SUMMARY:Kelowna Scottish Country Dancers - Foundation Class
DESCRIPTION:Kelowna Scottish Country Dancers will dance to the end of April\, 2026.  Our General\nClass runs from 7pm to 9pm every Tuesday.  Our Foundation Class runs\nfrom 5:45 pm until 6:45 pm every Tuesday.
URL:https://kelvernceltic.ca/event/kelowna-scottish-country-dancers-foundation-class/2027-03-16/
LOCATION:Central Okanagan United Church\, 721 Bernard Ave\, Kelowna\, British Columbia\, Canada
CATEGORIES:Scottish Country Dance,Social
ATTACH;FMTTYPE=image/jpeg:https://kelvernceltic.ca/wp-content/uploads/2026/01/Kelowna-Scottish-Country-Dancers.jpg
END:VEVENT
BEGIN:VEVENT
DTSTART;TZID=America/Vancouver:20270316T190000
DTEND;TZID=America/Vancouver:20270316T210000
DTSTAMP:20260420T150020
CREATED:20260202T214148Z
LAST-MODIFIED:20260202T214414Z
UID:10005556-1805223600-1805230800@kelvernceltic.ca
SUMMARY:Vernon Scottish Country Dance Class
DESCRIPTION:WHERE? KNOX PRESBYTERIAN CHURCH HALL (3701 -32ND AVE)\nWHEN? TUESDAY evenings at 7:00 PM\nMore info? Phone Ruth: 250-5454-2626
URL:https://kelvernceltic.ca/event/vernon-scottish-country-dance-class-2-2-2/2027-03-16/
LOCATION:KNOX Presbyterian Church Hall\, 3701 -32ND AVE\, Vernon\, BC\, V1T 2N2\, Canada
CATEGORIES:Scottish Country Dance
ATTACH;FMTTYPE=image/jpeg:https://kelvernceltic.ca/wp-content/uploads/2023/10/Vernon-dance-class.jpg
ORGANIZER;CN="Vernon Scottish Country Dancers":MAILTO:vernonscd@gmail.com
END:VEVENT
BEGIN:VEVENT
DTSTART;TZID=America/Vancouver:20270323T174500
DTEND;TZID=America/Vancouver:20270323T184500
DTSTAMP:20260420T150020
CREATED:20260114T070216Z
LAST-MODIFIED:20260119T002346Z
UID:10005424-1805823900-1805827500@kelvernceltic.ca
SUMMARY:Kelowna Scottish Country Dancers - Foundation Class
DESCRIPTION:Kelowna Scottish Country Dancers will dance to the end of April\, 2026.  Our General\nClass runs from 7pm to 9pm every Tuesday.  Our Foundation Class runs\nfrom 5:45 pm until 6:45 pm every Tuesday.
URL:https://kelvernceltic.ca/event/kelowna-scottish-country-dancers-foundation-class/2027-03-23/
LOCATION:Central Okanagan United Church\, 721 Bernard Ave\, Kelowna\, British Columbia\, Canada
CATEGORIES:Scottish Country Dance,Social
ATTACH;FMTTYPE=image/jpeg:https://kelvernceltic.ca/wp-content/uploads/2026/01/Kelowna-Scottish-Country-Dancers.jpg
END:VEVENT
BEGIN:VEVENT
DTSTART;TZID=America/Vancouver:20270323T190000
DTEND;TZID=America/Vancouver:20270323T210000
DTSTAMP:20260420T150020
CREATED:20260202T214148Z
LAST-MODIFIED:20260202T214414Z
UID:10005557-1805828400-1805835600@kelvernceltic.ca
SUMMARY:Vernon Scottish Country Dance Class
DESCRIPTION:WHERE? KNOX PRESBYTERIAN CHURCH HALL (3701 -32ND AVE)\nWHEN? TUESDAY evenings at 7:00 PM\nMore info? Phone Ruth: 250-5454-2626
URL:https://kelvernceltic.ca/event/vernon-scottish-country-dance-class-2-2-2/2027-03-23/
LOCATION:KNOX Presbyterian Church Hall\, 3701 -32ND AVE\, Vernon\, BC\, V1T 2N2\, Canada
CATEGORIES:Scottish Country Dance
ATTACH;FMTTYPE=image/jpeg:https://kelvernceltic.ca/wp-content/uploads/2023/10/Vernon-dance-class.jpg
ORGANIZER;CN="Vernon Scottish Country Dancers":MAILTO:vernonscd@gmail.com
END:VEVENT
BEGIN:VEVENT
DTSTART;TZID=America/Vancouver:20270330T174500
DTEND;TZID=America/Vancouver:20270330T184500
DTSTAMP:20260420T150020
CREATED:20260114T070216Z
LAST-MODIFIED:20260119T002346Z
UID:10005425-1806428700-1806432300@kelvernceltic.ca
SUMMARY:Kelowna Scottish Country Dancers - Foundation Class
DESCRIPTION:Kelowna Scottish Country Dancers will dance to the end of April\, 2026.  Our General\nClass runs from 7pm to 9pm every Tuesday.  Our Foundation Class runs\nfrom 5:45 pm until 6:45 pm every Tuesday.
URL:https://kelvernceltic.ca/event/kelowna-scottish-country-dancers-foundation-class/2027-03-30/
LOCATION:Central Okanagan United Church\, 721 Bernard Ave\, Kelowna\, British Columbia\, Canada
CATEGORIES:Scottish Country Dance,Social
ATTACH;FMTTYPE=image/jpeg:https://kelvernceltic.ca/wp-content/uploads/2026/01/Kelowna-Scottish-Country-Dancers.jpg
END:VEVENT
BEGIN:VEVENT
DTSTART;TZID=America/Vancouver:20270330T190000
DTEND;TZID=America/Vancouver:20270330T210000
DTSTAMP:20260420T150020
CREATED:20260202T214148Z
LAST-MODIFIED:20260202T214414Z
UID:10005558-1806433200-1806440400@kelvernceltic.ca
SUMMARY:Vernon Scottish Country Dance Class
DESCRIPTION:WHERE? KNOX PRESBYTERIAN CHURCH HALL (3701 -32ND AVE)\nWHEN? TUESDAY evenings at 7:00 PM\nMore info? Phone Ruth: 250-5454-2626
URL:https://kelvernceltic.ca/event/vernon-scottish-country-dance-class-2-2-2/2027-03-30/
LOCATION:KNOX Presbyterian Church Hall\, 3701 -32ND AVE\, Vernon\, BC\, V1T 2N2\, Canada
CATEGORIES:Scottish Country Dance
ATTACH;FMTTYPE=image/jpeg:https://kelvernceltic.ca/wp-content/uploads/2023/10/Vernon-dance-class.jpg
ORGANIZER;CN="Vernon Scottish Country Dancers":MAILTO:vernonscd@gmail.com
END:VEVENT
BEGIN:VEVENT
DTSTART;TZID=America/Vancouver:20270406T174500
DTEND;TZID=America/Vancouver:20270406T184500
DTSTAMP:20260420T150020
CREATED:20260114T070216Z
LAST-MODIFIED:20260119T002346Z
UID:10005426-1807033500-1807037100@kelvernceltic.ca
SUMMARY:Kelowna Scottish Country Dancers - Foundation Class
DESCRIPTION:Kelowna Scottish Country Dancers will dance to the end of April\, 2026.  Our General\nClass runs from 7pm to 9pm every Tuesday.  Our Foundation Class runs\nfrom 5:45 pm until 6:45 pm every Tuesday.
URL:https://kelvernceltic.ca/event/kelowna-scottish-country-dancers-foundation-class/2027-04-06/
LOCATION:Central Okanagan United Church\, 721 Bernard Ave\, Kelowna\, British Columbia\, Canada
CATEGORIES:Scottish Country Dance,Social
ATTACH;FMTTYPE=image/jpeg:https://kelvernceltic.ca/wp-content/uploads/2026/01/Kelowna-Scottish-Country-Dancers.jpg
END:VEVENT
BEGIN:VEVENT
DTSTART;TZID=America/Vancouver:20270406T190000
DTEND;TZID=America/Vancouver:20270406T210000
DTSTAMP:20260420T150020
CREATED:20260202T214148Z
LAST-MODIFIED:20260202T214414Z
UID:10005559-1807038000-1807045200@kelvernceltic.ca
SUMMARY:Vernon Scottish Country Dance Class
DESCRIPTION:WHERE? KNOX PRESBYTERIAN CHURCH HALL (3701 -32ND AVE)\nWHEN? TUESDAY evenings at 7:00 PM\nMore info? Phone Ruth: 250-5454-2626
URL:https://kelvernceltic.ca/event/vernon-scottish-country-dance-class-2-2-2/2027-04-06/
LOCATION:KNOX Presbyterian Church Hall\, 3701 -32ND AVE\, Vernon\, BC\, V1T 2N2\, Canada
CATEGORIES:Scottish Country Dance
ATTACH;FMTTYPE=image/jpeg:https://kelvernceltic.ca/wp-content/uploads/2023/10/Vernon-dance-class.jpg
ORGANIZER;CN="Vernon Scottish Country Dancers":MAILTO:vernonscd@gmail.com
END:VEVENT
BEGIN:VEVENT
DTSTART;TZID=America/Vancouver:20270413T174500
DTEND;TZID=America/Vancouver:20270413T184500
DTSTAMP:20260420T150020
CREATED:20260114T070216Z
LAST-MODIFIED:20260119T002346Z
UID:10005427-1807638300-1807641900@kelvernceltic.ca
SUMMARY:Kelowna Scottish Country Dancers - Foundation Class
DESCRIPTION:Kelowna Scottish Country Dancers will dance to the end of April\, 2026.  Our General\nClass runs from 7pm to 9pm every Tuesday.  Our Foundation Class runs\nfrom 5:45 pm until 6:45 pm every Tuesday.
URL:https://kelvernceltic.ca/event/kelowna-scottish-country-dancers-foundation-class/2027-04-13/
LOCATION:Central Okanagan United Church\, 721 Bernard Ave\, Kelowna\, British Columbia\, Canada
CATEGORIES:Scottish Country Dance,Social
ATTACH;FMTTYPE=image/jpeg:https://kelvernceltic.ca/wp-content/uploads/2026/01/Kelowna-Scottish-Country-Dancers.jpg
END:VEVENT
BEGIN:VEVENT
DTSTART;TZID=America/Vancouver:20270413T190000
DTEND;TZID=America/Vancouver:20270413T210000
DTSTAMP:20260420T150020
CREATED:20260202T214148Z
LAST-MODIFIED:20260202T214414Z
UID:10005560-1807642800-1807650000@kelvernceltic.ca
SUMMARY:Vernon Scottish Country Dance Class
DESCRIPTION:WHERE? KNOX PRESBYTERIAN CHURCH HALL (3701 -32ND AVE)\nWHEN? TUESDAY evenings at 7:00 PM\nMore info? Phone Ruth: 250-5454-2626
URL:https://kelvernceltic.ca/event/vernon-scottish-country-dance-class-2-2-2/2027-04-13/
LOCATION:KNOX Presbyterian Church Hall\, 3701 -32ND AVE\, Vernon\, BC\, V1T 2N2\, Canada
CATEGORIES:Scottish Country Dance
ATTACH;FMTTYPE=image/jpeg:https://kelvernceltic.ca/wp-content/uploads/2023/10/Vernon-dance-class.jpg
ORGANIZER;CN="Vernon Scottish Country Dancers":MAILTO:vernonscd@gmail.com
END:VEVENT
BEGIN:VEVENT
DTSTART;TZID=America/Vancouver:20270420T174500
DTEND;TZID=America/Vancouver:20270420T184500
DTSTAMP:20260420T150020
CREATED:20260114T070216Z
LAST-MODIFIED:20260119T002346Z
UID:10005428-1808243100-1808246700@kelvernceltic.ca
SUMMARY:Kelowna Scottish Country Dancers - Foundation Class
DESCRIPTION:Kelowna Scottish Country Dancers will dance to the end of April\, 2026.  Our General\nClass runs from 7pm to 9pm every Tuesday.  Our Foundation Class runs\nfrom 5:45 pm until 6:45 pm every Tuesday.
URL:https://kelvernceltic.ca/event/kelowna-scottish-country-dancers-foundation-class/2027-04-20/
LOCATION:Central Okanagan United Church\, 721 Bernard Ave\, Kelowna\, British Columbia\, Canada
CATEGORIES:Scottish Country Dance,Social
ATTACH;FMTTYPE=image/jpeg:https://kelvernceltic.ca/wp-content/uploads/2026/01/Kelowna-Scottish-Country-Dancers.jpg
END:VEVENT
BEGIN:VEVENT
DTSTART;TZID=America/Vancouver:20270427T174500
DTEND;TZID=America/Vancouver:20270427T184500
DTSTAMP:20260420T150020
CREATED:20260114T070216Z
LAST-MODIFIED:20260119T002346Z
UID:10005429-1808847900-1808851500@kelvernceltic.ca
SUMMARY:Kelowna Scottish Country Dancers - Foundation Class
DESCRIPTION:Kelowna Scottish Country Dancers will dance to the end of April\, 2026.  Our General\nClass runs from 7pm to 9pm every Tuesday.  Our Foundation Class runs\nfrom 5:45 pm until 6:45 pm every Tuesday.
URL:https://kelvernceltic.ca/event/kelowna-scottish-country-dancers-foundation-class/2027-04-27/
LOCATION:Central Okanagan United Church\, 721 Bernard Ave\, Kelowna\, British Columbia\, Canada
CATEGORIES:Scottish Country Dance,Social
ATTACH;FMTTYPE=image/jpeg:https://kelvernceltic.ca/wp-content/uploads/2026/01/Kelowna-Scottish-Country-Dancers.jpg
END:VEVENT
END:VCALENDAR