BEGIN:VCALENDAR
VERSION:2.0
PRODID:-//Kelvern Celtic Society - ECPv6.15.20//NONSGML v1.0//EN
CALSCALE:GREGORIAN
METHOD:PUBLISH
X-ORIGINAL-URL:https://kelvernceltic.ca
X-WR-CALDESC:Events for Kelvern Celtic Society
REFRESH-INTERVAL;VALUE=DURATION:PT1H
X-Robots-Tag:noindex
X-PUBLISHED-TTL:PT1H
BEGIN:VTIMEZONE
TZID:America/Vancouver
BEGIN:DAYLIGHT
TZOFFSETFROM:-0800
TZOFFSETTO:-0700
TZNAME:PDT
DTSTART:20250309T100000
END:DAYLIGHT
BEGIN:STANDARD
TZOFFSETFROM:-0700
TZOFFSETTO:-0800
TZNAME:PST
DTSTART:20251102T090000
END:STANDARD
BEGIN:DAYLIGHT
TZOFFSETFROM:-0800
TZOFFSETTO:-0700
TZNAME:PDT
DTSTART:20260308T100000
END:DAYLIGHT
BEGIN:STANDARD
TZOFFSETFROM:-0700
TZOFFSETTO:-0800
TZNAME:PST
DTSTART:20261101T090000
END:STANDARD
BEGIN:DAYLIGHT
TZOFFSETFROM:-0800
TZOFFSETTO:-0700
TZNAME:PDT
DTSTART:20270314T100000
END:DAYLIGHT
BEGIN:STANDARD
TZOFFSETFROM:-0700
TZOFFSETTO:-0800
TZNAME:PST
DTSTART:20271107T090000
END:STANDARD
END:VTIMEZONE
BEGIN:VEVENT
DTSTART;TZID=America/Vancouver:20260113T174500
DTEND;TZID=America/Vancouver:20260113T184500
DTSTAMP:20260420T121255
CREATED:20260114T070216Z
LAST-MODIFIED:20260119T002346Z
UID:10005359-1768326300-1768329900@kelvernceltic.ca
SUMMARY:Kelowna Scottish Country Dancers - Foundation Class
DESCRIPTION:Kelowna Scottish Country Dancers will dance to the end of April\, 2026.  Our General\nClass runs from 7pm to 9pm every Tuesday.  Our Foundation Class runs\nfrom 5:45 pm until 6:45 pm every Tuesday.
URL:https://kelvernceltic.ca/event/kelowna-scottish-country-dancers-foundation-class/2026-01-13/
LOCATION:Central Okanagan United Church\, 721 Bernard Ave\, Kelowna\, British Columbia\, Canada
CATEGORIES:Scottish Country Dance,Social
ATTACH;FMTTYPE=image/jpeg:https://kelvernceltic.ca/wp-content/uploads/2026/01/Kelowna-Scottish-Country-Dancers.jpg
END:VEVENT
BEGIN:VEVENT
DTSTART;TZID=America/Vancouver:20260120T174500
DTEND;TZID=America/Vancouver:20260120T184500
DTSTAMP:20260420T121255
CREATED:20260114T070216Z
LAST-MODIFIED:20260119T002346Z
UID:10005363-1768931100-1768934700@kelvernceltic.ca
SUMMARY:Kelowna Scottish Country Dancers - Foundation Class
DESCRIPTION:Kelowna Scottish Country Dancers will dance to the end of April\, 2026.  Our General\nClass runs from 7pm to 9pm every Tuesday.  Our Foundation Class runs\nfrom 5:45 pm until 6:45 pm every Tuesday.
URL:https://kelvernceltic.ca/event/kelowna-scottish-country-dancers-foundation-class/2026-01-20/
LOCATION:Central Okanagan United Church\, 721 Bernard Ave\, Kelowna\, British Columbia\, Canada
CATEGORIES:Scottish Country Dance,Social
ATTACH;FMTTYPE=image/jpeg:https://kelvernceltic.ca/wp-content/uploads/2026/01/Kelowna-Scottish-Country-Dancers.jpg
END:VEVENT
BEGIN:VEVENT
DTSTART;TZID=America/Vancouver:20260127T174500
DTEND;TZID=America/Vancouver:20260127T184500
DTSTAMP:20260420T121255
CREATED:20260114T070216Z
LAST-MODIFIED:20260119T002346Z
UID:10005364-1769535900-1769539500@kelvernceltic.ca
SUMMARY:Kelowna Scottish Country Dancers - Foundation Class
DESCRIPTION:Kelowna Scottish Country Dancers will dance to the end of April\, 2026.  Our General\nClass runs from 7pm to 9pm every Tuesday.  Our Foundation Class runs\nfrom 5:45 pm until 6:45 pm every Tuesday.
URL:https://kelvernceltic.ca/event/kelowna-scottish-country-dancers-foundation-class/2026-01-27/
LOCATION:Central Okanagan United Church\, 721 Bernard Ave\, Kelowna\, British Columbia\, Canada
CATEGORIES:Scottish Country Dance,Social
ATTACH;FMTTYPE=image/jpeg:https://kelvernceltic.ca/wp-content/uploads/2026/01/Kelowna-Scottish-Country-Dancers.jpg
END:VEVENT
END:VCALENDAR