BEGIN:VCALENDAR
VERSION:2.0
PRODID:-//Kelvern Celtic Society - ECPv6.15.20//NONSGML v1.0//EN
CALSCALE:GREGORIAN
METHOD:PUBLISH
X-ORIGINAL-URL:https://kelvernceltic.ca
X-WR-CALDESC:Events for Kelvern Celtic Society
REFRESH-INTERVAL;VALUE=DURATION:PT1H
X-Robots-Tag:noindex
X-PUBLISHED-TTL:PT1H
BEGIN:VTIMEZONE
TZID:America/Vancouver
BEGIN:DAYLIGHT
TZOFFSETFROM:-0800
TZOFFSETTO:-0700
TZNAME:PDT
DTSTART:20250309T100000
END:DAYLIGHT
BEGIN:STANDARD
TZOFFSETFROM:-0700
TZOFFSETTO:-0800
TZNAME:PST
DTSTART:20251102T090000
END:STANDARD
BEGIN:DAYLIGHT
TZOFFSETFROM:-0800
TZOFFSETTO:-0700
TZNAME:PDT
DTSTART:20260308T100000
END:DAYLIGHT
BEGIN:STANDARD
TZOFFSETFROM:-0700
TZOFFSETTO:-0800
TZNAME:PST
DTSTART:20261101T090000
END:STANDARD
BEGIN:DAYLIGHT
TZOFFSETFROM:-0800
TZOFFSETTO:-0700
TZNAME:PDT
DTSTART:20270314T100000
END:DAYLIGHT
BEGIN:STANDARD
TZOFFSETFROM:-0700
TZOFFSETTO:-0800
TZNAME:PST
DTSTART:20271107T090000
END:STANDARD
END:VTIMEZONE
BEGIN:VEVENT
DTSTART;VALUE=DATE:20261130
DTEND;VALUE=DATE:20261201
DTSTAMP:20260420T090623
CREATED:20200923T012952Z
LAST-MODIFIED:20221021T003643Z
UID:10004207-1795996800-1796083199@kelvernceltic.ca
SUMMARY:St. Andrews Day
DESCRIPTION:St Andrew has been celebrated in Scotland for over a thousand years\, with feasts being held in his honour as far back as the year 1000 AD. However\, it wasn’t until 1320\, when Scotland’s independence was declared with the signing of The Declaration of Arbroath\, that he officially became Scotland’s patron saint. Since then St Andrew has become tied up in so much of Scotland. The flag of Scotland\, the St Andrew’s Cross\, was chosen in honour of him. Also\, the ancient town of St Andrews was named due to its claim of being the final resting place of St Andrew. \nIn addition to Scotland\, Andrew is the patron saint of Barbados\, Cyprus\, Greece\, Romania\, Russia and Ukraine. Saint Andrew was an apostle who not only introduced his brother\, Peter\, to Jesus\, but also helped Scottish King Oengus I win a crucial battle against Northumberland\, securing Scotland’s safety. Saint Andrew died a martyr and was crucified on a saltire\, or an “X” shaped cross\, in Greece in 60 AD.  \nThere is a lot of folklore associated with St Andrew’s Day\, particularly around young women\, who hope to marry. At midnight\, as November 29 becomes November 30\, young woman prayed to be shown signs about their future husbands. They peeled an apple in such a way that the peel remained in a single piece and threw this over their shoulders. The shape that the peel formed on the ground indicated the first letter of their future husbands’ names. They also dropped molten lead or candle wax into a bucket of water. The shape that it formed indicated the profession of the men they would marry. \nSt Andrew’s Day is a public holiday in Scotland\, where it is a day off for the general population\, and schools and most businesses are closed.
URL:https://kelvernceltic.ca/event/st-andrews-day/2026-11-30/
CATEGORIES:Holiday
ATTACH;FMTTYPE=image/jpeg:https://kelvernceltic.ca/wp-content/uploads/2015/10/stAndrewsCross.jpg
END:VEVENT
END:VCALENDAR