BEGIN:VCALENDAR
VERSION:2.0
PRODID:-//Kelvern Celtic Society - ECPv6.15.20//NONSGML v1.0//EN
CALSCALE:GREGORIAN
METHOD:PUBLISH
X-ORIGINAL-URL:https://kelvernceltic.ca
X-WR-CALDESC:Events for Kelvern Celtic Society
REFRESH-INTERVAL;VALUE=DURATION:PT1H
X-Robots-Tag:noindex
X-PUBLISHED-TTL:PT1H
BEGIN:VTIMEZONE
TZID:America/Vancouver
BEGIN:DAYLIGHT
TZOFFSETFROM:-0800
TZOFFSETTO:-0700
TZNAME:PDT
DTSTART:20240310T100000
END:DAYLIGHT
BEGIN:STANDARD
TZOFFSETFROM:-0700
TZOFFSETTO:-0800
TZNAME:PST
DTSTART:20241103T090000
END:STANDARD
BEGIN:DAYLIGHT
TZOFFSETFROM:-0800
TZOFFSETTO:-0700
TZNAME:PDT
DTSTART:20250309T100000
END:DAYLIGHT
BEGIN:STANDARD
TZOFFSETFROM:-0700
TZOFFSETTO:-0800
TZNAME:PST
DTSTART:20251102T090000
END:STANDARD
BEGIN:DAYLIGHT
TZOFFSETFROM:-0800
TZOFFSETTO:-0700
TZNAME:PDT
DTSTART:20260308T100000
END:DAYLIGHT
BEGIN:STANDARD
TZOFFSETFROM:-0700
TZOFFSETTO:-0800
TZNAME:PST
DTSTART:20261101T090000
END:STANDARD
END:VTIMEZONE
BEGIN:VEVENT
DTSTART;TZID=America/Vancouver:20251111T103000
DTEND;TZID=America/Vancouver:20251111T233000
DTSTAMP:20260420T151656
CREATED:20231026T215744Z
LAST-MODIFIED:20250914T165345Z
UID:10004492-1762857000-1762903800@kelvernceltic.ca
SUMMARY:Remembrance Day in Vernon
DESCRIPTION:Parade forms at 10 a.m. followed by the parade of veterans\, first responders\, cadets\, cubs and scouts at 10:25 a.m. \nThe service will begin at 10:35 a.m. \nA minute of silence will be marked at 11 a.m. \nRemembrance Day is marked at the 11th hour of the 11th day of the 11th month\, signifying the end of hostilities in the First World War and signing of the armistice in 1918.
URL:https://kelvernceltic.ca/event/remembrance-day-in-vernon/
LOCATION:Kal Tire Place\, 3445 43rd Avenue\,\, Vernon\, BC\, Canada
CATEGORIES:Pipe Band,Pipes and Drums,Remembrance Day Service
ATTACH;FMTTYPE=image/png:https://kelvernceltic.ca/wp-content/uploads/2023/10/Kal-Highlanders-logo-3.png
END:VEVENT
END:VCALENDAR