BEGIN:VCALENDAR
VERSION:2.0
PRODID:-//Kelvern Celtic Society - ECPv6.15.20//NONSGML v1.0//EN
CALSCALE:GREGORIAN
METHOD:PUBLISH
X-ORIGINAL-URL:https://kelvernceltic.ca
X-WR-CALDESC:Events for Kelvern Celtic Society
REFRESH-INTERVAL;VALUE=DURATION:PT1H
X-Robots-Tag:noindex
X-PUBLISHED-TTL:PT1H
BEGIN:VTIMEZONE
TZID:America/Vancouver
BEGIN:DAYLIGHT
TZOFFSETFROM:-0800
TZOFFSETTO:-0700
TZNAME:PDT
DTSTART:20190310T100000
END:DAYLIGHT
BEGIN:STANDARD
TZOFFSETFROM:-0700
TZOFFSETTO:-0800
TZNAME:PST
DTSTART:20191103T090000
END:STANDARD
BEGIN:DAYLIGHT
TZOFFSETFROM:-0800
TZOFFSETTO:-0700
TZNAME:PDT
DTSTART:20200308T100000
END:DAYLIGHT
BEGIN:STANDARD
TZOFFSETFROM:-0700
TZOFFSETTO:-0800
TZNAME:PST
DTSTART:20201101T090000
END:STANDARD
BEGIN:DAYLIGHT
TZOFFSETFROM:-0800
TZOFFSETTO:-0700
TZNAME:PDT
DTSTART:20210314T100000
END:DAYLIGHT
BEGIN:STANDARD
TZOFFSETFROM:-0700
TZOFFSETTO:-0800
TZNAME:PST
DTSTART:20211107T090000
END:STANDARD
BEGIN:DAYLIGHT
TZOFFSETFROM:-0800
TZOFFSETTO:-0700
TZNAME:PDT
DTSTART:20220313T100000
END:DAYLIGHT
BEGIN:STANDARD
TZOFFSETFROM:-0700
TZOFFSETTO:-0800
TZNAME:PST
DTSTART:20221106T090000
END:STANDARD
BEGIN:DAYLIGHT
TZOFFSETFROM:-0800
TZOFFSETTO:-0700
TZNAME:PDT
DTSTART:20230312T100000
END:DAYLIGHT
BEGIN:STANDARD
TZOFFSETFROM:-0700
TZOFFSETTO:-0800
TZNAME:PST
DTSTART:20231105T090000
END:STANDARD
BEGIN:DAYLIGHT
TZOFFSETFROM:-0800
TZOFFSETTO:-0700
TZNAME:PDT
DTSTART:20240310T100000
END:DAYLIGHT
BEGIN:STANDARD
TZOFFSETFROM:-0700
TZOFFSETTO:-0800
TZNAME:PST
DTSTART:20241103T090000
END:STANDARD
BEGIN:DAYLIGHT
TZOFFSETFROM:-0800
TZOFFSETTO:-0700
TZNAME:PDT
DTSTART:20250309T100000
END:DAYLIGHT
BEGIN:STANDARD
TZOFFSETFROM:-0700
TZOFFSETTO:-0800
TZNAME:PST
DTSTART:20251102T090000
END:STANDARD
BEGIN:DAYLIGHT
TZOFFSETFROM:-0800
TZOFFSETTO:-0700
TZNAME:PDT
DTSTART:20260308T100000
END:DAYLIGHT
BEGIN:STANDARD
TZOFFSETFROM:-0700
TZOFFSETTO:-0800
TZNAME:PST
DTSTART:20261101T090000
END:STANDARD
BEGIN:DAYLIGHT
TZOFFSETFROM:-0800
TZOFFSETTO:-0700
TZNAME:PDT
DTSTART:20270314T100000
END:DAYLIGHT
BEGIN:STANDARD
TZOFFSETFROM:-0700
TZOFFSETTO:-0800
TZNAME:PST
DTSTART:20271107T090000
END:STANDARD
END:VTIMEZONE
BEGIN:VEVENT
DTSTART;VALUE=DATE:20260406
DTEND;VALUE=DATE:20260407
DTSTAMP:20260420T090124
CREATED:20181119T165047Z
LAST-MODIFIED:20221021T004123Z
UID:10004220-1775433600-1775519999@kelvernceltic.ca
SUMMARY:Tartan Day
DESCRIPTION:Tartan Day is a celebration of Scottish heritage on April 6\, the date on which the Declaration of Arbroath was signed in 1320. An ad hoc event was held in New York City in 1982\, but the current format originated in Canada in the mid-1980s. It spread to other communities of the Scottish diaspora in the 1990s. \nCanada estimates 15.1% or 4.7 million Canadians claim Scottish descent.[3] As stated above\, Tartan Day in Canada originated with a proposal from the Federation of Scottish Clans in Nova Scotia and has since been proclaimed by all the provincial legislatures. In 2007 Peter Stoffer introduced a Private member’s bill for “An Act respecting a Tartan Day”. Progress of the bill was interrupted by the 2008 election\, but it has been resubmitted.[4] \nAn annual ‘Gathering of the Clans’ will take place each April 6 or on the Sunday nearest to it on Parliament Hill in Ottawa at noon with pipes\, drums\, and dancing hosted by the Sons of Scotland Pipe Band\, Canada’s oldest civilian pipe band.[5] The 2011 celebrations marked the first time that Tartan Day has been celebrated with Canada’s official tartan having been named: the Maple Leaf.
URL:https://kelvernceltic.ca/event/tartan-day/2026-04-06/
ATTACH;FMTTYPE=image/jpeg:https://kelvernceltic.ca/wp-content/uploads/2018/11/Tartan-day-1.jpg
END:VEVENT
BEGIN:VEVENT
DTSTART;VALUE=DATE:20260125
DTEND;VALUE=DATE:20260126
DTSTAMP:20260420T090124
CREATED:20181119T165524Z
LAST-MODIFIED:20221021T003508Z
UID:10004202-1769299200-1769385599@kelvernceltic.ca
SUMMARY:Robbie Burns Day
DESCRIPTION:Robert Burns (25 January 1759 – 21 July 1796)\, also known as Rabbie Burns\, the Bard of Ayrshire\, was a Scottish poet and lyricist. He is widely regarded as the national poet of Scotland and is celebrated worldwide. \nThe day also celebrates Burns’ contribution to Scottish culture. Burns’ best known work is “Auld Lang Syne”. Other poems of note are \nA Man’s a Man for A’ That\nAe fond kiss\nAuld Lang Syne\nTo a Mouse\nA Red\, Red Rose.
URL:https://kelvernceltic.ca/event/robbie-burns-day/2026-01-25/
CATEGORIES:Holiday
ATTACH;FMTTYPE=image/jpeg:https://kelvernceltic.ca/wp-content/uploads/2015/12/Robbie-Burns-day.jpg
END:VEVENT
BEGIN:VEVENT
DTSTART;VALUE=DATE:20251130
DTEND;VALUE=DATE:20251201
DTSTAMP:20260420T090124
CREATED:20200923T012952Z
LAST-MODIFIED:20221021T003643Z
UID:10004206-1764460800-1764547199@kelvernceltic.ca
SUMMARY:St. Andrews Day
DESCRIPTION:St Andrew has been celebrated in Scotland for over a thousand years\, with feasts being held in his honour as far back as the year 1000 AD. However\, it wasn’t until 1320\, when Scotland’s independence was declared with the signing of The Declaration of Arbroath\, that he officially became Scotland’s patron saint. Since then St Andrew has become tied up in so much of Scotland. The flag of Scotland\, the St Andrew’s Cross\, was chosen in honour of him. Also\, the ancient town of St Andrews was named due to its claim of being the final resting place of St Andrew. \nIn addition to Scotland\, Andrew is the patron saint of Barbados\, Cyprus\, Greece\, Romania\, Russia and Ukraine. Saint Andrew was an apostle who not only introduced his brother\, Peter\, to Jesus\, but also helped Scottish King Oengus I win a crucial battle against Northumberland\, securing Scotland’s safety. Saint Andrew died a martyr and was crucified on a saltire\, or an “X” shaped cross\, in Greece in 60 AD.  \nThere is a lot of folklore associated with St Andrew’s Day\, particularly around young women\, who hope to marry. At midnight\, as November 29 becomes November 30\, young woman prayed to be shown signs about their future husbands. They peeled an apple in such a way that the peel remained in a single piece and threw this over their shoulders. The shape that the peel formed on the ground indicated the first letter of their future husbands’ names. They also dropped molten lead or candle wax into a bucket of water. The shape that it formed indicated the profession of the men they would marry. \nSt Andrew’s Day is a public holiday in Scotland\, where it is a day off for the general population\, and schools and most businesses are closed.
URL:https://kelvernceltic.ca/event/st-andrews-day/2025-11-30/
CATEGORIES:Holiday
ATTACH;FMTTYPE=image/jpeg:https://kelvernceltic.ca/wp-content/uploads/2015/10/stAndrewsCross.jpg
END:VEVENT
BEGIN:VEVENT
DTSTART;VALUE=DATE:20250701
DTEND;VALUE=DATE:20250702
DTSTAMP:20260420T090124
CREATED:20181226T172521Z
LAST-MODIFIED:20200923T150744Z
UID:10002119-1751328000-1751414399@kelvernceltic.ca
SUMMARY:Canada Day
DESCRIPTION:Canada Day\, a national holiday\, celebrates the anniversary of July 1\, 1867\, the effective date of the Constitution Act\, 1867 (then called the British North America Act\, 1867)\, which united the three separate colonies of the Province of Canada\, Nova Scotia\, and New Brunswick into a single Dominion within the British Empire called Canada. \nIn BC many communities have celebrations and parades.  Our member groups are nearly always there.
URL:https://kelvernceltic.ca/event/canada-day/2025-07-01/
CATEGORIES:Holiday
ATTACH;FMTTYPE=image/jpeg:https://kelvernceltic.ca/wp-content/uploads/2018/12/HappyCanadaDay.jpg
END:VEVENT
BEGIN:VEVENT
DTSTART;VALUE=DATE:20250627
DTEND;VALUE=DATE:20250628
DTSTAMP:20260420T090124
CREATED:20250110T194828Z
LAST-MODIFIED:20250110T194828Z
UID:10005302-1750982400-1751068799@kelvernceltic.ca
SUMMARY:Multiculturalism Day in Canada
DESCRIPTION:June 27 is Canadian Multiculturalism Day\, an opportunity to recognize\, celebrate\, and learn about the importance of multiculturalism to the country. Canada has long been recognized around the world as a role model for multiculturalism and our society is known as a mosaic of many cultures. In fact\, Canada’s 2021 Census reported over 450 ethnic or cultural origins.
URL:https://kelvernceltic.ca/event/multiculturalism-day-in-canada/2025-06-27/
LOCATION:TBA\, to be announced
CATEGORIES:Holiday
ATTACH;FMTTYPE=image/jpeg:https://kelvernceltic.ca/wp-content/uploads/2025/01/Multicultural-Day-Canada.jpg
ORGANIZER;CN="Kelvern Celtic Society":MAILTO:info@kelvernceltic.ca
END:VEVENT
BEGIN:VEVENT
DTSTART;VALUE=DATE:20250406
DTEND;VALUE=DATE:20250407
DTSTAMP:20260420T090124
CREATED:20181119T165047Z
LAST-MODIFIED:20221021T004123Z
UID:10004219-1743897600-1743983999@kelvernceltic.ca
SUMMARY:Tartan Day
DESCRIPTION:Tartan Day is a celebration of Scottish heritage on April 6\, the date on which the Declaration of Arbroath was signed in 1320. An ad hoc event was held in New York City in 1982\, but the current format originated in Canada in the mid-1980s. It spread to other communities of the Scottish diaspora in the 1990s. \nCanada estimates 15.1% or 4.7 million Canadians claim Scottish descent.[3] As stated above\, Tartan Day in Canada originated with a proposal from the Federation of Scottish Clans in Nova Scotia and has since been proclaimed by all the provincial legislatures. In 2007 Peter Stoffer introduced a Private member’s bill for “An Act respecting a Tartan Day”. Progress of the bill was interrupted by the 2008 election\, but it has been resubmitted.[4] \nAn annual ‘Gathering of the Clans’ will take place each April 6 or on the Sunday nearest to it on Parliament Hill in Ottawa at noon with pipes\, drums\, and dancing hosted by the Sons of Scotland Pipe Band\, Canada’s oldest civilian pipe band.[5] The 2011 celebrations marked the first time that Tartan Day has been celebrated with Canada’s official tartan having been named: the Maple Leaf.
URL:https://kelvernceltic.ca/event/tartan-day/2025-04-06/
ATTACH;FMTTYPE=image/jpeg:https://kelvernceltic.ca/wp-content/uploads/2018/11/Tartan-day-1.jpg
END:VEVENT
BEGIN:VEVENT
DTSTART;VALUE=DATE:20250125
DTEND;VALUE=DATE:20250126
DTSTAMP:20260420T090124
CREATED:20181119T165524Z
LAST-MODIFIED:20221021T003508Z
UID:10004201-1737763200-1737849599@kelvernceltic.ca
SUMMARY:Robbie Burns Day
DESCRIPTION:Robert Burns (25 January 1759 – 21 July 1796)\, also known as Rabbie Burns\, the Bard of Ayrshire\, was a Scottish poet and lyricist. He is widely regarded as the national poet of Scotland and is celebrated worldwide. \nThe day also celebrates Burns’ contribution to Scottish culture. Burns’ best known work is “Auld Lang Syne”. Other poems of note are \nA Man’s a Man for A’ That\nAe fond kiss\nAuld Lang Syne\nTo a Mouse\nA Red\, Red Rose.
URL:https://kelvernceltic.ca/event/robbie-burns-day/2025-01-25/
CATEGORIES:Holiday
ATTACH;FMTTYPE=image/jpeg:https://kelvernceltic.ca/wp-content/uploads/2015/12/Robbie-Burns-day.jpg
END:VEVENT
BEGIN:VEVENT
DTSTART;VALUE=DATE:20241130
DTEND;VALUE=DATE:20241201
DTSTAMP:20260420T090124
CREATED:20200923T012952Z
LAST-MODIFIED:20221021T003643Z
UID:10004205-1732924800-1733011199@kelvernceltic.ca
SUMMARY:St. Andrews Day
DESCRIPTION:St Andrew has been celebrated in Scotland for over a thousand years\, with feasts being held in his honour as far back as the year 1000 AD. However\, it wasn’t until 1320\, when Scotland’s independence was declared with the signing of The Declaration of Arbroath\, that he officially became Scotland’s patron saint. Since then St Andrew has become tied up in so much of Scotland. The flag of Scotland\, the St Andrew’s Cross\, was chosen in honour of him. Also\, the ancient town of St Andrews was named due to its claim of being the final resting place of St Andrew. \nIn addition to Scotland\, Andrew is the patron saint of Barbados\, Cyprus\, Greece\, Romania\, Russia and Ukraine. Saint Andrew was an apostle who not only introduced his brother\, Peter\, to Jesus\, but also helped Scottish King Oengus I win a crucial battle against Northumberland\, securing Scotland’s safety. Saint Andrew died a martyr and was crucified on a saltire\, or an “X” shaped cross\, in Greece in 60 AD.  \nThere is a lot of folklore associated with St Andrew’s Day\, particularly around young women\, who hope to marry. At midnight\, as November 29 becomes November 30\, young woman prayed to be shown signs about their future husbands. They peeled an apple in such a way that the peel remained in a single piece and threw this over their shoulders. The shape that the peel formed on the ground indicated the first letter of their future husbands’ names. They also dropped molten lead or candle wax into a bucket of water. The shape that it formed indicated the profession of the men they would marry. \nSt Andrew’s Day is a public holiday in Scotland\, where it is a day off for the general population\, and schools and most businesses are closed.
URL:https://kelvernceltic.ca/event/st-andrews-day/2024-11-30/
CATEGORIES:Holiday
ATTACH;FMTTYPE=image/jpeg:https://kelvernceltic.ca/wp-content/uploads/2015/10/stAndrewsCross.jpg
END:VEVENT
BEGIN:VEVENT
DTSTART;VALUE=DATE:20240701
DTEND;VALUE=DATE:20240702
DTSTAMP:20260420T090124
CREATED:20181226T172521Z
LAST-MODIFIED:20200923T150744Z
UID:10002118-1719792000-1719878399@kelvernceltic.ca
SUMMARY:Canada Day
DESCRIPTION:Canada Day\, a national holiday\, celebrates the anniversary of July 1\, 1867\, the effective date of the Constitution Act\, 1867 (then called the British North America Act\, 1867)\, which united the three separate colonies of the Province of Canada\, Nova Scotia\, and New Brunswick into a single Dominion within the British Empire called Canada. \nIn BC many communities have celebrations and parades.  Our member groups are nearly always there.
URL:https://kelvernceltic.ca/event/canada-day/2024-07-01/
CATEGORIES:Holiday
ATTACH;FMTTYPE=image/jpeg:https://kelvernceltic.ca/wp-content/uploads/2018/12/HappyCanadaDay.jpg
END:VEVENT
BEGIN:VEVENT
DTSTART;VALUE=DATE:20240406
DTEND;VALUE=DATE:20240407
DTSTAMP:20260420T090124
CREATED:20231218T230153Z
LAST-MODIFIED:20231218T230153Z
UID:10004218-1712361600-1712447999@kelvernceltic.ca
SUMMARY:Tartan Day
DESCRIPTION:Tartan Day is a celebration of Scottish heritage on April 6\, the date on which the Declaration of Arbroath was signed in 1320. An ad hoc event was held in New York City in 1982\, but the current format originated in Canada in the mid-1980s. It spread to other communities of the Scottish diaspora in the 1990s. \nCanada estimates 15.1% or 4.7 million Canadians claim Scottish descent.[3] As stated above\, Tartan Day in Canada originated with a proposal from the Federation of Scottish Clans in Nova Scotia and has since been proclaimed by all the provincial legislatures. In 2007 Peter Stoffer introduced a Private member’s bill for “An Act respecting a Tartan Day”. Progress of the bill was interrupted by the 2008 election\, but it has been resubmitted.[4] \nAn annual ‘Gathering of the Clans’ will take place each April 6 or on the Sunday nearest to it on Parliament Hill in Ottawa at noon with pipes\, drums\, and dancing hosted by the Sons of Scotland Pipe Band\, Canada’s oldest civilian pipe band.[5] The 2011 celebrations marked the first time that Tartan Day has been celebrated with Canada’s official tartan having been named: the Maple Leaf.
URL:https://kelvernceltic.ca/event/tartan-day-2/
ATTACH;FMTTYPE=image/jpeg:https://kelvernceltic.ca/wp-content/uploads/2018/11/Tartan-day-1.jpg
ORGANIZER;CN="Sons of Scotland Kildonnan Camp":MAILTO:elainelis@telus.net
END:VEVENT
BEGIN:VEVENT
DTSTART;VALUE=DATE:20240125
DTEND;VALUE=DATE:20240126
DTSTAMP:20260420T090124
CREATED:20181119T165524Z
LAST-MODIFIED:20221021T003508Z
UID:10004200-1706140800-1706227199@kelvernceltic.ca
SUMMARY:Robbie Burns Day
DESCRIPTION:Robert Burns (25 January 1759 – 21 July 1796)\, also known as Rabbie Burns\, the Bard of Ayrshire\, was a Scottish poet and lyricist. He is widely regarded as the national poet of Scotland and is celebrated worldwide. \nThe day also celebrates Burns’ contribution to Scottish culture. Burns’ best known work is “Auld Lang Syne”. Other poems of note are \nA Man’s a Man for A’ That\nAe fond kiss\nAuld Lang Syne\nTo a Mouse\nA Red\, Red Rose.
URL:https://kelvernceltic.ca/event/robbie-burns-day/2024-01-25/
CATEGORIES:Holiday
ATTACH;FMTTYPE=image/jpeg:https://kelvernceltic.ca/wp-content/uploads/2015/12/Robbie-Burns-day.jpg
END:VEVENT
BEGIN:VEVENT
DTSTART;VALUE=DATE:20231130
DTEND;VALUE=DATE:20231201
DTSTAMP:20260420T090124
CREATED:20200923T012952Z
LAST-MODIFIED:20221021T003643Z
UID:10004204-1701302400-1701388799@kelvernceltic.ca
SUMMARY:St. Andrews Day
DESCRIPTION:St Andrew has been celebrated in Scotland for over a thousand years\, with feasts being held in his honour as far back as the year 1000 AD. However\, it wasn’t until 1320\, when Scotland’s independence was declared with the signing of The Declaration of Arbroath\, that he officially became Scotland’s patron saint. Since then St Andrew has become tied up in so much of Scotland. The flag of Scotland\, the St Andrew’s Cross\, was chosen in honour of him. Also\, the ancient town of St Andrews was named due to its claim of being the final resting place of St Andrew. \nIn addition to Scotland\, Andrew is the patron saint of Barbados\, Cyprus\, Greece\, Romania\, Russia and Ukraine. Saint Andrew was an apostle who not only introduced his brother\, Peter\, to Jesus\, but also helped Scottish King Oengus I win a crucial battle against Northumberland\, securing Scotland’s safety. Saint Andrew died a martyr and was crucified on a saltire\, or an “X” shaped cross\, in Greece in 60 AD.  \nThere is a lot of folklore associated with St Andrew’s Day\, particularly around young women\, who hope to marry. At midnight\, as November 29 becomes November 30\, young woman prayed to be shown signs about their future husbands. They peeled an apple in such a way that the peel remained in a single piece and threw this over their shoulders. The shape that the peel formed on the ground indicated the first letter of their future husbands’ names. They also dropped molten lead or candle wax into a bucket of water. The shape that it formed indicated the profession of the men they would marry. \nSt Andrew’s Day is a public holiday in Scotland\, where it is a day off for the general population\, and schools and most businesses are closed.
URL:https://kelvernceltic.ca/event/st-andrews-day/2023-11-30/
CATEGORIES:Holiday
ATTACH;FMTTYPE=image/jpeg:https://kelvernceltic.ca/wp-content/uploads/2015/10/stAndrewsCross.jpg
END:VEVENT
BEGIN:VEVENT
DTSTART;VALUE=DATE:20230701
DTEND;VALUE=DATE:20230702
DTSTAMP:20260420T090124
CREATED:20181226T172521Z
LAST-MODIFIED:20200923T150744Z
UID:10002117-1688169600-1688255999@kelvernceltic.ca
SUMMARY:Canada Day
DESCRIPTION:Canada Day\, a national holiday\, celebrates the anniversary of July 1\, 1867\, the effective date of the Constitution Act\, 1867 (then called the British North America Act\, 1867)\, which united the three separate colonies of the Province of Canada\, Nova Scotia\, and New Brunswick into a single Dominion within the British Empire called Canada. \nIn BC many communities have celebrations and parades.  Our member groups are nearly always there.
URL:https://kelvernceltic.ca/event/canada-day/2023-07-01/
CATEGORIES:Holiday
ATTACH;FMTTYPE=image/jpeg:https://kelvernceltic.ca/wp-content/uploads/2018/12/HappyCanadaDay.jpg
END:VEVENT
BEGIN:VEVENT
DTSTART;VALUE=DATE:20230406
DTEND;VALUE=DATE:20230407
DTSTAMP:20260420T090124
CREATED:20181119T165047Z
LAST-MODIFIED:20221021T004123Z
UID:10002096-1680739200-1680825599@kelvernceltic.ca
SUMMARY:Tartan Day
DESCRIPTION:Tartan Day is a celebration of Scottish heritage on April 6\, the date on which the Declaration of Arbroath was signed in 1320. An ad hoc event was held in New York City in 1982\, but the current format originated in Canada in the mid-1980s. It spread to other communities of the Scottish diaspora in the 1990s. \nCanada estimates 15.1% or 4.7 million Canadians claim Scottish descent.[3] As stated above\, Tartan Day in Canada originated with a proposal from the Federation of Scottish Clans in Nova Scotia and has since been proclaimed by all the provincial legislatures. In 2007 Peter Stoffer introduced a Private member’s bill for “An Act respecting a Tartan Day”. Progress of the bill was interrupted by the 2008 election\, but it has been resubmitted.[4] \nAn annual ‘Gathering of the Clans’ will take place each April 6 or on the Sunday nearest to it on Parliament Hill in Ottawa at noon with pipes\, drums\, and dancing hosted by the Sons of Scotland Pipe Band\, Canada’s oldest civilian pipe band.[5] The 2011 celebrations marked the first time that Tartan Day has been celebrated with Canada’s official tartan having been named: the Maple Leaf.
URL:https://kelvernceltic.ca/event/tartan-day/2023-04-06/
ATTACH;FMTTYPE=image/jpeg:https://kelvernceltic.ca/wp-content/uploads/2018/11/Tartan-day-1.jpg
END:VEVENT
BEGIN:VEVENT
DTSTART;VALUE=DATE:20230125
DTEND;VALUE=DATE:20230126
DTSTAMP:20260420T090124
CREATED:20181119T165524Z
LAST-MODIFIED:20221021T003508Z
UID:10004199-1674604800-1674691199@kelvernceltic.ca
SUMMARY:Robbie Burns Day
DESCRIPTION:Robert Burns (25 January 1759 – 21 July 1796)\, also known as Rabbie Burns\, the Bard of Ayrshire\, was a Scottish poet and lyricist. He is widely regarded as the national poet of Scotland and is celebrated worldwide. \nThe day also celebrates Burns’ contribution to Scottish culture. Burns’ best known work is “Auld Lang Syne”. Other poems of note are \nA Man’s a Man for A’ That\nAe fond kiss\nAuld Lang Syne\nTo a Mouse\nA Red\, Red Rose.
URL:https://kelvernceltic.ca/event/robbie-burns-day/2023-01-25/
CATEGORIES:Holiday
ATTACH;FMTTYPE=image/jpeg:https://kelvernceltic.ca/wp-content/uploads/2015/12/Robbie-Burns-day.jpg
END:VEVENT
BEGIN:VEVENT
DTSTART;VALUE=DATE:20221130
DTEND;VALUE=DATE:20221201
DTSTAMP:20260420T090124
CREATED:20200923T012952Z
LAST-MODIFIED:20221021T003643Z
UID:10004158-1669766400-1669852799@kelvernceltic.ca
SUMMARY:St. Andrews Day
DESCRIPTION:St Andrew has been celebrated in Scotland for over a thousand years\, with feasts being held in his honour as far back as the year 1000 AD. However\, it wasn’t until 1320\, when Scotland’s independence was declared with the signing of The Declaration of Arbroath\, that he officially became Scotland’s patron saint. Since then St Andrew has become tied up in so much of Scotland. The flag of Scotland\, the St Andrew’s Cross\, was chosen in honour of him. Also\, the ancient town of St Andrews was named due to its claim of being the final resting place of St Andrew. \nIn addition to Scotland\, Andrew is the patron saint of Barbados\, Cyprus\, Greece\, Romania\, Russia and Ukraine. Saint Andrew was an apostle who not only introduced his brother\, Peter\, to Jesus\, but also helped Scottish King Oengus I win a crucial battle against Northumberland\, securing Scotland’s safety. Saint Andrew died a martyr and was crucified on a saltire\, or an “X” shaped cross\, in Greece in 60 AD.  \nThere is a lot of folklore associated with St Andrew’s Day\, particularly around young women\, who hope to marry. At midnight\, as November 29 becomes November 30\, young woman prayed to be shown signs about their future husbands. They peeled an apple in such a way that the peel remained in a single piece and threw this over their shoulders. The shape that the peel formed on the ground indicated the first letter of their future husbands’ names. They also dropped molten lead or candle wax into a bucket of water. The shape that it formed indicated the profession of the men they would marry. \nSt Andrew’s Day is a public holiday in Scotland\, where it is a day off for the general population\, and schools and most businesses are closed.
URL:https://kelvernceltic.ca/event/st-andrews-day/2022-11-30/
CATEGORIES:Holiday
ATTACH;FMTTYPE=image/jpeg:https://kelvernceltic.ca/wp-content/uploads/2015/10/stAndrewsCross.jpg
END:VEVENT
BEGIN:VEVENT
DTSTART;VALUE=DATE:20220701
DTEND;VALUE=DATE:20220702
DTSTAMP:20260420T090124
CREATED:20181226T172521Z
LAST-MODIFIED:20200923T150744Z
UID:10002116-1656633600-1656719999@kelvernceltic.ca
SUMMARY:Canada Day
DESCRIPTION:Canada Day\, a national holiday\, celebrates the anniversary of July 1\, 1867\, the effective date of the Constitution Act\, 1867 (then called the British North America Act\, 1867)\, which united the three separate colonies of the Province of Canada\, Nova Scotia\, and New Brunswick into a single Dominion within the British Empire called Canada. \nIn BC many communities have celebrations and parades.  Our member groups are nearly always there.
URL:https://kelvernceltic.ca/event/canada-day/2022-07-01/
CATEGORIES:Holiday
ATTACH;FMTTYPE=image/jpeg:https://kelvernceltic.ca/wp-content/uploads/2018/12/HappyCanadaDay.jpg
END:VEVENT
BEGIN:VEVENT
DTSTART;VALUE=DATE:20210701
DTEND;VALUE=DATE:20210702
DTSTAMP:20260420T090124
CREATED:20181226T172521Z
LAST-MODIFIED:20200923T150744Z
UID:10002115-1625097600-1625183999@kelvernceltic.ca
SUMMARY:Canada Day
DESCRIPTION:Canada Day\, a national holiday\, celebrates the anniversary of July 1\, 1867\, the effective date of the Constitution Act\, 1867 (then called the British North America Act\, 1867)\, which united the three separate colonies of the Province of Canada\, Nova Scotia\, and New Brunswick into a single Dominion within the British Empire called Canada. \nIn BC many communities have celebrations and parades.  Our member groups are nearly always there.
URL:https://kelvernceltic.ca/event/canada-day/2021-07-01/
CATEGORIES:Holiday
ATTACH;FMTTYPE=image/jpeg:https://kelvernceltic.ca/wp-content/uploads/2018/12/HappyCanadaDay.jpg
END:VEVENT
BEGIN:VEVENT
DTSTART;VALUE=DATE:20200701
DTEND;VALUE=DATE:20200702
DTSTAMP:20260420T090124
CREATED:20181226T172521Z
LAST-MODIFIED:20200923T150744Z
UID:10002114-1593561600-1593647999@kelvernceltic.ca
SUMMARY:Canada Day
DESCRIPTION:Canada Day\, a national holiday\, celebrates the anniversary of July 1\, 1867\, the effective date of the Constitution Act\, 1867 (then called the British North America Act\, 1867)\, which united the three separate colonies of the Province of Canada\, Nova Scotia\, and New Brunswick into a single Dominion within the British Empire called Canada. \nIn BC many communities have celebrations and parades.  Our member groups are nearly always there.
URL:https://kelvernceltic.ca/event/canada-day/2020-07-01/
CATEGORIES:Holiday
ATTACH;FMTTYPE=image/jpeg:https://kelvernceltic.ca/wp-content/uploads/2018/12/HappyCanadaDay.jpg
END:VEVENT
END:VCALENDAR