BEGIN:VCALENDAR
VERSION:2.0
PRODID:-//Kelvern Celtic Society - ECPv6.15.20//NONSGML v1.0//EN
CALSCALE:GREGORIAN
METHOD:PUBLISH
X-WR-CALNAME:Kelvern Celtic Society
X-ORIGINAL-URL:https://kelvernceltic.ca
X-WR-CALDESC:Events for Kelvern Celtic Society
REFRESH-INTERVAL;VALUE=DURATION:PT1H
X-Robots-Tag:noindex
X-PUBLISHED-TTL:PT1H
BEGIN:VTIMEZONE
TZID:America/Vancouver
BEGIN:DAYLIGHT
TZOFFSETFROM:-0800
TZOFFSETTO:-0700
TZNAME:PDT
DTSTART:20210314T100000
END:DAYLIGHT
BEGIN:STANDARD
TZOFFSETFROM:-0700
TZOFFSETTO:-0800
TZNAME:PST
DTSTART:20211107T090000
END:STANDARD
BEGIN:DAYLIGHT
TZOFFSETFROM:-0800
TZOFFSETTO:-0700
TZNAME:PDT
DTSTART:20220313T100000
END:DAYLIGHT
BEGIN:STANDARD
TZOFFSETFROM:-0700
TZOFFSETTO:-0800
TZNAME:PST
DTSTART:20221106T090000
END:STANDARD
BEGIN:DAYLIGHT
TZOFFSETFROM:-0800
TZOFFSETTO:-0700
TZNAME:PDT
DTSTART:20230312T100000
END:DAYLIGHT
BEGIN:STANDARD
TZOFFSETFROM:-0700
TZOFFSETTO:-0800
TZNAME:PST
DTSTART:20231105T090000
END:STANDARD
BEGIN:DAYLIGHT
TZOFFSETFROM:-0800
TZOFFSETTO:-0700
TZNAME:PDT
DTSTART:20240310T100000
END:DAYLIGHT
BEGIN:STANDARD
TZOFFSETFROM:-0700
TZOFFSETTO:-0800
TZNAME:PST
DTSTART:20241103T090000
END:STANDARD
BEGIN:DAYLIGHT
TZOFFSETFROM:-0800
TZOFFSETTO:-0700
TZNAME:PDT
DTSTART:20250309T100000
END:DAYLIGHT
BEGIN:STANDARD
TZOFFSETFROM:-0700
TZOFFSETTO:-0800
TZNAME:PST
DTSTART:20251102T090000
END:STANDARD
BEGIN:DAYLIGHT
TZOFFSETFROM:-0800
TZOFFSETTO:-0700
TZNAME:PDT
DTSTART:20260308T100000
END:DAYLIGHT
BEGIN:STANDARD
TZOFFSETFROM:-0700
TZOFFSETTO:-0800
TZNAME:PST
DTSTART:20261101T090000
END:STANDARD
END:VTIMEZONE
BEGIN:VEVENT
DTSTART;VALUE=DATE:20250304
DTEND;VALUE=DATE:20250428
DTSTAMP:20260420T103830
CREATED:20210323T174609Z
LAST-MODIFIED:20230419T182907Z
UID:10004255-1741046400-1745794799@kelvernceltic.ca
SUMMARY:Bursary Applications being accepted
DESCRIPTION:Kelvern sponsors a bursary for students graduating from High School.\nNow accepting applications.  Applicants can be members\, children or grandchildren of Kelvern members.\nApplications will be accepted from March 1st to  April 25th in the graduating year of the candidate.    The successful candidate’s award will be paid directly to the approved\, post secondary institution of their choice\, by the Central Okanagan Foundation. \nAll applicants Must: \n\nHave an affiliation or a family affiliation with the Kelvern Celtic Society.\nPresently be enrolled in a secondary school setting and graduating in the year of application.\nBe an active community volunteer during secondary school years.\nHave an academic average suitable for acceptance into a post graduate institution or technical school.\nThe funds are earmarked for candidates who will be attending a public university or college.  Under the terms and conditions of the Canada Revenue Agency\, the monies which are administered on our behalf by the Central Okanagan Foundation can only be sent to public institutions with charitable status.
URL:https://kelvernceltic.ca/event/2021-bursary-applications-being-accepted/2025-03-04/
LOCATION:on line\, your computer or tablet
ATTACH;FMTTYPE=image/jpeg:https://kelvernceltic.ca/wp-content/uploads/2020/02/bursary.jpg
ORGANIZER;CN="Kelvern Celtic Society":MAILTO:info@kelvernceltic.ca
END:VEVENT
BEGIN:VEVENT
DTSTART;VALUE=DATE:20240305
DTEND;VALUE=DATE:20240429
DTSTAMP:20260420T103830
CREATED:20210323T174609Z
LAST-MODIFIED:20230419T182907Z
UID:10004254-1709596800-1714345199@kelvernceltic.ca
SUMMARY:Bursary Applications being accepted
DESCRIPTION:Kelvern sponsors a bursary for students graduating from High School.\nNow accepting applications.  Applicants can be members\, children or grandchildren of Kelvern members.\nApplications will be accepted from March 1st to  April 25th in the graduating year of the candidate.    The successful candidate’s award will be paid directly to the approved\, post secondary institution of their choice\, by the Central Okanagan Foundation. \nAll applicants Must: \n\nHave an affiliation or a family affiliation with the Kelvern Celtic Society.\nPresently be enrolled in a secondary school setting and graduating in the year of application.\nBe an active community volunteer during secondary school years.\nHave an academic average suitable for acceptance into a post graduate institution or technical school.\nThe funds are earmarked for candidates who will be attending a public university or college.  Under the terms and conditions of the Canada Revenue Agency\, the monies which are administered on our behalf by the Central Okanagan Foundation can only be sent to public institutions with charitable status.
URL:https://kelvernceltic.ca/event/2021-bursary-applications-being-accepted/2024-03-05/
LOCATION:on line\, your computer or tablet
ATTACH;FMTTYPE=image/jpeg:https://kelvernceltic.ca/wp-content/uploads/2020/02/bursary.jpg
ORGANIZER;CN="Kelvern Celtic Society":MAILTO:info@kelvernceltic.ca
END:VEVENT
BEGIN:VEVENT
DTSTART;VALUE=DATE:20230307
DTEND;VALUE=DATE:20230501
DTSTAMP:20260420T103830
CREATED:20210323T174609Z
LAST-MODIFIED:20230419T182907Z
UID:10004253-1678147200-1682895599@kelvernceltic.ca
SUMMARY:Bursary Applications being accepted
DESCRIPTION:Kelvern sponsors a bursary for students graduating from High School.\nNow accepting applications.  Applicants can be members\, children or grandchildren of Kelvern members.\nApplications will be accepted from March 1st to  April 25th in the graduating year of the candidate.    The successful candidate’s award will be paid directly to the approved\, post secondary institution of their choice\, by the Central Okanagan Foundation. \nAll applicants Must: \n\nHave an affiliation or a family affiliation with the Kelvern Celtic Society.\nPresently be enrolled in a secondary school setting and graduating in the year of application.\nBe an active community volunteer during secondary school years.\nHave an academic average suitable for acceptance into a post graduate institution or technical school.\nThe funds are earmarked for candidates who will be attending a public university or college.  Under the terms and conditions of the Canada Revenue Agency\, the monies which are administered on our behalf by the Central Okanagan Foundation can only be sent to public institutions with charitable status.
URL:https://kelvernceltic.ca/event/2021-bursary-applications-being-accepted/2023-03-07/
LOCATION:on line\, your computer or tablet
ATTACH;FMTTYPE=image/jpeg:https://kelvernceltic.ca/wp-content/uploads/2020/02/bursary.jpg
ORGANIZER;CN="Kelvern Celtic Society":MAILTO:info@kelvernceltic.ca
END:VEVENT
BEGIN:VEVENT
DTSTART;VALUE=DATE:20220301
DTEND;VALUE=DATE:20220425
DTSTAMP:20260420T103830
CREATED:20210323T174609Z
LAST-MODIFIED:20230419T182907Z
UID:10004159-1646092800-1650841199@kelvernceltic.ca
SUMMARY:Bursary Applications being accepted
DESCRIPTION:Kelvern sponsors a bursary for students graduating from High School.\nNow accepting applications.  Applicants can be members\, children or grandchildren of Kelvern members.\nApplications will be accepted from March 1st to  April 25th in the graduating year of the candidate.    The successful candidate’s award will be paid directly to the approved\, post secondary institution of their choice\, by the Central Okanagan Foundation. \nAll applicants Must: \n\nHave an affiliation or a family affiliation with the Kelvern Celtic Society.\nPresently be enrolled in a secondary school setting and graduating in the year of application.\nBe an active community volunteer during secondary school years.\nHave an academic average suitable for acceptance into a post graduate institution or technical school.\nThe funds are earmarked for candidates who will be attending a public university or college.  Under the terms and conditions of the Canada Revenue Agency\, the monies which are administered on our behalf by the Central Okanagan Foundation can only be sent to public institutions with charitable status.
URL:https://kelvernceltic.ca/event/2021-bursary-applications-being-accepted/2022-03-01/
LOCATION:on line\, your computer or tablet
ATTACH;FMTTYPE=image/jpeg:https://kelvernceltic.ca/wp-content/uploads/2020/02/bursary.jpg
ORGANIZER;CN="Kelvern Celtic Society":MAILTO:info@kelvernceltic.ca
END:VEVENT
END:VCALENDAR