BEGIN:VCALENDAR
VERSION:2.0
PRODID:-//Kelvern Celtic Society - ECPv6.15.20//NONSGML v1.0//EN
CALSCALE:GREGORIAN
METHOD:PUBLISH
X-ORIGINAL-URL:https://kelvernceltic.ca
X-WR-CALDESC:Events for Kelvern Celtic Society
REFRESH-INTERVAL;VALUE=DURATION:PT1H
X-Robots-Tag:noindex
X-PUBLISHED-TTL:PT1H
BEGIN:VTIMEZONE
TZID:America/Vancouver
BEGIN:DAYLIGHT
TZOFFSETFROM:-0800
TZOFFSETTO:-0700
TZNAME:PDT
DTSTART:20260308T100000
END:DAYLIGHT
BEGIN:STANDARD
TZOFFSETFROM:-0700
TZOFFSETTO:-0800
TZNAME:PST
DTSTART:20261101T090000
END:STANDARD
BEGIN:DAYLIGHT
TZOFFSETFROM:-0800
TZOFFSETTO:-0700
TZNAME:PDT
DTSTART:20270314T100000
END:DAYLIGHT
BEGIN:STANDARD
TZOFFSETFROM:-0700
TZOFFSETTO:-0800
TZNAME:PST
DTSTART:20271107T090000
END:STANDARD
BEGIN:DAYLIGHT
TZOFFSETFROM:-0800
TZOFFSETTO:-0700
TZNAME:PDT
DTSTART:20280312T100000
END:DAYLIGHT
BEGIN:STANDARD
TZOFFSETFROM:-0700
TZOFFSETTO:-0800
TZNAME:PST
DTSTART:20281105T090000
END:STANDARD
END:VTIMEZONE
BEGIN:VEVENT
DTSTART;TZID=America/Vancouver:20270301T080000
DTEND;TZID=America/Vancouver:20270301T170000
DTSTAMP:20260420T072026
CREATED:20221021T004553Z
LAST-MODIFIED:20221210T200425Z
UID:10004227-1803888000-1803920400@kelvernceltic.ca
SUMMARY:St. Davids Day
DESCRIPTION:March 1st is St. Davids Day\, the national day of Wales and has been celebrated as such since the 12th Century. Today the celebrations usually involve the singing of traditional songs followed by a Te Bach\, a tea with bara brith (famous welsh fruited bread) and teisen bach (welsh cake). Young girls are encouraged to wear national costume and leeks or daffodils are worn\, being the national symbols of Wales. \n St. David as the teacher of Finnian of Clonard in a stained glass window restored to its 1181 appearance at Clonard
URL:https://kelvernceltic.ca/event/st-davids-day/2027-03-01/
ATTACH;FMTTYPE=image/jpeg:https://kelvernceltic.ca/wp-content/uploads/2015/10/flags-2-e1666313433320.jpg
END:VEVENT
END:VCALENDAR