BEGIN:VCALENDAR
VERSION:2.0
PRODID:-//Kelvern Celtic Society - ECPv6.15.20//NONSGML v1.0//EN
CALSCALE:GREGORIAN
METHOD:PUBLISH
X-ORIGINAL-URL:https://kelvernceltic.ca
X-WR-CALDESC:Events for Kelvern Celtic Society
REFRESH-INTERVAL;VALUE=DURATION:PT1H
X-Robots-Tag:noindex
X-PUBLISHED-TTL:PT1H
BEGIN:VTIMEZONE
TZID:America/Vancouver
BEGIN:DAYLIGHT
TZOFFSETFROM:-0800
TZOFFSETTO:-0700
TZNAME:PDT
DTSTART:20220313T100000
END:DAYLIGHT
BEGIN:STANDARD
TZOFFSETFROM:-0700
TZOFFSETTO:-0800
TZNAME:PST
DTSTART:20221106T090000
END:STANDARD
BEGIN:DAYLIGHT
TZOFFSETFROM:-0800
TZOFFSETTO:-0700
TZNAME:PDT
DTSTART:20230312T100000
END:DAYLIGHT
BEGIN:STANDARD
TZOFFSETFROM:-0700
TZOFFSETTO:-0800
TZNAME:PST
DTSTART:20231105T090000
END:STANDARD
BEGIN:DAYLIGHT
TZOFFSETFROM:-0800
TZOFFSETTO:-0700
TZNAME:PDT
DTSTART:20240310T100000
END:DAYLIGHT
BEGIN:STANDARD
TZOFFSETFROM:-0700
TZOFFSETTO:-0800
TZNAME:PST
DTSTART:20241103T090000
END:STANDARD
BEGIN:DAYLIGHT
TZOFFSETFROM:-0800
TZOFFSETTO:-0700
TZNAME:PDT
DTSTART:20250309T100000
END:DAYLIGHT
BEGIN:STANDARD
TZOFFSETFROM:-0700
TZOFFSETTO:-0800
TZNAME:PST
DTSTART:20251102T090000
END:STANDARD
END:VTIMEZONE
BEGIN:VEVENT
DTSTART;TZID=America/Vancouver:20240111T183000
DTEND;TZID=America/Vancouver:20240111T203000
DTSTAMP:20260420T165237
CREATED:20231023T132104Z
LAST-MODIFIED:20231215T220032Z
UID:10004380-1704997800-1705005000@kelvernceltic.ca
SUMMARY:Kalamalka Highlanders Band Practice
DESCRIPTION:Regular practice Thursday 6:30 Knox Presbyterian Church – corner of Alexis Park Drive and 32 Ave \nContact  Maureen Soichuk  250-306-2594  kalpipeband@hotmail.com \n  \n 
URL:https://kelvernceltic.ca/event/kalamalka-highlanders-band-practice/2024-01-11/
LOCATION:KNOX Presbyterian Church Hall\, 3701 -32ND AVE\, Vernon\, BC\, V1T 2N2\, Canada
CATEGORIES:Class,Pipe Band,practice
ATTACH;FMTTYPE=image/jpeg:https://kelvernceltic.ca/wp-content/uploads/2023/10/Kal-practice.jpg
END:VEVENT
BEGIN:VEVENT
DTSTART;TZID=America/Vancouver:20240104T183000
DTEND;TZID=America/Vancouver:20240104T203000
DTSTAMP:20260420T165237
CREATED:20231023T132104Z
LAST-MODIFIED:20231215T220032Z
UID:10004379-1704393000-1704400200@kelvernceltic.ca
SUMMARY:Kalamalka Highlanders Band Practice
DESCRIPTION:Regular practice Thursday 6:30 Knox Presbyterian Church – corner of Alexis Park Drive and 32 Ave \nContact  Maureen Soichuk  250-306-2594  kalpipeband@hotmail.com \n  \n 
URL:https://kelvernceltic.ca/event/kalamalka-highlanders-band-practice/2024-01-04/
LOCATION:KNOX Presbyterian Church Hall\, 3701 -32ND AVE\, Vernon\, BC\, V1T 2N2\, Canada
CATEGORIES:Class,Pipe Band,practice
ATTACH;FMTTYPE=image/jpeg:https://kelvernceltic.ca/wp-content/uploads/2023/10/Kal-practice.jpg
END:VEVENT
BEGIN:VEVENT
DTSTART;TZID=America/Vancouver:20231214T183000
DTEND;TZID=America/Vancouver:20231214T203000
DTSTAMP:20260420T165237
CREATED:20231023T132104Z
LAST-MODIFIED:20231215T220032Z
UID:10004378-1702578600-1702585800@kelvernceltic.ca
SUMMARY:Kalamalka Highlanders Band Practice
DESCRIPTION:Regular practice Thursday 6:30 Knox Presbyterian Church – corner of Alexis Park Drive and 32 Ave \nContact  Maureen Soichuk  250-306-2594  kalpipeband@hotmail.com \n  \n 
URL:https://kelvernceltic.ca/event/kalamalka-highlanders-band-practice/2023-12-14/
LOCATION:KNOX Presbyterian Church Hall\, 3701 -32ND AVE\, Vernon\, BC\, V1T 2N2\, Canada
CATEGORIES:Class,Pipe Band,practice
ATTACH;FMTTYPE=image/jpeg:https://kelvernceltic.ca/wp-content/uploads/2023/10/Kal-practice.jpg
END:VEVENT
BEGIN:VEVENT
DTSTART;TZID=America/Vancouver:20231207T183000
DTEND;TZID=America/Vancouver:20231207T203000
DTSTAMP:20260420T165237
CREATED:20231023T132104Z
LAST-MODIFIED:20231215T220032Z
UID:10004377-1701973800-1701981000@kelvernceltic.ca
SUMMARY:Kalamalka Highlanders Band Practice
DESCRIPTION:Regular practice Thursday 6:30 Knox Presbyterian Church – corner of Alexis Park Drive and 32 Ave \nContact  Maureen Soichuk  250-306-2594  kalpipeband@hotmail.com \n  \n 
URL:https://kelvernceltic.ca/event/kalamalka-highlanders-band-practice/2023-12-07/
LOCATION:KNOX Presbyterian Church Hall\, 3701 -32ND AVE\, Vernon\, BC\, V1T 2N2\, Canada
CATEGORIES:Class,Pipe Band,practice
ATTACH;FMTTYPE=image/jpeg:https://kelvernceltic.ca/wp-content/uploads/2023/10/Kal-practice.jpg
END:VEVENT
BEGIN:VEVENT
DTSTART;TZID=America/Vancouver:20231130T183000
DTEND;TZID=America/Vancouver:20231130T203000
DTSTAMP:20260420T165237
CREATED:20231023T132104Z
LAST-MODIFIED:20231215T220032Z
UID:10004376-1701369000-1701376200@kelvernceltic.ca
SUMMARY:Kalamalka Highlanders Band Practice
DESCRIPTION:Regular practice Thursday 6:30 Knox Presbyterian Church – corner of Alexis Park Drive and 32 Ave \nContact  Maureen Soichuk  250-306-2594  kalpipeband@hotmail.com \n  \n 
URL:https://kelvernceltic.ca/event/kalamalka-highlanders-band-practice/2023-11-30/
LOCATION:KNOX Presbyterian Church Hall\, 3701 -32ND AVE\, Vernon\, BC\, V1T 2N2\, Canada
CATEGORIES:Class,Pipe Band,practice
ATTACH;FMTTYPE=image/jpeg:https://kelvernceltic.ca/wp-content/uploads/2023/10/Kal-practice.jpg
END:VEVENT
BEGIN:VEVENT
DTSTART;TZID=America/Vancouver:20231123T183000
DTEND;TZID=America/Vancouver:20231123T203000
DTSTAMP:20260420T165237
CREATED:20231023T132104Z
LAST-MODIFIED:20231215T220032Z
UID:10004375-1700764200-1700771400@kelvernceltic.ca
SUMMARY:Kalamalka Highlanders Band Practice
DESCRIPTION:Regular practice Thursday 6:30 Knox Presbyterian Church – corner of Alexis Park Drive and 32 Ave \nContact  Maureen Soichuk  250-306-2594  kalpipeband@hotmail.com \n  \n 
URL:https://kelvernceltic.ca/event/kalamalka-highlanders-band-practice/2023-11-23/
LOCATION:KNOX Presbyterian Church Hall\, 3701 -32ND AVE\, Vernon\, BC\, V1T 2N2\, Canada
CATEGORIES:Class,Pipe Band,practice
ATTACH;FMTTYPE=image/jpeg:https://kelvernceltic.ca/wp-content/uploads/2023/10/Kal-practice.jpg
END:VEVENT
BEGIN:VEVENT
DTSTART;TZID=America/Vancouver:20231116T183000
DTEND;TZID=America/Vancouver:20231116T203000
DTSTAMP:20260420T165237
CREATED:20231023T132104Z
LAST-MODIFIED:20231215T220032Z
UID:10004374-1700159400-1700166600@kelvernceltic.ca
SUMMARY:Kalamalka Highlanders Band Practice
DESCRIPTION:Regular practice Thursday 6:30 Knox Presbyterian Church – corner of Alexis Park Drive and 32 Ave \nContact  Maureen Soichuk  250-306-2594  kalpipeband@hotmail.com \n  \n 
URL:https://kelvernceltic.ca/event/kalamalka-highlanders-band-practice/2023-11-16/
LOCATION:KNOX Presbyterian Church Hall\, 3701 -32ND AVE\, Vernon\, BC\, V1T 2N2\, Canada
CATEGORIES:Class,Pipe Band,practice
ATTACH;FMTTYPE=image/jpeg:https://kelvernceltic.ca/wp-content/uploads/2023/10/Kal-practice.jpg
END:VEVENT
BEGIN:VEVENT
DTSTART;TZID=America/Vancouver:20231109T183000
DTEND;TZID=America/Vancouver:20231109T203000
DTSTAMP:20260420T165237
CREATED:20231023T132104Z
LAST-MODIFIED:20231215T220032Z
UID:10004373-1699554600-1699561800@kelvernceltic.ca
SUMMARY:Kalamalka Highlanders Band Practice
DESCRIPTION:Regular practice Thursday 6:30 Knox Presbyterian Church – corner of Alexis Park Drive and 32 Ave \nContact  Maureen Soichuk  250-306-2594  kalpipeband@hotmail.com \n  \n 
URL:https://kelvernceltic.ca/event/kalamalka-highlanders-band-practice/2023-11-09/
LOCATION:KNOX Presbyterian Church Hall\, 3701 -32ND AVE\, Vernon\, BC\, V1T 2N2\, Canada
CATEGORIES:Class,Pipe Band,practice
ATTACH;FMTTYPE=image/jpeg:https://kelvernceltic.ca/wp-content/uploads/2023/10/Kal-practice.jpg
END:VEVENT
BEGIN:VEVENT
DTSTART;TZID=America/Vancouver:20231102T183000
DTEND;TZID=America/Vancouver:20231102T203000
DTSTAMP:20260420T165237
CREATED:20231023T132104Z
LAST-MODIFIED:20231215T220032Z
UID:10004372-1698949800-1698957000@kelvernceltic.ca
SUMMARY:Kalamalka Highlanders Band Practice
DESCRIPTION:Regular practice Thursday 6:30 Knox Presbyterian Church – corner of Alexis Park Drive and 32 Ave \nContact  Maureen Soichuk  250-306-2594  kalpipeband@hotmail.com \n  \n 
URL:https://kelvernceltic.ca/event/kalamalka-highlanders-band-practice/2023-11-02/
LOCATION:KNOX Presbyterian Church Hall\, 3701 -32ND AVE\, Vernon\, BC\, V1T 2N2\, Canada
CATEGORIES:Class,Pipe Band,practice
ATTACH;FMTTYPE=image/jpeg:https://kelvernceltic.ca/wp-content/uploads/2023/10/Kal-practice.jpg
END:VEVENT
BEGIN:VEVENT
DTSTART;TZID=America/Vancouver:20231026T183000
DTEND;TZID=America/Vancouver:20231026T203000
DTSTAMP:20260420T165237
CREATED:20231023T132104Z
LAST-MODIFIED:20231215T220032Z
UID:10004371-1698345000-1698352200@kelvernceltic.ca
SUMMARY:Kalamalka Highlanders Band Practice
DESCRIPTION:Regular practice Thursday 6:30 Knox Presbyterian Church – corner of Alexis Park Drive and 32 Ave \nContact  Maureen Soichuk  250-306-2594  kalpipeband@hotmail.com \n  \n 
URL:https://kelvernceltic.ca/event/kalamalka-highlanders-band-practice/2023-10-26/
LOCATION:KNOX Presbyterian Church Hall\, 3701 -32ND AVE\, Vernon\, BC\, V1T 2N2\, Canada
CATEGORIES:Class,Pipe Band,practice
ATTACH;FMTTYPE=image/jpeg:https://kelvernceltic.ca/wp-content/uploads/2023/10/Kal-practice.jpg
END:VEVENT
END:VCALENDAR