BEGIN:VCALENDAR
VERSION:2.0
PRODID:-//Kelvern Celtic Society - ECPv6.15.20//NONSGML v1.0//EN
CALSCALE:GREGORIAN
METHOD:PUBLISH
X-WR-CALNAME:Kelvern Celtic Society
X-ORIGINAL-URL:https://kelvernceltic.ca
X-WR-CALDESC:Events for Kelvern Celtic Society
REFRESH-INTERVAL;VALUE=DURATION:PT1H
X-Robots-Tag:noindex
X-PUBLISHED-TTL:PT1H
BEGIN:VTIMEZONE
TZID:America/Vancouver
BEGIN:DAYLIGHT
TZOFFSETFROM:-0800
TZOFFSETTO:-0700
TZNAME:PDT
DTSTART:20230312T100000
END:DAYLIGHT
BEGIN:STANDARD
TZOFFSETFROM:-0700
TZOFFSETTO:-0800
TZNAME:PST
DTSTART:20231105T090000
END:STANDARD
BEGIN:DAYLIGHT
TZOFFSETFROM:-0800
TZOFFSETTO:-0700
TZNAME:PDT
DTSTART:20240310T100000
END:DAYLIGHT
BEGIN:STANDARD
TZOFFSETFROM:-0700
TZOFFSETTO:-0800
TZNAME:PST
DTSTART:20241103T090000
END:STANDARD
BEGIN:DAYLIGHT
TZOFFSETFROM:-0800
TZOFFSETTO:-0700
TZNAME:PDT
DTSTART:20250309T100000
END:DAYLIGHT
BEGIN:STANDARD
TZOFFSETFROM:-0700
TZOFFSETTO:-0800
TZNAME:PST
DTSTART:20251102T090000
END:STANDARD
BEGIN:DAYLIGHT
TZOFFSETFROM:-0800
TZOFFSETTO:-0700
TZNAME:PDT
DTSTART:20260308T100000
END:DAYLIGHT
BEGIN:STANDARD
TZOFFSETFROM:-0700
TZOFFSETTO:-0800
TZNAME:PST
DTSTART:20261101T090000
END:STANDARD
BEGIN:DAYLIGHT
TZOFFSETFROM:-0800
TZOFFSETTO:-0700
TZNAME:PDT
DTSTART:20270314T100000
END:DAYLIGHT
BEGIN:STANDARD
TZOFFSETFROM:-0700
TZOFFSETTO:-0800
TZNAME:PST
DTSTART:20271107T090000
END:STANDARD
END:VTIMEZONE
BEGIN:VEVENT
DTSTART;TZID=America/Vancouver:20260126T183000
DTEND;TZID=America/Vancouver:20260126T203000
DTSTAMP:20260420T140249
CREATED:20251004T161027Z
LAST-MODIFIED:20251004T162804Z
UID:10005352-1769452200-1769459400@kelvernceltic.ca
SUMMARY:Shuswap Pipes n Drums Practice in Salmon Arm
DESCRIPTION:Practice at the Salmon Arm Legion.  Practices are sometimes moved or on-line. \nTo confirm practice is on email manager@shuswap-pipesndrums.ca or pm@shuswap-pipesndrums.ca
URL:https://kelvernceltic.ca/event/shuswap-pipes-n-drums-practice-in-salmon-arm-2-2/2026-01-26/
LOCATION:Salmon Arm Royal Canadian Legion Branch 62\, 141 Hudson Ave NW\, Salmon Arm\, BC\, V1E 4M2\, Canada
CATEGORIES:practice
ATTACH;FMTTYPE=image/jpeg:https://kelvernceltic.ca/wp-content/uploads/2023/10/Shuswap-practice.jpg
ORGANIZER;CN="Shuswap Pipes 'n Drums":MAILTO:Shuswappnd@gmail.com
END:VEVENT
BEGIN:VEVENT
DTSTART;TZID=America/Vancouver:20260120T190000
DTEND;TZID=America/Vancouver:20260120T210000
DTSTAMP:20260420T140249
CREATED:20260118T214326Z
LAST-MODIFIED:20260119T002459Z
UID:10005430-1768935600-1768942800@kelvernceltic.ca
SUMMARY:Kelowna Scottish Country Dancers - General Class
DESCRIPTION:Kelowna Scottish Dancers will dance to the end of April\, 2026.  Our General\nClass runs from 7pm to 9pm every Tuesday.  Our Foundation Class runs\nfrom 5:45 pm until 6:45 pm every Tuesday.ry
URL:https://kelvernceltic.ca/event/kelowna-scottish-country-dancers-general-class/2026-01-20/
LOCATION:Central Okanagan United Church\, 721 Bernard Ave\, Kelowna\, British Columbia\, Canada
CATEGORIES:Class,practice,Scottish Country Dance
ATTACH;FMTTYPE=image/jpeg:https://kelvernceltic.ca/wp-content/uploads/2026/01/Kelowna-Scottish-Country-Dancers.jpg
END:VEVENT
BEGIN:VEVENT
DTSTART;TZID=America/Vancouver:20260113T190000
DTEND;TZID=America/Vancouver:20260113T210000
DTSTAMP:20260420T140249
CREATED:20260118T214326Z
LAST-MODIFIED:20260119T002459Z
UID:10005360-1768330800-1768338000@kelvernceltic.ca
SUMMARY:Kelowna Scottish Country Dancers - General Class
DESCRIPTION:Kelowna Scottish Dancers will dance to the end of April\, 2026.  Our General\nClass runs from 7pm to 9pm every Tuesday.  Our Foundation Class runs\nfrom 5:45 pm until 6:45 pm every Tuesday.ry
URL:https://kelvernceltic.ca/event/kelowna-scottish-country-dancers-general-class/2026-01-13/
LOCATION:Central Okanagan United Church\, 721 Bernard Ave\, Kelowna\, British Columbia\, Canada
CATEGORIES:Class,practice,Scottish Country Dance
ATTACH;FMTTYPE=image/jpeg:https://kelvernceltic.ca/wp-content/uploads/2026/01/Kelowna-Scottish-Country-Dancers.jpg
END:VEVENT
BEGIN:VEVENT
DTSTART;TZID=America/Vancouver:20251222T183000
DTEND;TZID=America/Vancouver:20251222T203000
DTSTAMP:20260420T140249
CREATED:20251004T161027Z
LAST-MODIFIED:20251004T162804Z
UID:10005351-1766428200-1766435400@kelvernceltic.ca
SUMMARY:Shuswap Pipes n Drums Practice in Salmon Arm
DESCRIPTION:Practice at the Salmon Arm Legion.  Practices are sometimes moved or on-line. \nTo confirm practice is on email manager@shuswap-pipesndrums.ca or pm@shuswap-pipesndrums.ca
URL:https://kelvernceltic.ca/event/shuswap-pipes-n-drums-practice-in-salmon-arm-2-2/2025-12-22/
LOCATION:Salmon Arm Royal Canadian Legion Branch 62\, 141 Hudson Ave NW\, Salmon Arm\, BC\, V1E 4M2\, Canada
CATEGORIES:practice
ATTACH;FMTTYPE=image/jpeg:https://kelvernceltic.ca/wp-content/uploads/2023/10/Shuswap-practice.jpg
ORGANIZER;CN="Shuswap Pipes 'n Drums":MAILTO:Shuswappnd@gmail.com
END:VEVENT
BEGIN:VEVENT
DTSTART;TZID=America/Vancouver:20251124T183000
DTEND;TZID=America/Vancouver:20251124T203000
DTSTAMP:20260420T140249
CREATED:20251004T161027Z
LAST-MODIFIED:20251004T162804Z
UID:10005350-1764009000-1764016200@kelvernceltic.ca
SUMMARY:Shuswap Pipes n Drums Practice in Salmon Arm
DESCRIPTION:Practice at the Salmon Arm Legion.  Practices are sometimes moved or on-line. \nTo confirm practice is on email manager@shuswap-pipesndrums.ca or pm@shuswap-pipesndrums.ca
URL:https://kelvernceltic.ca/event/shuswap-pipes-n-drums-practice-in-salmon-arm-2-2/2025-11-24/
LOCATION:Salmon Arm Royal Canadian Legion Branch 62\, 141 Hudson Ave NW\, Salmon Arm\, BC\, V1E 4M2\, Canada
CATEGORIES:practice
ATTACH;FMTTYPE=image/jpeg:https://kelvernceltic.ca/wp-content/uploads/2023/10/Shuswap-practice.jpg
ORGANIZER;CN="Shuswap Pipes 'n Drums":MAILTO:Shuswappnd@gmail.com
END:VEVENT
BEGIN:VEVENT
DTSTART;TZID=America/Vancouver:20251027T183000
DTEND;TZID=America/Vancouver:20251027T203000
DTSTAMP:20260420T140249
CREATED:20251004T161027Z
LAST-MODIFIED:20251004T162804Z
UID:10005227-1761589800-1761597000@kelvernceltic.ca
SUMMARY:Shuswap Pipes n Drums Practice in Salmon Arm
DESCRIPTION:Practice at the Salmon Arm Legion.  Practices are sometimes moved or on-line. \nTo confirm practice is on email manager@shuswap-pipesndrums.ca or pm@shuswap-pipesndrums.ca
URL:https://kelvernceltic.ca/event/shuswap-pipes-n-drums-practice-in-salmon-arm-2-2/2025-10-27/
LOCATION:Salmon Arm Royal Canadian Legion Branch 62\, 141 Hudson Ave NW\, Salmon Arm\, BC\, V1E 4M2\, Canada
CATEGORIES:practice
ATTACH;FMTTYPE=image/jpeg:https://kelvernceltic.ca/wp-content/uploads/2023/10/Shuswap-practice.jpg
ORGANIZER;CN="Shuswap Pipes 'n Drums":MAILTO:Shuswappnd@gmail.com
END:VEVENT
BEGIN:VEVENT
DTSTART;TZID=America/Vancouver:20251018T080000
DTEND;TZID=America/Vancouver:20251019T160000
DTSTAMP:20260420T140249
CREATED:20251004T162236Z
LAST-MODIFIED:20251004T162532Z
UID:10005349-1760774400-1760889600@kelvernceltic.ca
SUMMARY:Kamloops Pipe Band Society AGM
DESCRIPTION:Weekend Practice and AGM\nPrctice Saturday and Sunday. Sat 10am-2pm. Sunday 10am-4pm \nAGM Saturday 2pm \n  \nJ.R. Vicars Armoury\, 1221 McGill Rd\, Kamloops\, BC V2C 6B8
URL:https://kelvernceltic.ca/event/kamloops-pipe-band-society-agm/
LOCATION:J.R. Vicars Armoury\, 1221 McGill Road\, Kamloops\, BC\, V2C 6B8\, Canada
CATEGORIES:meeting,Pipe Band,practice
ATTACH;FMTTYPE=image/jpeg:https://kelvernceltic.ca/wp-content/uploads/2025/10/Kamloops-PB-in-Canmore.jpg
ORGANIZER;CN="Kelvern Celtic Society":MAILTO:info@kelvernceltic.ca
END:VEVENT
BEGIN:VEVENT
DTSTART;TZID=America/Vancouver:20250407T183000
DTEND;TZID=America/Vancouver:20250407T203000
DTSTAMP:20260420T140249
CREATED:20241015T182315Z
LAST-MODIFIED:20241016T181505Z
UID:10005226-1744050600-1744057800@kelvernceltic.ca
SUMMARY:Shuswap Pipes n Drums Practice in Salmon Arm
DESCRIPTION:Practice at the Salmon Arm Legion.  Practices are sometimes moved or on-line. \nTo confirm practice is on email manager@shuswap-pipesndrums.ca or pm@shuswap-pipesndrums.ca
URL:https://kelvernceltic.ca/event/shuswap-pipes-n-drums-practice-in-salmon-arm/2025-04-07/
LOCATION:Salmon Arm Royal Canadian Legion Branch 62\, 141 Hudson Ave NW\, Salmon Arm\, BC\, V1E 4M2\, Canada
CATEGORIES:practice
ATTACH;FMTTYPE=image/jpeg:https://kelvernceltic.ca/wp-content/uploads/2023/10/Shuswap-practice.jpg
ORGANIZER;CN="Shuswap Pipes 'n Drums":MAILTO:Shuswappnd@gmail.com
END:VEVENT
BEGIN:VEVENT
DTSTART;TZID=America/Vancouver:20250303T183000
DTEND;TZID=America/Vancouver:20250303T203000
DTSTAMP:20260420T140249
CREATED:20241015T182315Z
LAST-MODIFIED:20241016T181505Z
UID:10005225-1741026600-1741033800@kelvernceltic.ca
SUMMARY:Shuswap Pipes n Drums Practice in Salmon Arm
DESCRIPTION:Practice at the Salmon Arm Legion.  Practices are sometimes moved or on-line. \nTo confirm practice is on email manager@shuswap-pipesndrums.ca or pm@shuswap-pipesndrums.ca
URL:https://kelvernceltic.ca/event/shuswap-pipes-n-drums-practice-in-salmon-arm/2025-03-03/
LOCATION:Salmon Arm Royal Canadian Legion Branch 62\, 141 Hudson Ave NW\, Salmon Arm\, BC\, V1E 4M2\, Canada
CATEGORIES:practice
ATTACH;FMTTYPE=image/jpeg:https://kelvernceltic.ca/wp-content/uploads/2023/10/Shuswap-practice.jpg
ORGANIZER;CN="Shuswap Pipes 'n Drums":MAILTO:Shuswappnd@gmail.com
END:VEVENT
BEGIN:VEVENT
DTSTART;TZID=America/Vancouver:20250203T183000
DTEND;TZID=America/Vancouver:20250203T203000
DTSTAMP:20260420T140249
CREATED:20241015T182315Z
LAST-MODIFIED:20241016T181505Z
UID:10005224-1738607400-1738614600@kelvernceltic.ca
SUMMARY:Shuswap Pipes n Drums Practice in Salmon Arm
DESCRIPTION:Practice at the Salmon Arm Legion.  Practices are sometimes moved or on-line. \nTo confirm practice is on email manager@shuswap-pipesndrums.ca or pm@shuswap-pipesndrums.ca
URL:https://kelvernceltic.ca/event/shuswap-pipes-n-drums-practice-in-salmon-arm/2025-02-03/
LOCATION:Salmon Arm Royal Canadian Legion Branch 62\, 141 Hudson Ave NW\, Salmon Arm\, BC\, V1E 4M2\, Canada
CATEGORIES:practice
ATTACH;FMTTYPE=image/jpeg:https://kelvernceltic.ca/wp-content/uploads/2023/10/Shuswap-practice.jpg
ORGANIZER;CN="Shuswap Pipes 'n Drums":MAILTO:Shuswappnd@gmail.com
END:VEVENT
BEGIN:VEVENT
DTSTART;TZID=America/Vancouver:20250106T183000
DTEND;TZID=America/Vancouver:20250106T203000
DTSTAMP:20260420T140249
CREATED:20241015T182315Z
LAST-MODIFIED:20241016T181505Z
UID:10005223-1736188200-1736195400@kelvernceltic.ca
SUMMARY:Shuswap Pipes n Drums Practice in Salmon Arm
DESCRIPTION:Practice at the Salmon Arm Legion.  Practices are sometimes moved or on-line. \nTo confirm practice is on email manager@shuswap-pipesndrums.ca or pm@shuswap-pipesndrums.ca
URL:https://kelvernceltic.ca/event/shuswap-pipes-n-drums-practice-in-salmon-arm/2025-01-06/
LOCATION:Salmon Arm Royal Canadian Legion Branch 62\, 141 Hudson Ave NW\, Salmon Arm\, BC\, V1E 4M2\, Canada
CATEGORIES:practice
ATTACH;FMTTYPE=image/jpeg:https://kelvernceltic.ca/wp-content/uploads/2023/10/Shuswap-practice.jpg
ORGANIZER;CN="Shuswap Pipes 'n Drums":MAILTO:Shuswappnd@gmail.com
END:VEVENT
BEGIN:VEVENT
DTSTART;TZID=America/Vancouver:20241202T183000
DTEND;TZID=America/Vancouver:20241202T203000
DTSTAMP:20260420T140249
CREATED:20241015T182315Z
LAST-MODIFIED:20241016T181505Z
UID:10005222-1733164200-1733171400@kelvernceltic.ca
SUMMARY:Shuswap Pipes n Drums Practice in Salmon Arm
DESCRIPTION:Practice at the Salmon Arm Legion.  Practices are sometimes moved or on-line. \nTo confirm practice is on email manager@shuswap-pipesndrums.ca or pm@shuswap-pipesndrums.ca
URL:https://kelvernceltic.ca/event/shuswap-pipes-n-drums-practice-in-salmon-arm/2024-12-02/
LOCATION:Salmon Arm Royal Canadian Legion Branch 62\, 141 Hudson Ave NW\, Salmon Arm\, BC\, V1E 4M2\, Canada
CATEGORIES:practice
ATTACH;FMTTYPE=image/jpeg:https://kelvernceltic.ca/wp-content/uploads/2023/10/Shuswap-practice.jpg
ORGANIZER;CN="Shuswap Pipes 'n Drums":MAILTO:Shuswappnd@gmail.com
END:VEVENT
BEGIN:VEVENT
DTSTART;TZID=America/Vancouver:20241104T183000
DTEND;TZID=America/Vancouver:20241104T203000
DTSTAMP:20260420T140249
CREATED:20241015T182315Z
LAST-MODIFIED:20241016T181505Z
UID:10005221-1730745000-1730752200@kelvernceltic.ca
SUMMARY:Shuswap Pipes n Drums Practice in Salmon Arm
DESCRIPTION:Practice at the Salmon Arm Legion.  Practices are sometimes moved or on-line. \nTo confirm practice is on email manager@shuswap-pipesndrums.ca or pm@shuswap-pipesndrums.ca
URL:https://kelvernceltic.ca/event/shuswap-pipes-n-drums-practice-in-salmon-arm/2024-11-04/
LOCATION:Salmon Arm Royal Canadian Legion Branch 62\, 141 Hudson Ave NW\, Salmon Arm\, BC\, V1E 4M2\, Canada
CATEGORIES:practice
ATTACH;FMTTYPE=image/jpeg:https://kelvernceltic.ca/wp-content/uploads/2023/10/Shuswap-practice.jpg
ORGANIZER;CN="Shuswap Pipes 'n Drums":MAILTO:Shuswappnd@gmail.com
END:VEVENT
BEGIN:VEVENT
DTSTART;TZID=America/Vancouver:20240425T183000
DTEND;TZID=America/Vancouver:20240425T203000
DTSTAMP:20260420T140249
CREATED:20231023T132104Z
LAST-MODIFIED:20231215T220032Z
UID:10004395-1714069800-1714077000@kelvernceltic.ca
SUMMARY:Kalamalka Highlanders Band Practice
DESCRIPTION:Regular practice Thursday 6:30 Knox Presbyterian Church – corner of Alexis Park Drive and 32 Ave \nContact  Maureen Soichuk  250-306-2594  kalpipeband@hotmail.com \n  \n 
URL:https://kelvernceltic.ca/event/kalamalka-highlanders-band-practice/2024-04-25/
LOCATION:KNOX Presbyterian Church Hall\, 3701 -32ND AVE\, Vernon\, BC\, V1T 2N2\, Canada
CATEGORIES:Class,Pipe Band,practice
ATTACH;FMTTYPE=image/jpeg:https://kelvernceltic.ca/wp-content/uploads/2023/10/Kal-practice.jpg
END:VEVENT
BEGIN:VEVENT
DTSTART;TZID=America/Vancouver:20240418T183000
DTEND;TZID=America/Vancouver:20240418T203000
DTSTAMP:20260420T140249
CREATED:20231023T132104Z
LAST-MODIFIED:20231215T220032Z
UID:10004394-1713465000-1713472200@kelvernceltic.ca
SUMMARY:Kalamalka Highlanders Band Practice
DESCRIPTION:Regular practice Thursday 6:30 Knox Presbyterian Church – corner of Alexis Park Drive and 32 Ave \nContact  Maureen Soichuk  250-306-2594  kalpipeband@hotmail.com \n  \n 
URL:https://kelvernceltic.ca/event/kalamalka-highlanders-band-practice/2024-04-18/
LOCATION:KNOX Presbyterian Church Hall\, 3701 -32ND AVE\, Vernon\, BC\, V1T 2N2\, Canada
CATEGORIES:Class,Pipe Band,practice
ATTACH;FMTTYPE=image/jpeg:https://kelvernceltic.ca/wp-content/uploads/2023/10/Kal-practice.jpg
END:VEVENT
BEGIN:VEVENT
DTSTART;TZID=America/Vancouver:20240411T183000
DTEND;TZID=America/Vancouver:20240411T203000
DTSTAMP:20260420T140249
CREATED:20231023T132104Z
LAST-MODIFIED:20231215T220032Z
UID:10004393-1712860200-1712867400@kelvernceltic.ca
SUMMARY:Kalamalka Highlanders Band Practice
DESCRIPTION:Regular practice Thursday 6:30 Knox Presbyterian Church – corner of Alexis Park Drive and 32 Ave \nContact  Maureen Soichuk  250-306-2594  kalpipeband@hotmail.com \n  \n 
URL:https://kelvernceltic.ca/event/kalamalka-highlanders-band-practice/2024-04-11/
LOCATION:KNOX Presbyterian Church Hall\, 3701 -32ND AVE\, Vernon\, BC\, V1T 2N2\, Canada
CATEGORIES:Class,Pipe Band,practice
ATTACH;FMTTYPE=image/jpeg:https://kelvernceltic.ca/wp-content/uploads/2023/10/Kal-practice.jpg
END:VEVENT
BEGIN:VEVENT
DTSTART;TZID=America/Vancouver:20240404T183000
DTEND;TZID=America/Vancouver:20240404T203000
DTSTAMP:20260420T140249
CREATED:20231023T132104Z
LAST-MODIFIED:20231215T220032Z
UID:10004392-1712255400-1712262600@kelvernceltic.ca
SUMMARY:Kalamalka Highlanders Band Practice
DESCRIPTION:Regular practice Thursday 6:30 Knox Presbyterian Church – corner of Alexis Park Drive and 32 Ave \nContact  Maureen Soichuk  250-306-2594  kalpipeband@hotmail.com \n  \n 
URL:https://kelvernceltic.ca/event/kalamalka-highlanders-band-practice/2024-04-04/
LOCATION:KNOX Presbyterian Church Hall\, 3701 -32ND AVE\, Vernon\, BC\, V1T 2N2\, Canada
CATEGORIES:Class,Pipe Band,practice
ATTACH;FMTTYPE=image/jpeg:https://kelvernceltic.ca/wp-content/uploads/2023/10/Kal-practice.jpg
END:VEVENT
BEGIN:VEVENT
DTSTART;TZID=America/Vancouver:20240328T183000
DTEND;TZID=America/Vancouver:20240328T203000
DTSTAMP:20260420T140249
CREATED:20231023T132104Z
LAST-MODIFIED:20231215T220032Z
UID:10004391-1711650600-1711657800@kelvernceltic.ca
SUMMARY:Kalamalka Highlanders Band Practice
DESCRIPTION:Regular practice Thursday 6:30 Knox Presbyterian Church – corner of Alexis Park Drive and 32 Ave \nContact  Maureen Soichuk  250-306-2594  kalpipeband@hotmail.com \n  \n 
URL:https://kelvernceltic.ca/event/kalamalka-highlanders-band-practice/2024-03-28/
LOCATION:KNOX Presbyterian Church Hall\, 3701 -32ND AVE\, Vernon\, BC\, V1T 2N2\, Canada
CATEGORIES:Class,Pipe Band,practice
ATTACH;FMTTYPE=image/jpeg:https://kelvernceltic.ca/wp-content/uploads/2023/10/Kal-practice.jpg
END:VEVENT
BEGIN:VEVENT
DTSTART;TZID=America/Vancouver:20240321T183000
DTEND;TZID=America/Vancouver:20240321T203000
DTSTAMP:20260420T140249
CREATED:20231023T132104Z
LAST-MODIFIED:20231215T220032Z
UID:10004390-1711045800-1711053000@kelvernceltic.ca
SUMMARY:Kalamalka Highlanders Band Practice
DESCRIPTION:Regular practice Thursday 6:30 Knox Presbyterian Church – corner of Alexis Park Drive and 32 Ave \nContact  Maureen Soichuk  250-306-2594  kalpipeband@hotmail.com \n  \n 
URL:https://kelvernceltic.ca/event/kalamalka-highlanders-band-practice/2024-03-21/
LOCATION:KNOX Presbyterian Church Hall\, 3701 -32ND AVE\, Vernon\, BC\, V1T 2N2\, Canada
CATEGORIES:Class,Pipe Band,practice
ATTACH;FMTTYPE=image/jpeg:https://kelvernceltic.ca/wp-content/uploads/2023/10/Kal-practice.jpg
END:VEVENT
BEGIN:VEVENT
DTSTART;TZID=America/Vancouver:20240314T183000
DTEND;TZID=America/Vancouver:20240314T203000
DTSTAMP:20260420T140249
CREATED:20231023T132104Z
LAST-MODIFIED:20231215T220032Z
UID:10004389-1710441000-1710448200@kelvernceltic.ca
SUMMARY:Kalamalka Highlanders Band Practice
DESCRIPTION:Regular practice Thursday 6:30 Knox Presbyterian Church – corner of Alexis Park Drive and 32 Ave \nContact  Maureen Soichuk  250-306-2594  kalpipeband@hotmail.com \n  \n 
URL:https://kelvernceltic.ca/event/kalamalka-highlanders-band-practice/2024-03-14/
LOCATION:KNOX Presbyterian Church Hall\, 3701 -32ND AVE\, Vernon\, BC\, V1T 2N2\, Canada
CATEGORIES:Class,Pipe Band,practice
ATTACH;FMTTYPE=image/jpeg:https://kelvernceltic.ca/wp-content/uploads/2023/10/Kal-practice.jpg
END:VEVENT
BEGIN:VEVENT
DTSTART;TZID=America/Vancouver:20240307T183000
DTEND;TZID=America/Vancouver:20240307T203000
DTSTAMP:20260420T140249
CREATED:20231023T132104Z
LAST-MODIFIED:20231215T220032Z
UID:10004388-1709836200-1709843400@kelvernceltic.ca
SUMMARY:Kalamalka Highlanders Band Practice
DESCRIPTION:Regular practice Thursday 6:30 Knox Presbyterian Church – corner of Alexis Park Drive and 32 Ave \nContact  Maureen Soichuk  250-306-2594  kalpipeband@hotmail.com \n  \n 
URL:https://kelvernceltic.ca/event/kalamalka-highlanders-band-practice/2024-03-07/
LOCATION:KNOX Presbyterian Church Hall\, 3701 -32ND AVE\, Vernon\, BC\, V1T 2N2\, Canada
CATEGORIES:Class,Pipe Band,practice
ATTACH;FMTTYPE=image/jpeg:https://kelvernceltic.ca/wp-content/uploads/2023/10/Kal-practice.jpg
END:VEVENT
BEGIN:VEVENT
DTSTART;TZID=America/Vancouver:20240229T183000
DTEND;TZID=America/Vancouver:20240229T203000
DTSTAMP:20260420T140249
CREATED:20231023T132104Z
LAST-MODIFIED:20231215T220032Z
UID:10004387-1709231400-1709238600@kelvernceltic.ca
SUMMARY:Kalamalka Highlanders Band Practice
DESCRIPTION:Regular practice Thursday 6:30 Knox Presbyterian Church – corner of Alexis Park Drive and 32 Ave \nContact  Maureen Soichuk  250-306-2594  kalpipeband@hotmail.com \n  \n 
URL:https://kelvernceltic.ca/event/kalamalka-highlanders-band-practice/2024-02-29/
LOCATION:KNOX Presbyterian Church Hall\, 3701 -32ND AVE\, Vernon\, BC\, V1T 2N2\, Canada
CATEGORIES:Class,Pipe Band,practice
ATTACH;FMTTYPE=image/jpeg:https://kelvernceltic.ca/wp-content/uploads/2023/10/Kal-practice.jpg
END:VEVENT
BEGIN:VEVENT
DTSTART;TZID=America/Vancouver:20240222T183000
DTEND;TZID=America/Vancouver:20240222T203000
DTSTAMP:20260420T140249
CREATED:20231023T132104Z
LAST-MODIFIED:20231215T220032Z
UID:10004386-1708626600-1708633800@kelvernceltic.ca
SUMMARY:Kalamalka Highlanders Band Practice
DESCRIPTION:Regular practice Thursday 6:30 Knox Presbyterian Church – corner of Alexis Park Drive and 32 Ave \nContact  Maureen Soichuk  250-306-2594  kalpipeband@hotmail.com \n  \n 
URL:https://kelvernceltic.ca/event/kalamalka-highlanders-band-practice/2024-02-22/
LOCATION:KNOX Presbyterian Church Hall\, 3701 -32ND AVE\, Vernon\, BC\, V1T 2N2\, Canada
CATEGORIES:Class,Pipe Band,practice
ATTACH;FMTTYPE=image/jpeg:https://kelvernceltic.ca/wp-content/uploads/2023/10/Kal-practice.jpg
END:VEVENT
BEGIN:VEVENT
DTSTART;TZID=America/Vancouver:20240215T183000
DTEND;TZID=America/Vancouver:20240215T203000
DTSTAMP:20260420T140249
CREATED:20231023T132104Z
LAST-MODIFIED:20231215T220032Z
UID:10004385-1708021800-1708029000@kelvernceltic.ca
SUMMARY:Kalamalka Highlanders Band Practice
DESCRIPTION:Regular practice Thursday 6:30 Knox Presbyterian Church – corner of Alexis Park Drive and 32 Ave \nContact  Maureen Soichuk  250-306-2594  kalpipeband@hotmail.com \n  \n 
URL:https://kelvernceltic.ca/event/kalamalka-highlanders-band-practice/2024-02-15/
LOCATION:KNOX Presbyterian Church Hall\, 3701 -32ND AVE\, Vernon\, BC\, V1T 2N2\, Canada
CATEGORIES:Class,Pipe Band,practice
ATTACH;FMTTYPE=image/jpeg:https://kelvernceltic.ca/wp-content/uploads/2023/10/Kal-practice.jpg
END:VEVENT
BEGIN:VEVENT
DTSTART;TZID=America/Vancouver:20240208T183000
DTEND;TZID=America/Vancouver:20240208T203000
DTSTAMP:20260420T140249
CREATED:20231023T132104Z
LAST-MODIFIED:20231215T220032Z
UID:10004384-1707417000-1707424200@kelvernceltic.ca
SUMMARY:Kalamalka Highlanders Band Practice
DESCRIPTION:Regular practice Thursday 6:30 Knox Presbyterian Church – corner of Alexis Park Drive and 32 Ave \nContact  Maureen Soichuk  250-306-2594  kalpipeband@hotmail.com \n  \n 
URL:https://kelvernceltic.ca/event/kalamalka-highlanders-band-practice/2024-02-08/
LOCATION:KNOX Presbyterian Church Hall\, 3701 -32ND AVE\, Vernon\, BC\, V1T 2N2\, Canada
CATEGORIES:Class,Pipe Band,practice
ATTACH;FMTTYPE=image/jpeg:https://kelvernceltic.ca/wp-content/uploads/2023/10/Kal-practice.jpg
END:VEVENT
BEGIN:VEVENT
DTSTART;TZID=America/Vancouver:20240201T183000
DTEND;TZID=America/Vancouver:20240201T203000
DTSTAMP:20260420T140249
CREATED:20231023T132104Z
LAST-MODIFIED:20231215T220032Z
UID:10004383-1706812200-1706819400@kelvernceltic.ca
SUMMARY:Kalamalka Highlanders Band Practice
DESCRIPTION:Regular practice Thursday 6:30 Knox Presbyterian Church – corner of Alexis Park Drive and 32 Ave \nContact  Maureen Soichuk  250-306-2594  kalpipeband@hotmail.com \n  \n 
URL:https://kelvernceltic.ca/event/kalamalka-highlanders-band-practice/2024-02-01/
LOCATION:KNOX Presbyterian Church Hall\, 3701 -32ND AVE\, Vernon\, BC\, V1T 2N2\, Canada
CATEGORIES:Class,Pipe Band,practice
ATTACH;FMTTYPE=image/jpeg:https://kelvernceltic.ca/wp-content/uploads/2023/10/Kal-practice.jpg
END:VEVENT
BEGIN:VEVENT
DTSTART;TZID=America/Vancouver:20240125T183000
DTEND;TZID=America/Vancouver:20240125T203000
DTSTAMP:20260420T140249
CREATED:20231023T132104Z
LAST-MODIFIED:20231215T220032Z
UID:10004382-1706207400-1706214600@kelvernceltic.ca
SUMMARY:Kalamalka Highlanders Band Practice
DESCRIPTION:Regular practice Thursday 6:30 Knox Presbyterian Church – corner of Alexis Park Drive and 32 Ave \nContact  Maureen Soichuk  250-306-2594  kalpipeband@hotmail.com \n  \n 
URL:https://kelvernceltic.ca/event/kalamalka-highlanders-band-practice/2024-01-25/
LOCATION:KNOX Presbyterian Church Hall\, 3701 -32ND AVE\, Vernon\, BC\, V1T 2N2\, Canada
CATEGORIES:Class,Pipe Band,practice
ATTACH;FMTTYPE=image/jpeg:https://kelvernceltic.ca/wp-content/uploads/2023/10/Kal-practice.jpg
END:VEVENT
BEGIN:VEVENT
DTSTART;TZID=America/Vancouver:20240118T183000
DTEND;TZID=America/Vancouver:20240118T203000
DTSTAMP:20260420T140249
CREATED:20231023T132104Z
LAST-MODIFIED:20231215T220032Z
UID:10004381-1705602600-1705609800@kelvernceltic.ca
SUMMARY:Kalamalka Highlanders Band Practice
DESCRIPTION:Regular practice Thursday 6:30 Knox Presbyterian Church – corner of Alexis Park Drive and 32 Ave \nContact  Maureen Soichuk  250-306-2594  kalpipeband@hotmail.com \n  \n 
URL:https://kelvernceltic.ca/event/kalamalka-highlanders-band-practice/2024-01-18/
LOCATION:KNOX Presbyterian Church Hall\, 3701 -32ND AVE\, Vernon\, BC\, V1T 2N2\, Canada
CATEGORIES:Class,Pipe Band,practice
ATTACH;FMTTYPE=image/jpeg:https://kelvernceltic.ca/wp-content/uploads/2023/10/Kal-practice.jpg
END:VEVENT
BEGIN:VEVENT
DTSTART;TZID=America/Vancouver:20240111T183000
DTEND;TZID=America/Vancouver:20240111T203000
DTSTAMP:20260420T140249
CREATED:20231023T132104Z
LAST-MODIFIED:20231215T220032Z
UID:10004380-1704997800-1705005000@kelvernceltic.ca
SUMMARY:Kalamalka Highlanders Band Practice
DESCRIPTION:Regular practice Thursday 6:30 Knox Presbyterian Church – corner of Alexis Park Drive and 32 Ave \nContact  Maureen Soichuk  250-306-2594  kalpipeband@hotmail.com \n  \n 
URL:https://kelvernceltic.ca/event/kalamalka-highlanders-band-practice/2024-01-11/
LOCATION:KNOX Presbyterian Church Hall\, 3701 -32ND AVE\, Vernon\, BC\, V1T 2N2\, Canada
CATEGORIES:Class,Pipe Band,practice
ATTACH;FMTTYPE=image/jpeg:https://kelvernceltic.ca/wp-content/uploads/2023/10/Kal-practice.jpg
END:VEVENT
BEGIN:VEVENT
DTSTART;TZID=America/Vancouver:20240104T183000
DTEND;TZID=America/Vancouver:20240104T203000
DTSTAMP:20260420T140249
CREATED:20231023T132104Z
LAST-MODIFIED:20231215T220032Z
UID:10004379-1704393000-1704400200@kelvernceltic.ca
SUMMARY:Kalamalka Highlanders Band Practice
DESCRIPTION:Regular practice Thursday 6:30 Knox Presbyterian Church – corner of Alexis Park Drive and 32 Ave \nContact  Maureen Soichuk  250-306-2594  kalpipeband@hotmail.com \n  \n 
URL:https://kelvernceltic.ca/event/kalamalka-highlanders-band-practice/2024-01-04/
LOCATION:KNOX Presbyterian Church Hall\, 3701 -32ND AVE\, Vernon\, BC\, V1T 2N2\, Canada
CATEGORIES:Class,Pipe Band,practice
ATTACH;FMTTYPE=image/jpeg:https://kelvernceltic.ca/wp-content/uploads/2023/10/Kal-practice.jpg
END:VEVENT
END:VCALENDAR