BEGIN:VCALENDAR
VERSION:2.0
PRODID:-//Kelvern Celtic Society - ECPv6.15.20//NONSGML v1.0//EN
CALSCALE:GREGORIAN
METHOD:PUBLISH
X-ORIGINAL-URL:https://kelvernceltic.ca
X-WR-CALDESC:Events for Kelvern Celtic Society
REFRESH-INTERVAL;VALUE=DURATION:PT1H
X-Robots-Tag:noindex
X-PUBLISHED-TTL:PT1H
BEGIN:VTIMEZONE
TZID:America/Vancouver
BEGIN:DAYLIGHT
TZOFFSETFROM:-0800
TZOFFSETTO:-0700
TZNAME:PDT
DTSTART:20230312T100000
END:DAYLIGHT
BEGIN:STANDARD
TZOFFSETFROM:-0700
TZOFFSETTO:-0800
TZNAME:PST
DTSTART:20231105T090000
END:STANDARD
BEGIN:DAYLIGHT
TZOFFSETFROM:-0800
TZOFFSETTO:-0700
TZNAME:PDT
DTSTART:20240310T100000
END:DAYLIGHT
BEGIN:STANDARD
TZOFFSETFROM:-0700
TZOFFSETTO:-0800
TZNAME:PST
DTSTART:20241103T090000
END:STANDARD
BEGIN:DAYLIGHT
TZOFFSETFROM:-0800
TZOFFSETTO:-0700
TZNAME:PDT
DTSTART:20250309T100000
END:DAYLIGHT
BEGIN:STANDARD
TZOFFSETFROM:-0700
TZOFFSETTO:-0800
TZNAME:PST
DTSTART:20251102T090000
END:STANDARD
END:VTIMEZONE
BEGIN:VEVENT
DTSTART;TZID=America/Vancouver:20240721T100000
DTEND;TZID=America/Vancouver:20240721T160000
DTSTAMP:20260421T114839
CREATED:20240604T184519Z
LAST-MODIFIED:20240712T002841Z
UID:10005201-1721556000-1721577600@kelvernceltic.ca
SUMMARY:Fintry Highland Fair
DESCRIPTION:Join us  10am to 4pm\, for the Fintry Highland Fair! \nA Fintry Fair like no other! \nJoin us for Highland competitions! \n▪ Haggis Hurling\n▪ Wife Carrying Race\n▪ Welly-boot Throw\n▪ Tug-O-War \nThe Fair will present a selection of exhibitors and vendors will have displays on the lawn showcasing plants and shrubs\, gardening know-how\, food stuffs\, house maintenance and arts and crafts. Food is available for purchase through food truck vendors. \nEntry to the Fair is by donation and there is no charge for Fintry Members and school-age children. Guided tours of the Manor House are offered throughout the day.
URL:https://kelvernceltic.ca/event/fintry-highland-fair/
LOCATION:Fintry Estate\, 7655 Fintry Delta Rd\, \, BC\, Kelowna\, BC\, V1Z 3V2\, Canada
CATEGORIES:Concert,Food trucks,History,Performance,Pipe Band,Pipes and Drums
ATTACH;FMTTYPE=image/png:https://kelvernceltic.ca/wp-content/uploads/2023/10/Kal-Highlanders-logo-3.png
END:VEVENT
END:VCALENDAR