BEGIN:VCALENDAR
VERSION:2.0
PRODID:-//Kelvern Celtic Society - ECPv6.15.20//NONSGML v1.0//EN
CALSCALE:GREGORIAN
METHOD:PUBLISH
X-WR-CALNAME:Kelvern Celtic Society
X-ORIGINAL-URL:https://kelvernceltic.ca
X-WR-CALDESC:Events for Kelvern Celtic Society
REFRESH-INTERVAL;VALUE=DURATION:PT1H
X-Robots-Tag:noindex
X-PUBLISHED-TTL:PT1H
BEGIN:VTIMEZONE
TZID:America/Vancouver
BEGIN:DAYLIGHT
TZOFFSETFROM:-0800
TZOFFSETTO:-0700
TZNAME:PDT
DTSTART:20240310T100000
END:DAYLIGHT
BEGIN:STANDARD
TZOFFSETFROM:-0700
TZOFFSETTO:-0800
TZNAME:PST
DTSTART:20241103T090000
END:STANDARD
BEGIN:DAYLIGHT
TZOFFSETFROM:-0800
TZOFFSETTO:-0700
TZNAME:PDT
DTSTART:20250309T100000
END:DAYLIGHT
BEGIN:STANDARD
TZOFFSETFROM:-0700
TZOFFSETTO:-0800
TZNAME:PST
DTSTART:20251102T090000
END:STANDARD
BEGIN:DAYLIGHT
TZOFFSETFROM:-0800
TZOFFSETTO:-0700
TZNAME:PDT
DTSTART:20260308T100000
END:DAYLIGHT
BEGIN:STANDARD
TZOFFSETFROM:-0700
TZOFFSETTO:-0800
TZNAME:PST
DTSTART:20261101T090000
END:STANDARD
BEGIN:DAYLIGHT
TZOFFSETFROM:-0800
TZOFFSETTO:-0700
TZNAME:PDT
DTSTART:20270314T100000
END:DAYLIGHT
BEGIN:STANDARD
TZOFFSETFROM:-0700
TZOFFSETTO:-0800
TZNAME:PST
DTSTART:20271107T090000
END:STANDARD
BEGIN:DAYLIGHT
TZOFFSETFROM:-0800
TZOFFSETTO:-0700
TZNAME:PDT
DTSTART:20280312T100000
END:DAYLIGHT
BEGIN:STANDARD
TZOFFSETFROM:-0700
TZOFFSETTO:-0800
TZNAME:PST
DTSTART:20281105T090000
END:STANDARD
BEGIN:DAYLIGHT
TZOFFSETFROM:-0800
TZOFFSETTO:-0700
TZNAME:PDT
DTSTART:20290311T100000
END:DAYLIGHT
BEGIN:STANDARD
TZOFFSETFROM:-0700
TZOFFSETTO:-0800
TZNAME:PST
DTSTART:20291104T090000
END:STANDARD
BEGIN:DAYLIGHT
TZOFFSETFROM:-0800
TZOFFSETTO:-0700
TZNAME:PDT
DTSTART:20300310T100000
END:DAYLIGHT
BEGIN:STANDARD
TZOFFSETFROM:-0700
TZOFFSETTO:-0800
TZNAME:PST
DTSTART:20301103T090000
END:STANDARD
BEGIN:DAYLIGHT
TZOFFSETFROM:-0800
TZOFFSETTO:-0700
TZNAME:PDT
DTSTART:20310309T100000
END:DAYLIGHT
BEGIN:STANDARD
TZOFFSETFROM:-0700
TZOFFSETTO:-0800
TZNAME:PST
DTSTART:20311102T090000
END:STANDARD
END:VTIMEZONE
BEGIN:VEVENT
DTSTART;TZID=America/Vancouver:20251130T120000
DTEND;TZID=America/Vancouver:20251130T160000
DTSTAMP:20260419T233400
CREATED:20251108T004328Z
LAST-MODIFIED:20251108T004328Z
UID:10005358-1764504000-1764518400@kelvernceltic.ca
SUMMARY:Okanagan Irish Society - 2025 Christmas Luncheon
DESCRIPTION:
URL:https://kelvernceltic.ca/event/okanagan-irish-society-2025-christmas-luncheon/
LOCATION:Holiday Park Resort\, 415 Commonwealth Road\, Kelowna\, British Columbia\, V4V 1R6\, Canada
CATEGORIES:Irish Celtic Music,Irish Dancing,Lunch,Performance,Social
ATTACH;FMTTYPE=image/png:https://kelvernceltic.ca/wp-content/uploads/2025/11/2025-Christmas-Luncheon.png
END:VEVENT
BEGIN:VEVENT
DTSTART;TZID=America/Vancouver:20260124T173000
DTEND;TZID=America/Vancouver:20260124T230000
DTSTAMP:20260419T233400
CREATED:20260119T003717Z
LAST-MODIFIED:20260119T003717Z
UID:10005497-1769275800-1769295600@kelvernceltic.ca
SUMMARY:Kelowna Pipe Band Society - Robbie Burns Dinner - SOLD OUT
DESCRIPTION:SOLD OUT\nCelebrate Scotland’s most famous poet\, Robert Burns\, with an unforgettable evening of tradition\, music\, and fine dining at the Kelowna Curling Club. This authentic Burns Night celebration brings together the rich heritage of Scotland with a warm community atmosphere. Tickets available now at: theboxoffice.ca\n\n\nTime: Doors open at 5:00 PM | Event starts at 5:30 PM\nVenue: Kelowna Curling Club\nPresented by: Kelowna Pipe Band\nTickets: $75 + fees and GST | Limited to 120 guests
URL:https://kelvernceltic.ca/event/kelowna-pipe-band-society-robbie-burns-dinner-sold-out/
LOCATION:Kelowna Curling Club\, 551 Recreation Avenue\, Kelowna\, British Columbia\, V1Y 7V5\, Canada
CATEGORIES:Dinner,Fund Raiser,Haggis,Highland Dancers,History,Performance,Pipe Band,Piper,Pipes and Drums,Scottish Country Dance
ATTACH;FMTTYPE=image/jpeg:https://kelvernceltic.ca/wp-content/uploads/2026/01/2026_Curling_club-poster.jpg
ORGANIZER;CN="Kelowna Pipe Band Society":MAILTO:kpbsociety@gmail.com
END:VEVENT
BEGIN:VEVENT
DTSTART;VALUE=DATE:20260404
DTEND;VALUE=DATE:20260406
DTSTAMP:20260419T233400
CREATED:20260202T215803Z
LAST-MODIFIED:20260202T215803Z
UID:10005336-1775260800-1775433599@kelvernceltic.ca
SUMMARY:BC Pipers Association Annual Gathering
DESCRIPTION:The BC Pipers’ Association Annual Gathering (also known as the “Indoor Meet”) is held on the Friday and Saturday of the Easter long weekend each year. \nThe Friday features Solo Piobaireachd competitions and Open Drumming competitions\, as well as drumming workshops. \nSaturday events are the remaining solo events\, a full band competition\, and the Ceilidh afterward including performances by the solo aggregate winners. \nCheck for the venue and date on the BC Pipers Web site: \nBCPA Annual Gathering
URL:https://kelvernceltic.ca/event/bc-pipers-annual-gathering-2/2026-04-04/
LOCATION:North Delta Secondary School\, 11447 82nd Ave\, Delta\, British Columbia\, V4C 5J6\, Canada
CATEGORIES:Performance,Pipe Band,Piper,Pipes and Drums,Social
ATTACH;FMTTYPE=image/png:https://kelvernceltic.ca/wp-content/uploads/2025/04/BCPA-Logo-Hi-res-893x10245-1.png
ORGANIZER;CN="Kelvern Celtic Society":MAILTO:info@kelvernceltic.ca
END:VEVENT
BEGIN:VEVENT
DTSTART;TZID=America/Vancouver:20260502T183000
DTEND;TZID=America/Vancouver:20260503T233000
DTSTAMP:20260419T233400
CREATED:20221202T183320Z
LAST-MODIFIED:20260202T213925Z
UID:10004232-1777746600-1777851000@kelvernceltic.ca
SUMMARY:Pipe Bands Spring Fling in Kamloops\, BC
DESCRIPTION:Hello Interior Pipe Bands!! \nThis is our first email to you all about the 2026 Spring Fling being held in Kamloops! \nWe are now on our way in the planning\, and I am just reaching out to see which of you wonderful Bands will be joining us on May 2nd! \nWe are looking forward to hosting you all in Kamloops! \nCheers\, \nShalni -KPBS Band Manager
URL:https://kelvernceltic.ca/event/pipe-bands-spring-fling/
LOCATION:TBA\, to be announced
CATEGORIES:Ceilidh,Marching Bands,Parade,Performance,Pipe Band,Pipes and Drums,Social
ATTACH;FMTTYPE=image/jpeg:https://kelvernceltic.ca/wp-content/uploads/2024/01/KelownaPB_Nov1123_2.jpg
ORGANIZER;CN="Kelvern Celtic Society":MAILTO:info@kelvernceltic.ca
END:VEVENT
BEGIN:VEVENT
DTSTART;VALUE=DATE:20270403
DTEND;VALUE=DATE:20270405
DTSTAMP:20260419T233400
CREATED:20260202T215803Z
LAST-MODIFIED:20260202T215803Z
UID:10005561-1806710400-1806883199@kelvernceltic.ca
SUMMARY:BC Pipers Association Annual Gathering
DESCRIPTION:The BC Pipers’ Association Annual Gathering (also known as the “Indoor Meet”) is held on the Friday and Saturday of the Easter long weekend each year. \nThe Friday features Solo Piobaireachd competitions and Open Drumming competitions\, as well as drumming workshops. \nSaturday events are the remaining solo events\, a full band competition\, and the Ceilidh afterward including performances by the solo aggregate winners. \nCheck for the venue and date on the BC Pipers Web site: \nBCPA Annual Gathering
URL:https://kelvernceltic.ca/event/bc-pipers-annual-gathering-2/2027-04-03/
LOCATION:North Delta Secondary School\, 11447 82nd Ave\, Delta\, British Columbia\, V4C 5J6\, Canada
CATEGORIES:Performance,Pipe Band,Piper,Pipes and Drums,Social
ATTACH;FMTTYPE=image/png:https://kelvernceltic.ca/wp-content/uploads/2025/04/BCPA-Logo-Hi-res-893x10245-1.png
ORGANIZER;CN="Kelvern Celtic Society":MAILTO:info@kelvernceltic.ca
END:VEVENT
BEGIN:VEVENT
DTSTART;VALUE=DATE:20280401
DTEND;VALUE=DATE:20280403
DTSTAMP:20260419T233400
CREATED:20260202T215803Z
LAST-MODIFIED:20260202T215803Z
UID:10005562-1838160000-1838332799@kelvernceltic.ca
SUMMARY:BC Pipers Association Annual Gathering
DESCRIPTION:The BC Pipers’ Association Annual Gathering (also known as the “Indoor Meet”) is held on the Friday and Saturday of the Easter long weekend each year. \nThe Friday features Solo Piobaireachd competitions and Open Drumming competitions\, as well as drumming workshops. \nSaturday events are the remaining solo events\, a full band competition\, and the Ceilidh afterward including performances by the solo aggregate winners. \nCheck for the venue and date on the BC Pipers Web site: \nBCPA Annual Gathering
URL:https://kelvernceltic.ca/event/bc-pipers-annual-gathering-2/2028-04-01/
LOCATION:North Delta Secondary School\, 11447 82nd Ave\, Delta\, British Columbia\, V4C 5J6\, Canada
CATEGORIES:Performance,Pipe Band,Piper,Pipes and Drums,Social
ATTACH;FMTTYPE=image/png:https://kelvernceltic.ca/wp-content/uploads/2025/04/BCPA-Logo-Hi-res-893x10245-1.png
ORGANIZER;CN="Kelvern Celtic Society":MAILTO:info@kelvernceltic.ca
END:VEVENT
BEGIN:VEVENT
DTSTART;VALUE=DATE:20290407
DTEND;VALUE=DATE:20290409
DTSTAMP:20260419T233400
CREATED:20260202T215803Z
LAST-MODIFIED:20260202T215803Z
UID:10005563-1870214400-1870387199@kelvernceltic.ca
SUMMARY:BC Pipers Association Annual Gathering
DESCRIPTION:The BC Pipers’ Association Annual Gathering (also known as the “Indoor Meet”) is held on the Friday and Saturday of the Easter long weekend each year. \nThe Friday features Solo Piobaireachd competitions and Open Drumming competitions\, as well as drumming workshops. \nSaturday events are the remaining solo events\, a full band competition\, and the Ceilidh afterward including performances by the solo aggregate winners. \nCheck for the venue and date on the BC Pipers Web site: \nBCPA Annual Gathering
URL:https://kelvernceltic.ca/event/bc-pipers-annual-gathering-2/2029-04-07/
LOCATION:North Delta Secondary School\, 11447 82nd Ave\, Delta\, British Columbia\, V4C 5J6\, Canada
CATEGORIES:Performance,Pipe Band,Piper,Pipes and Drums,Social
ATTACH;FMTTYPE=image/png:https://kelvernceltic.ca/wp-content/uploads/2025/04/BCPA-Logo-Hi-res-893x10245-1.png
ORGANIZER;CN="Kelvern Celtic Society":MAILTO:info@kelvernceltic.ca
END:VEVENT
BEGIN:VEVENT
DTSTART;VALUE=DATE:20300406
DTEND;VALUE=DATE:20300408
DTSTAMP:20260419T233400
CREATED:20260202T215803Z
LAST-MODIFIED:20260202T215803Z
UID:10005564-1901664000-1901836799@kelvernceltic.ca
SUMMARY:BC Pipers Association Annual Gathering
DESCRIPTION:The BC Pipers’ Association Annual Gathering (also known as the “Indoor Meet”) is held on the Friday and Saturday of the Easter long weekend each year. \nThe Friday features Solo Piobaireachd competitions and Open Drumming competitions\, as well as drumming workshops. \nSaturday events are the remaining solo events\, a full band competition\, and the Ceilidh afterward including performances by the solo aggregate winners. \nCheck for the venue and date on the BC Pipers Web site: \nBCPA Annual Gathering
URL:https://kelvernceltic.ca/event/bc-pipers-annual-gathering-2/2030-04-06/
LOCATION:North Delta Secondary School\, 11447 82nd Ave\, Delta\, British Columbia\, V4C 5J6\, Canada
CATEGORIES:Performance,Pipe Band,Piper,Pipes and Drums,Social
ATTACH;FMTTYPE=image/png:https://kelvernceltic.ca/wp-content/uploads/2025/04/BCPA-Logo-Hi-res-893x10245-1.png
ORGANIZER;CN="Kelvern Celtic Society":MAILTO:info@kelvernceltic.ca
END:VEVENT
END:VCALENDAR