BEGIN:VCALENDAR
VERSION:2.0
PRODID:-//Kelvern Celtic Society - ECPv6.15.20//NONSGML v1.0//EN
CALSCALE:GREGORIAN
METHOD:PUBLISH
X-ORIGINAL-URL:https://kelvernceltic.ca
X-WR-CALDESC:Events for Kelvern Celtic Society
REFRESH-INTERVAL;VALUE=DURATION:PT1H
X-Robots-Tag:noindex
X-PUBLISHED-TTL:PT1H
BEGIN:VTIMEZONE
TZID:America/Vancouver
BEGIN:DAYLIGHT
TZOFFSETFROM:-0800
TZOFFSETTO:-0700
TZNAME:PDT
DTSTART:20220313T100000
END:DAYLIGHT
BEGIN:STANDARD
TZOFFSETFROM:-0700
TZOFFSETTO:-0800
TZNAME:PST
DTSTART:20221106T090000
END:STANDARD
BEGIN:DAYLIGHT
TZOFFSETFROM:-0800
TZOFFSETTO:-0700
TZNAME:PDT
DTSTART:20230312T100000
END:DAYLIGHT
BEGIN:STANDARD
TZOFFSETFROM:-0700
TZOFFSETTO:-0800
TZNAME:PST
DTSTART:20231105T090000
END:STANDARD
BEGIN:DAYLIGHT
TZOFFSETFROM:-0800
TZOFFSETTO:-0700
TZNAME:PDT
DTSTART:20240310T100000
END:DAYLIGHT
BEGIN:STANDARD
TZOFFSETFROM:-0700
TZOFFSETTO:-0800
TZNAME:PST
DTSTART:20241103T090000
END:STANDARD
BEGIN:DAYLIGHT
TZOFFSETFROM:-0800
TZOFFSETTO:-0700
TZNAME:PDT
DTSTART:20250309T100000
END:DAYLIGHT
BEGIN:STANDARD
TZOFFSETFROM:-0700
TZOFFSETTO:-0800
TZNAME:PST
DTSTART:20251102T090000
END:STANDARD
END:VTIMEZONE
BEGIN:VEVENT
DTSTART;TZID=America/Vancouver:20240316T183000
DTEND;TZID=America/Vancouver:20240316T230000
DTSTAMP:20260419T111257
CREATED:20240224T044714Z
LAST-MODIFIED:20240224T044818Z
UID:10005186-1710613800-1710630000@kelvernceltic.ca
SUMMARY:Okanagan Irish Society St. Patrick's Day Celebration
DESCRIPTION:Come out to St. Edward’s Parish Hall for this year’s Okanagan Irish Society St. Patrick’s Day Celebration on Saturday\, March 16th. Doors will open at 6:30 PM\, dinner will be at 6:45 PM\, and music and dance entertainment provided by the Blakely Okanagan School of Irish Dance and Ceol na hEireann starting at 7:30 PM. Tickets are $35 per adult and $20 per child. Tickets include dinner and entry into the door prize draw. Bring cash for the 50/50 draw and the cash bar. Tickets can be purchased by e-transfer to okanaganirishsociety@gmail.com. Please put the names for the tickets in the memo. Tickets are limited so make sure to buy yours today!\n\nDate and Time: Saturday\, March 16th\, 2024 6:30 PM – 10:00 PM
URL:https://kelvernceltic.ca/event/okanagan-irish-society-st-patricks-day-celebration/
LOCATION:St. Edwards Parish Hall\, 11123 Okanagan Centre Road East\, Lake Country\, BC\, V4V 1H3\, Canada
CATEGORIES:Dinner,Irish Celtic Music,Irish Dancing,Performance,Social
END:VEVENT
BEGIN:VEVENT
DTSTART;TZID=America/Vancouver:20240222T183000
DTEND;TZID=America/Vancouver:20240222T223000
DTSTAMP:20260419T111257
CREATED:20240121T221659Z
LAST-MODIFIED:20240121T222705Z
UID:10005181-1708626600-1708641000@kelvernceltic.ca
SUMMARY:Okanagan Irish Society Pub Night
DESCRIPTION:The Okanagan Irish Society’s Pub Night is returning! Join us on Thursday\, February 22nd\, 2024 at Wings in Rutland as we for a team(s) to take part in their trivia night. We will be meeting at 6:30 PM\, and trivia begins at 7:00 PM. To RSVP please email the Okanagan Irish Society’s Social Convener\, Brenden at bsstuder@hotmail.com by Monday\, February 19th.
URL:https://kelvernceltic.ca/event/okanagan-irish-society-pub-night/
LOCATION:TBA\, to be announced
CATEGORIES:Performance,Social
END:VEVENT
BEGIN:VEVENT
DTSTART;TZID=America/Vancouver:20231227T080000
DTEND;TZID=America/Vancouver:20231231T170000
DTSTAMP:20260419T111257
CREATED:20231228T040116Z
LAST-MODIFIED:20231228T040208Z
UID:10005171-1703664000-1704042000@kelvernceltic.ca
SUMMARY:OMT Early Bird tickets on sale Until Dec 31
DESCRIPTION:Early Bird Ticket Deals\nare till December\, 31\n\n\nSave up to 22% on your purchase NOW! \nCall 250-549-7469 (toll-free 1-866-311-1011) \nor\n\n\nBUY TICKETS ONLINE
URL:https://kelvernceltic.ca/event/omt-early-bird-tickets-on-sale/
LOCATION:Kal Tire Place\, 3445 43rd Avenue\,\, Vernon\, BC\, Canada
CATEGORIES:Concert,Highland Dancers,Marching Bands,Performance,Pipe Band,Pipes and Drums,Tattoo
END:VEVENT
END:VCALENDAR