BEGIN:VCALENDAR
VERSION:2.0
PRODID:-//Kelvern Celtic Society - ECPv6.15.20//NONSGML v1.0//EN
CALSCALE:GREGORIAN
METHOD:PUBLISH
X-WR-CALNAME:Kelvern Celtic Society
X-ORIGINAL-URL:https://kelvernceltic.ca
X-WR-CALDESC:Events for Kelvern Celtic Society
REFRESH-INTERVAL;VALUE=DURATION:PT1H
X-Robots-Tag:noindex
X-PUBLISHED-TTL:PT1H
BEGIN:VTIMEZONE
TZID:America/Vancouver
BEGIN:DAYLIGHT
TZOFFSETFROM:-0800
TZOFFSETTO:-0700
TZNAME:PDT
DTSTART:20250309T100000
END:DAYLIGHT
BEGIN:STANDARD
TZOFFSETFROM:-0700
TZOFFSETTO:-0800
TZNAME:PST
DTSTART:20251102T090000
END:STANDARD
BEGIN:DAYLIGHT
TZOFFSETFROM:-0800
TZOFFSETTO:-0700
TZNAME:PDT
DTSTART:20260308T100000
END:DAYLIGHT
BEGIN:STANDARD
TZOFFSETFROM:-0700
TZOFFSETTO:-0800
TZNAME:PST
DTSTART:20261101T090000
END:STANDARD
BEGIN:DAYLIGHT
TZOFFSETFROM:-0800
TZOFFSETTO:-0700
TZNAME:PDT
DTSTART:20270314T100000
END:DAYLIGHT
BEGIN:STANDARD
TZOFFSETFROM:-0700
TZOFFSETTO:-0800
TZNAME:PST
DTSTART:20271107T090000
END:STANDARD
END:VTIMEZONE
BEGIN:VEVENT
DTSTART;TZID=America/Vancouver:20260502T183000
DTEND;TZID=America/Vancouver:20260503T233000
DTSTAMP:20260419T112005
CREATED:20221202T183320Z
LAST-MODIFIED:20260202T213925Z
UID:10004232-1777746600-1777851000@kelvernceltic.ca
SUMMARY:Pipe Bands Spring Fling in Kamloops\, BC
DESCRIPTION:Hello Interior Pipe Bands!! \nThis is our first email to you all about the 2026 Spring Fling being held in Kamloops! \nWe are now on our way in the planning\, and I am just reaching out to see which of you wonderful Bands will be joining us on May 2nd! \nWe are looking forward to hosting you all in Kamloops! \nCheers\, \nShalni -KPBS Band Manager
URL:https://kelvernceltic.ca/event/pipe-bands-spring-fling/
LOCATION:TBA\, to be announced
CATEGORIES:Ceilidh,Marching Bands,Parade,Performance,Pipe Band,Pipes and Drums,Social
ATTACH;FMTTYPE=image/jpeg:https://kelvernceltic.ca/wp-content/uploads/2024/01/KelownaPB_Nov1123_2.jpg
ORGANIZER;CN="Kelvern Celtic Society":MAILTO:info@kelvernceltic.ca
END:VEVENT
END:VCALENDAR