BEGIN:VCALENDAR
VERSION:2.0
PRODID:-//Kelvern Celtic Society - ECPv6.15.20//NONSGML v1.0//EN
CALSCALE:GREGORIAN
METHOD:PUBLISH
X-ORIGINAL-URL:https://kelvernceltic.ca
X-WR-CALDESC:Events for Kelvern Celtic Society
REFRESH-INTERVAL;VALUE=DURATION:PT1H
X-Robots-Tag:noindex
X-PUBLISHED-TTL:PT1H
BEGIN:VTIMEZONE
TZID:America/Vancouver
BEGIN:DAYLIGHT
TZOFFSETFROM:-0800
TZOFFSETTO:-0700
TZNAME:PDT
DTSTART:20240310T100000
END:DAYLIGHT
BEGIN:STANDARD
TZOFFSETFROM:-0700
TZOFFSETTO:-0800
TZNAME:PST
DTSTART:20241103T090000
END:STANDARD
BEGIN:DAYLIGHT
TZOFFSETFROM:-0800
TZOFFSETTO:-0700
TZNAME:PDT
DTSTART:20250309T100000
END:DAYLIGHT
BEGIN:STANDARD
TZOFFSETFROM:-0700
TZOFFSETTO:-0800
TZNAME:PST
DTSTART:20251102T090000
END:STANDARD
BEGIN:DAYLIGHT
TZOFFSETFROM:-0800
TZOFFSETTO:-0700
TZNAME:PDT
DTSTART:20260308T100000
END:DAYLIGHT
BEGIN:STANDARD
TZOFFSETFROM:-0700
TZOFFSETTO:-0800
TZNAME:PST
DTSTART:20261101T090000
END:STANDARD
END:VTIMEZONE
BEGIN:VEVENT
DTSTART;TZID=America/Vancouver:20251130T120000
DTEND;TZID=America/Vancouver:20251130T160000
DTSTAMP:20260419T182149
CREATED:20251108T004328Z
LAST-MODIFIED:20251108T004328Z
UID:10005358-1764504000-1764518400@kelvernceltic.ca
SUMMARY:Okanagan Irish Society - 2025 Christmas Luncheon
DESCRIPTION:
URL:https://kelvernceltic.ca/event/okanagan-irish-society-2025-christmas-luncheon/
LOCATION:Holiday Park Resort\, 415 Commonwealth Road\, Kelowna\, British Columbia\, V4V 1R6\, Canada
CATEGORIES:Irish Celtic Music,Irish Dancing,Lunch,Performance,Social
ATTACH;FMTTYPE=image/png:https://kelvernceltic.ca/wp-content/uploads/2025/11/2025-Christmas-Luncheon.png
END:VEVENT
END:VCALENDAR