BEGIN:VCALENDAR
VERSION:2.0
PRODID:-//Kelvern Celtic Society - ECPv6.15.20//NONSGML v1.0//EN
CALSCALE:GREGORIAN
METHOD:PUBLISH
X-WR-CALNAME:Kelvern Celtic Society
X-ORIGINAL-URL:https://kelvernceltic.ca
X-WR-CALDESC:Events for Kelvern Celtic Society
REFRESH-INTERVAL;VALUE=DURATION:PT1H
X-Robots-Tag:noindex
X-PUBLISHED-TTL:PT1H
BEGIN:VTIMEZONE
TZID:America/Vancouver
BEGIN:DAYLIGHT
TZOFFSETFROM:-0800
TZOFFSETTO:-0700
TZNAME:PDT
DTSTART:20240310T100000
END:DAYLIGHT
BEGIN:STANDARD
TZOFFSETFROM:-0700
TZOFFSETTO:-0800
TZNAME:PST
DTSTART:20241103T090000
END:STANDARD
BEGIN:DAYLIGHT
TZOFFSETFROM:-0800
TZOFFSETTO:-0700
TZNAME:PDT
DTSTART:20250309T100000
END:DAYLIGHT
BEGIN:STANDARD
TZOFFSETFROM:-0700
TZOFFSETTO:-0800
TZNAME:PST
DTSTART:20251102T090000
END:STANDARD
BEGIN:DAYLIGHT
TZOFFSETFROM:-0800
TZOFFSETTO:-0700
TZNAME:PDT
DTSTART:20260308T100000
END:DAYLIGHT
BEGIN:STANDARD
TZOFFSETFROM:-0700
TZOFFSETTO:-0800
TZNAME:PST
DTSTART:20261101T090000
END:STANDARD
END:VTIMEZONE
BEGIN:VEVENT
DTSTART;TZID=America/Vancouver:20250123T170000
DTEND;TZID=America/Vancouver:20250123T200000
DTSTAMP:20260420T220754
CREATED:20241205T212338Z
LAST-MODIFIED:20241205T213051Z
UID:10005301-1737651600-1737662400@kelvernceltic.ca
SUMMARY:Robbie Burns Dinner at 5 Ave Seniors Centre
DESCRIPTION:Robbie Burns Dinner is scheduled to take place at the Centre on January 23rd. Cost is $30 per person for a 3-course roast beef dinner.  Doors open at 5:00 p.m. with dinner at 6:00 p.m.  Entertainment to follow.  Tickets can be purchased at the Centre’s office. \nSA Seniors Burns Supper ad
URL:https://kelvernceltic.ca/event/rb-dinner-at-5-ave-seniors/
LOCATION:Fifth Avenue 50Plus Activity Centre\, 170 5th Avenue\, Salmon Arm\, bc\, V1E 4N2\, Canada
CATEGORIES:Dinner,Haggis,Performance,Senior event,Social
ATTACH;FMTTYPE=image/jpeg:https://kelvernceltic.ca/wp-content/uploads/2024/12/Burns-Dinner-3.jpg
ORGANIZER;CN="Vernon Scottish Country Dancers":MAILTO:vernonscd@gmail.com
END:VEVENT
END:VCALENDAR