BEGIN:VCALENDAR
VERSION:2.0
PRODID:-//Kelvern Celtic Society - ECPv6.15.20//NONSGML v1.0//EN
CALSCALE:GREGORIAN
METHOD:PUBLISH
X-ORIGINAL-URL:https://kelvernceltic.ca
X-WR-CALDESC:Events for Kelvern Celtic Society
REFRESH-INTERVAL;VALUE=DURATION:PT1H
X-Robots-Tag:noindex
X-PUBLISHED-TTL:PT1H
BEGIN:VTIMEZONE
TZID:America/Vancouver
BEGIN:DAYLIGHT
TZOFFSETFROM:-0800
TZOFFSETTO:-0700
TZNAME:PDT
DTSTART:20230312T100000
END:DAYLIGHT
BEGIN:STANDARD
TZOFFSETFROM:-0700
TZOFFSETTO:-0800
TZNAME:PST
DTSTART:20231105T090000
END:STANDARD
BEGIN:DAYLIGHT
TZOFFSETFROM:-0800
TZOFFSETTO:-0700
TZNAME:PDT
DTSTART:20240310T100000
END:DAYLIGHT
BEGIN:STANDARD
TZOFFSETFROM:-0700
TZOFFSETTO:-0800
TZNAME:PST
DTSTART:20241103T090000
END:STANDARD
BEGIN:DAYLIGHT
TZOFFSETFROM:-0800
TZOFFSETTO:-0700
TZNAME:PDT
DTSTART:20250309T100000
END:DAYLIGHT
BEGIN:STANDARD
TZOFFSETFROM:-0700
TZOFFSETTO:-0800
TZNAME:PST
DTSTART:20251102T090000
END:STANDARD
END:VTIMEZONE
BEGIN:VEVENT
DTSTART;TZID=America/Vancouver:20241201T110000
DTEND;TZID=America/Vancouver:20241201T170000
DTSTAMP:20260420T171803
CREATED:20241028T225751Z
LAST-MODIFIED:20241109T212746Z
UID:10005294-1733050800-1733072400@kelvernceltic.ca
SUMMARY:Okanagan Irish Society 2024 Christmas Luncheon
DESCRIPTION:Join us on Sunday\, December 1st\, 2024\, for our annual Okanagan Irish Society Christmas Luncheon\, now being held at the Meadowbrook Estates Clubhouse (1968 Enterprise Way). There will be a full Christmas meal\, a sing-a-long with Ceol na h’Eireann\, Irish dancers from the Ticálié Irish Dance Academy\, as well as a Holiday door prize draw and more! Tickets are $30 for Okanagan Irish Society Members and $35 for non-members (Children age 12 and under are 50% off). To purchase tickets\, please send an e-transfer to okanaganirishsociety@gmail.com (see the graphic for more instructions on that). Get your tickets today before they are gone!
URL:https://kelvernceltic.ca/event/okanagan-irish-society-2024-christmas-luncheon/
LOCATION:Meadowbrook Estates\, 1968 Enterprise Way\, Kelowna\, British Columbia\, V1W 1A4\, Canada
CATEGORIES:Irish Celtic Music,Irish Dancing,Lunch,Performance
END:VEVENT
END:VCALENDAR