BEGIN:VCALENDAR
VERSION:2.0
PRODID:-//Kelvern Celtic Society - ECPv6.15.20//NONSGML v1.0//EN
CALSCALE:GREGORIAN
METHOD:PUBLISH
X-ORIGINAL-URL:https://kelvernceltic.ca
X-WR-CALDESC:Events for Kelvern Celtic Society
REFRESH-INTERVAL;VALUE=DURATION:PT1H
X-Robots-Tag:noindex
X-PUBLISHED-TTL:PT1H
BEGIN:VTIMEZONE
TZID:America/Vancouver
BEGIN:DAYLIGHT
TZOFFSETFROM:-0800
TZOFFSETTO:-0700
TZNAME:PDT
DTSTART:20230312T100000
END:DAYLIGHT
BEGIN:STANDARD
TZOFFSETFROM:-0700
TZOFFSETTO:-0800
TZNAME:PST
DTSTART:20231105T090000
END:STANDARD
BEGIN:DAYLIGHT
TZOFFSETFROM:-0800
TZOFFSETTO:-0700
TZNAME:PDT
DTSTART:20240310T100000
END:DAYLIGHT
BEGIN:STANDARD
TZOFFSETFROM:-0700
TZOFFSETTO:-0800
TZNAME:PST
DTSTART:20241103T090000
END:STANDARD
BEGIN:DAYLIGHT
TZOFFSETFROM:-0800
TZOFFSETTO:-0700
TZNAME:PDT
DTSTART:20250309T100000
END:DAYLIGHT
BEGIN:STANDARD
TZOFFSETFROM:-0700
TZOFFSETTO:-0800
TZNAME:PST
DTSTART:20251102T090000
END:STANDARD
END:VTIMEZONE
BEGIN:VEVENT
DTSTART;TZID=America/Vancouver:20241112T113000
DTEND;TZID=America/Vancouver:20241112T140000
DTSTAMP:20260420T200238
CREATED:20241109T213448Z
LAST-MODIFIED:20241109T213448Z
UID:10005298-1731411000-1731420000@kelvernceltic.ca
SUMMARY:Okanagan Irish Society Fall Senior's Lunch
DESCRIPTION:Seniors! Join us for lunch on Tuesday\, November 12th at the brand new C-Lovers in the Capri Mall at 11:30 AM. There will be fish and chips galore and socialization aplenty! Please RSVP by November 10th!
URL:https://kelvernceltic.ca/event/okanagan-irish-society-fall-seniors-lunch/
LOCATION:C-Lovers\, Capri Centre Mall\, 104\, 1835 Gordon Dr\, Kelowna\, British Columbia\, V1Y 3H5\, Canada
CATEGORIES:Lunch,Social
END:VEVENT
END:VCALENDAR