BEGIN:VCALENDAR
VERSION:2.0
PRODID:-//Kelvern Celtic Society - ECPv6.15.20//NONSGML v1.0//EN
CALSCALE:GREGORIAN
METHOD:PUBLISH
X-ORIGINAL-URL:https://kelvernceltic.ca
X-WR-CALDESC:Events for Kelvern Celtic Society
REFRESH-INTERVAL;VALUE=DURATION:PT1H
X-Robots-Tag:noindex
X-PUBLISHED-TTL:PT1H
BEGIN:VTIMEZONE
TZID:America/Vancouver
BEGIN:DAYLIGHT
TZOFFSETFROM:-0800
TZOFFSETTO:-0700
TZNAME:PDT
DTSTART:20240310T100000
END:DAYLIGHT
BEGIN:STANDARD
TZOFFSETFROM:-0700
TZOFFSETTO:-0800
TZNAME:PST
DTSTART:20241103T090000
END:STANDARD
BEGIN:DAYLIGHT
TZOFFSETFROM:-0800
TZOFFSETTO:-0700
TZNAME:PDT
DTSTART:20250309T100000
END:DAYLIGHT
BEGIN:STANDARD
TZOFFSETFROM:-0700
TZOFFSETTO:-0800
TZNAME:PST
DTSTART:20251102T090000
END:STANDARD
BEGIN:DAYLIGHT
TZOFFSETFROM:-0800
TZOFFSETTO:-0700
TZNAME:PDT
DTSTART:20260308T100000
END:DAYLIGHT
BEGIN:STANDARD
TZOFFSETFROM:-0700
TZOFFSETTO:-0800
TZNAME:PST
DTSTART:20261101T090000
END:STANDARD
END:VTIMEZONE
BEGIN:VEVENT
DTSTART;TZID=America/Vancouver:20250909T190000
DTEND;TZID=America/Vancouver:20250909T210000
DTSTAMP:20260421T101740
CREATED:20250827T004456Z
LAST-MODIFIED:20250827T004456Z
UID:10005345-1757444400-1757451600@kelvernceltic.ca
SUMMARY:Vernon Scottish Country Dance Open House
DESCRIPTION:Come and try Scottish Country Dancing.  Fun\, fitness and friends await. \nNo need to be Scottish or a dancer.
URL:https://kelvernceltic.ca/event/vernon-scottish-country-dance-open-house/
LOCATION:KNOX Presbyterian Church Hall\, 3701 -32ND AVE\, Vernon\, BC\, V1T 2N2\, Canada
CATEGORIES:Class,Scottish Country Dance,Social
ORGANIZER;CN="Vernon Scottish Country Dancers":MAILTO:vernonscd@gmail.com
END:VEVENT
END:VCALENDAR