BEGIN:VCALENDAR
VERSION:2.0
PRODID:-//Kelvern Celtic Society - ECPv6.15.20//NONSGML v1.0//EN
CALSCALE:GREGORIAN
METHOD:PUBLISH
X-ORIGINAL-URL:https://kelvernceltic.ca
X-WR-CALDESC:Events for Kelvern Celtic Society
REFRESH-INTERVAL;VALUE=DURATION:PT1H
X-Robots-Tag:noindex
X-PUBLISHED-TTL:PT1H
BEGIN:VTIMEZONE
TZID:America/Vancouver
BEGIN:DAYLIGHT
TZOFFSETFROM:-0800
TZOFFSETTO:-0700
TZNAME:PDT
DTSTART:20250309T100000
END:DAYLIGHT
BEGIN:STANDARD
TZOFFSETFROM:-0700
TZOFFSETTO:-0800
TZNAME:PST
DTSTART:20251102T090000
END:STANDARD
BEGIN:DAYLIGHT
TZOFFSETFROM:-0800
TZOFFSETTO:-0700
TZNAME:PDT
DTSTART:20260308T100000
END:DAYLIGHT
BEGIN:STANDARD
TZOFFSETFROM:-0700
TZOFFSETTO:-0800
TZNAME:PST
DTSTART:20261101T090000
END:STANDARD
BEGIN:DAYLIGHT
TZOFFSETFROM:-0800
TZOFFSETTO:-0700
TZNAME:PDT
DTSTART:20270314T100000
END:DAYLIGHT
BEGIN:STANDARD
TZOFFSETFROM:-0700
TZOFFSETTO:-0800
TZNAME:PST
DTSTART:20271107T090000
END:STANDARD
END:VTIMEZONE
BEGIN:VEVENT
DTSTART;TZID=America/Vancouver:20260113T190000
DTEND;TZID=America/Vancouver:20260113T210000
DTSTAMP:20260420T210417
CREATED:20260118T214326Z
LAST-MODIFIED:20260119T002459Z
UID:10005360-1768330800-1768338000@kelvernceltic.ca
SUMMARY:Kelowna Scottish Country Dancers - General Class
DESCRIPTION:Kelowna Scottish Dancers will dance to the end of April\, 2026.  Our General\nClass runs from 7pm to 9pm every Tuesday.  Our Foundation Class runs\nfrom 5:45 pm until 6:45 pm every Tuesday.ry
URL:https://kelvernceltic.ca/event/kelowna-scottish-country-dancers-general-class/2026-01-13/
LOCATION:Central Okanagan United Church\, 721 Bernard Ave\, Kelowna\, British Columbia\, Canada
CATEGORIES:Class,practice,Scottish Country Dance
ATTACH;FMTTYPE=image/jpeg:https://kelvernceltic.ca/wp-content/uploads/2026/01/Kelowna-Scottish-Country-Dancers.jpg
END:VEVENT
BEGIN:VEVENT
DTSTART;TZID=America/Vancouver:20260120T190000
DTEND;TZID=America/Vancouver:20260120T210000
DTSTAMP:20260420T210417
CREATED:20260118T214326Z
LAST-MODIFIED:20260119T002459Z
UID:10005430-1768935600-1768942800@kelvernceltic.ca
SUMMARY:Kelowna Scottish Country Dancers - General Class
DESCRIPTION:Kelowna Scottish Dancers will dance to the end of April\, 2026.  Our General\nClass runs from 7pm to 9pm every Tuesday.  Our Foundation Class runs\nfrom 5:45 pm until 6:45 pm every Tuesday.ry
URL:https://kelvernceltic.ca/event/kelowna-scottish-country-dancers-general-class/2026-01-20/
LOCATION:Central Okanagan United Church\, 721 Bernard Ave\, Kelowna\, British Columbia\, Canada
CATEGORIES:Class,practice,Scottish Country Dance
ATTACH;FMTTYPE=image/jpeg:https://kelvernceltic.ca/wp-content/uploads/2026/01/Kelowna-Scottish-Country-Dancers.jpg
END:VEVENT
BEGIN:VEVENT
DTSTART;TZID=America/Vancouver:20260127T190000
DTEND;TZID=America/Vancouver:20260127T210000
DTSTAMP:20260420T210417
CREATED:20260118T214326Z
LAST-MODIFIED:20260119T002459Z
UID:10005431-1769540400-1769547600@kelvernceltic.ca
SUMMARY:Kelowna Scottish Country Dancers - General Class
DESCRIPTION:Kelowna Scottish Dancers will dance to the end of April\, 2026.  Our General\nClass runs from 7pm to 9pm every Tuesday.  Our Foundation Class runs\nfrom 5:45 pm until 6:45 pm every Tuesday.ry
URL:https://kelvernceltic.ca/event/kelowna-scottish-country-dancers-general-class/2026-01-27/
LOCATION:Central Okanagan United Church\, 721 Bernard Ave\, Kelowna\, British Columbia\, Canada
CATEGORIES:Class,practice,Scottish Country Dance
ATTACH;FMTTYPE=image/jpeg:https://kelvernceltic.ca/wp-content/uploads/2026/01/Kelowna-Scottish-Country-Dancers.jpg
END:VEVENT
BEGIN:VEVENT
DTSTART;TZID=America/Vancouver:20260203T190000
DTEND;TZID=America/Vancouver:20260203T210000
DTSTAMP:20260420T210417
CREATED:20260118T214326Z
LAST-MODIFIED:20260119T002459Z
UID:10005432-1770145200-1770152400@kelvernceltic.ca
SUMMARY:Kelowna Scottish Country Dancers - General Class
DESCRIPTION:Kelowna Scottish Dancers will dance to the end of April\, 2026.  Our General\nClass runs from 7pm to 9pm every Tuesday.  Our Foundation Class runs\nfrom 5:45 pm until 6:45 pm every Tuesday.ry
URL:https://kelvernceltic.ca/event/kelowna-scottish-country-dancers-general-class/2026-02-03/
LOCATION:Central Okanagan United Church\, 721 Bernard Ave\, Kelowna\, British Columbia\, Canada
CATEGORIES:Class,practice,Scottish Country Dance
ATTACH;FMTTYPE=image/jpeg:https://kelvernceltic.ca/wp-content/uploads/2026/01/Kelowna-Scottish-Country-Dancers.jpg
END:VEVENT
BEGIN:VEVENT
DTSTART;TZID=America/Vancouver:20260210T190000
DTEND;TZID=America/Vancouver:20260210T210000
DTSTAMP:20260420T210417
CREATED:20260118T214326Z
LAST-MODIFIED:20260119T002459Z
UID:10005433-1770750000-1770757200@kelvernceltic.ca
SUMMARY:Kelowna Scottish Country Dancers - General Class
DESCRIPTION:Kelowna Scottish Dancers will dance to the end of April\, 2026.  Our General\nClass runs from 7pm to 9pm every Tuesday.  Our Foundation Class runs\nfrom 5:45 pm until 6:45 pm every Tuesday.ry
URL:https://kelvernceltic.ca/event/kelowna-scottish-country-dancers-general-class/2026-02-10/
LOCATION:Central Okanagan United Church\, 721 Bernard Ave\, Kelowna\, British Columbia\, Canada
CATEGORIES:Class,practice,Scottish Country Dance
ATTACH;FMTTYPE=image/jpeg:https://kelvernceltic.ca/wp-content/uploads/2026/01/Kelowna-Scottish-Country-Dancers.jpg
END:VEVENT
BEGIN:VEVENT
DTSTART;TZID=America/Vancouver:20260213T170000
DTEND;TZID=America/Vancouver:20260215T170000
DTSTAMP:20260420T210417
CREATED:20251024T203048Z
LAST-MODIFIED:20251024T203048Z
UID:10005356-1771002000-1771174800@kelvernceltic.ca
SUMMARY:RSCDS Edmonton Workshop & Ball
DESCRIPTION:54th Annual Workshop and Ball\nFebruary 13-15″ 2026\nChateau Lacombe\, Edmonton\, AB\nTeachers\n\nFiona Miller Lethbridge\, AB\nWilliam Williamson Amisfield\, Scotland\nAlison Moen Vancouver\, BC\n\nMusicians\n\nKeith Smith UK\nAnne-Laure Latour UK\nlan Muir Prestwick\, Scotland\n\nFor more information email danceeccds@gmail.com
URL:https://kelvernceltic.ca/event/rscds-edmonton-workshop-ball/
LOCATION:TBA\, to be announced
CATEGORIES:Ceilidh Dance,Class
ATTACH;FMTTYPE=image/gif:https://kelvernceltic.ca/wp-content/uploads/2023/10/ScottishDance-1953990174.gif
ORGANIZER;CN="Kelvern Celtic Society":MAILTO:info@kelvernceltic.ca
END:VEVENT
BEGIN:VEVENT
DTSTART;TZID=America/Vancouver:20260217T190000
DTEND;TZID=America/Vancouver:20260217T210000
DTSTAMP:20260420T210417
CREATED:20260118T214326Z
LAST-MODIFIED:20260119T002459Z
UID:10005434-1771354800-1771362000@kelvernceltic.ca
SUMMARY:Kelowna Scottish Country Dancers - General Class
DESCRIPTION:Kelowna Scottish Dancers will dance to the end of April\, 2026.  Our General\nClass runs from 7pm to 9pm every Tuesday.  Our Foundation Class runs\nfrom 5:45 pm until 6:45 pm every Tuesday.ry
URL:https://kelvernceltic.ca/event/kelowna-scottish-country-dancers-general-class/2026-02-17/
LOCATION:Central Okanagan United Church\, 721 Bernard Ave\, Kelowna\, British Columbia\, Canada
CATEGORIES:Class,practice,Scottish Country Dance
ATTACH;FMTTYPE=image/jpeg:https://kelvernceltic.ca/wp-content/uploads/2026/01/Kelowna-Scottish-Country-Dancers.jpg
END:VEVENT
BEGIN:VEVENT
DTSTART;TZID=America/Vancouver:20260224T190000
DTEND;TZID=America/Vancouver:20260224T210000
DTSTAMP:20260420T210417
CREATED:20260118T214326Z
LAST-MODIFIED:20260119T002459Z
UID:10005435-1771959600-1771966800@kelvernceltic.ca
SUMMARY:Kelowna Scottish Country Dancers - General Class
DESCRIPTION:Kelowna Scottish Dancers will dance to the end of April\, 2026.  Our General\nClass runs from 7pm to 9pm every Tuesday.  Our Foundation Class runs\nfrom 5:45 pm until 6:45 pm every Tuesday.ry
URL:https://kelvernceltic.ca/event/kelowna-scottish-country-dancers-general-class/2026-02-24/
LOCATION:Central Okanagan United Church\, 721 Bernard Ave\, Kelowna\, British Columbia\, Canada
CATEGORIES:Class,practice,Scottish Country Dance
ATTACH;FMTTYPE=image/jpeg:https://kelvernceltic.ca/wp-content/uploads/2026/01/Kelowna-Scottish-Country-Dancers.jpg
END:VEVENT
BEGIN:VEVENT
DTSTART;TZID=America/Vancouver:20260303T190000
DTEND;TZID=America/Vancouver:20260303T210000
DTSTAMP:20260420T210417
CREATED:20260118T214326Z
LAST-MODIFIED:20260119T002459Z
UID:10005436-1772564400-1772571600@kelvernceltic.ca
SUMMARY:Kelowna Scottish Country Dancers - General Class
DESCRIPTION:Kelowna Scottish Dancers will dance to the end of April\, 2026.  Our General\nClass runs from 7pm to 9pm every Tuesday.  Our Foundation Class runs\nfrom 5:45 pm until 6:45 pm every Tuesday.ry
URL:https://kelvernceltic.ca/event/kelowna-scottish-country-dancers-general-class/2026-03-03/
LOCATION:Central Okanagan United Church\, 721 Bernard Ave\, Kelowna\, British Columbia\, Canada
CATEGORIES:Class,practice,Scottish Country Dance
ATTACH;FMTTYPE=image/jpeg:https://kelvernceltic.ca/wp-content/uploads/2026/01/Kelowna-Scottish-Country-Dancers.jpg
END:VEVENT
BEGIN:VEVENT
DTSTART;TZID=America/Vancouver:20260310T190000
DTEND;TZID=America/Vancouver:20260310T210000
DTSTAMP:20260420T210417
CREATED:20260118T214326Z
LAST-MODIFIED:20260119T002459Z
UID:10005437-1773169200-1773176400@kelvernceltic.ca
SUMMARY:Kelowna Scottish Country Dancers - General Class
DESCRIPTION:Kelowna Scottish Dancers will dance to the end of April\, 2026.  Our General\nClass runs from 7pm to 9pm every Tuesday.  Our Foundation Class runs\nfrom 5:45 pm until 6:45 pm every Tuesday.ry
URL:https://kelvernceltic.ca/event/kelowna-scottish-country-dancers-general-class/2026-03-10/
LOCATION:Central Okanagan United Church\, 721 Bernard Ave\, Kelowna\, British Columbia\, Canada
CATEGORIES:Class,practice,Scottish Country Dance
ATTACH;FMTTYPE=image/jpeg:https://kelvernceltic.ca/wp-content/uploads/2026/01/Kelowna-Scottish-Country-Dancers.jpg
END:VEVENT
BEGIN:VEVENT
DTSTART;TZID=America/Vancouver:20260317T190000
DTEND;TZID=America/Vancouver:20260317T210000
DTSTAMP:20260420T210417
CREATED:20260118T214326Z
LAST-MODIFIED:20260119T002459Z
UID:10005438-1773774000-1773781200@kelvernceltic.ca
SUMMARY:Kelowna Scottish Country Dancers - General Class
DESCRIPTION:Kelowna Scottish Dancers will dance to the end of April\, 2026.  Our General\nClass runs from 7pm to 9pm every Tuesday.  Our Foundation Class runs\nfrom 5:45 pm until 6:45 pm every Tuesday.ry
URL:https://kelvernceltic.ca/event/kelowna-scottish-country-dancers-general-class/2026-03-17/
LOCATION:Central Okanagan United Church\, 721 Bernard Ave\, Kelowna\, British Columbia\, Canada
CATEGORIES:Class,practice,Scottish Country Dance
ATTACH;FMTTYPE=image/jpeg:https://kelvernceltic.ca/wp-content/uploads/2026/01/Kelowna-Scottish-Country-Dancers.jpg
END:VEVENT
BEGIN:VEVENT
DTSTART;TZID=America/Vancouver:20260324T190000
DTEND;TZID=America/Vancouver:20260324T210000
DTSTAMP:20260420T210417
CREATED:20260118T214326Z
LAST-MODIFIED:20260119T002459Z
UID:10005439-1774378800-1774386000@kelvernceltic.ca
SUMMARY:Kelowna Scottish Country Dancers - General Class
DESCRIPTION:Kelowna Scottish Dancers will dance to the end of April\, 2026.  Our General\nClass runs from 7pm to 9pm every Tuesday.  Our Foundation Class runs\nfrom 5:45 pm until 6:45 pm every Tuesday.ry
URL:https://kelvernceltic.ca/event/kelowna-scottish-country-dancers-general-class/2026-03-24/
LOCATION:Central Okanagan United Church\, 721 Bernard Ave\, Kelowna\, British Columbia\, Canada
CATEGORIES:Class,practice,Scottish Country Dance
ATTACH;FMTTYPE=image/jpeg:https://kelvernceltic.ca/wp-content/uploads/2026/01/Kelowna-Scottish-Country-Dancers.jpg
END:VEVENT
BEGIN:VEVENT
DTSTART;TZID=America/Vancouver:20260331T190000
DTEND;TZID=America/Vancouver:20260331T210000
DTSTAMP:20260420T210417
CREATED:20260118T214326Z
LAST-MODIFIED:20260119T002459Z
UID:10005440-1774983600-1774990800@kelvernceltic.ca
SUMMARY:Kelowna Scottish Country Dancers - General Class
DESCRIPTION:Kelowna Scottish Dancers will dance to the end of April\, 2026.  Our General\nClass runs from 7pm to 9pm every Tuesday.  Our Foundation Class runs\nfrom 5:45 pm until 6:45 pm every Tuesday.ry
URL:https://kelvernceltic.ca/event/kelowna-scottish-country-dancers-general-class/2026-03-31/
LOCATION:Central Okanagan United Church\, 721 Bernard Ave\, Kelowna\, British Columbia\, Canada
CATEGORIES:Class,practice,Scottish Country Dance
ATTACH;FMTTYPE=image/jpeg:https://kelvernceltic.ca/wp-content/uploads/2026/01/Kelowna-Scottish-Country-Dancers.jpg
END:VEVENT
BEGIN:VEVENT
DTSTART;TZID=America/Vancouver:20260407T190000
DTEND;TZID=America/Vancouver:20260407T210000
DTSTAMP:20260420T210417
CREATED:20260118T214326Z
LAST-MODIFIED:20260119T002459Z
UID:10005441-1775588400-1775595600@kelvernceltic.ca
SUMMARY:Kelowna Scottish Country Dancers - General Class
DESCRIPTION:Kelowna Scottish Dancers will dance to the end of April\, 2026.  Our General\nClass runs from 7pm to 9pm every Tuesday.  Our Foundation Class runs\nfrom 5:45 pm until 6:45 pm every Tuesday.ry
URL:https://kelvernceltic.ca/event/kelowna-scottish-country-dancers-general-class/2026-04-07/
LOCATION:Central Okanagan United Church\, 721 Bernard Ave\, Kelowna\, British Columbia\, Canada
CATEGORIES:Class,practice,Scottish Country Dance
ATTACH;FMTTYPE=image/jpeg:https://kelvernceltic.ca/wp-content/uploads/2026/01/Kelowna-Scottish-Country-Dancers.jpg
END:VEVENT
BEGIN:VEVENT
DTSTART;TZID=America/Vancouver:20260414T190000
DTEND;TZID=America/Vancouver:20260414T210000
DTSTAMP:20260420T210417
CREATED:20260118T214326Z
LAST-MODIFIED:20260119T002459Z
UID:10005442-1776193200-1776200400@kelvernceltic.ca
SUMMARY:Kelowna Scottish Country Dancers - General Class
DESCRIPTION:Kelowna Scottish Dancers will dance to the end of April\, 2026.  Our General\nClass runs from 7pm to 9pm every Tuesday.  Our Foundation Class runs\nfrom 5:45 pm until 6:45 pm every Tuesday.ry
URL:https://kelvernceltic.ca/event/kelowna-scottish-country-dancers-general-class/2026-04-14/
LOCATION:Central Okanagan United Church\, 721 Bernard Ave\, Kelowna\, British Columbia\, Canada
CATEGORIES:Class,practice,Scottish Country Dance
ATTACH;FMTTYPE=image/jpeg:https://kelvernceltic.ca/wp-content/uploads/2026/01/Kelowna-Scottish-Country-Dancers.jpg
END:VEVENT
BEGIN:VEVENT
DTSTART;TZID=America/Vancouver:20260421T190000
DTEND;TZID=America/Vancouver:20260421T210000
DTSTAMP:20260420T210417
CREATED:20260118T214326Z
LAST-MODIFIED:20260119T002459Z
UID:10005443-1776798000-1776805200@kelvernceltic.ca
SUMMARY:Kelowna Scottish Country Dancers - General Class
DESCRIPTION:Kelowna Scottish Dancers will dance to the end of April\, 2026.  Our General\nClass runs from 7pm to 9pm every Tuesday.  Our Foundation Class runs\nfrom 5:45 pm until 6:45 pm every Tuesday.ry
URL:https://kelvernceltic.ca/event/kelowna-scottish-country-dancers-general-class/2026-04-21/
LOCATION:Central Okanagan United Church\, 721 Bernard Ave\, Kelowna\, British Columbia\, Canada
CATEGORIES:Class,practice,Scottish Country Dance
ATTACH;FMTTYPE=image/jpeg:https://kelvernceltic.ca/wp-content/uploads/2026/01/Kelowna-Scottish-Country-Dancers.jpg
END:VEVENT
BEGIN:VEVENT
DTSTART;TZID=America/Vancouver:20260424T170000
DTEND;TZID=America/Vancouver:20260425T170000
DTSTAMP:20260420T210417
CREATED:20260202T213132Z
LAST-MODIFIED:20260202T213258Z
UID:10005498-1777050000-1777136400@kelvernceltic.ca
SUMMARY:RSCDS Penticton Workshop & Tea Dance
DESCRIPTION:Okanagan Workshop hosted by\nNaramata Scottish Country Dancers\nin Penticton\nApril 24 and 25\, 2026\nThe venue will be the Penticton Seniors’ Drop-in Centre\, aka “The Centre”\, 2965 South Main Street in\nPenticton\, where the Great Hall has a beautiful wooden sprung dance floor. \nFriday April 24th:\n\n– Welcome Dance from 7-9 pm\n\nSaturday April 25th:\n\n– 8:15 am registration\, coffee and pastries will be served\n– Dance Workshop from 9:30-11:30 am\n– Lunch will be provided after the workshop\n– Tea Dance followed by light refreshments\, from 1:15pm-5:00 pm\n\nWe are privileged to have Rebecca Blackhall-Peters as the instructor\, and live music provided by\nKilbirnie Station\, a four-piece Scottish musical ensemble from Vancouver. \nPrice:\nFull weekend including Friday night and all-day Saturday – $75\nTea Dance Only – $45 \nWhere to Stay:\nThe Coast Penticton Hotel\n2307Skaha Lake Road\, Penticton\, BC V2A 6E8\nPhone 250-492-0323 or Toll free 1-800-716-6199\nEmail: coastpentictoninfo@coasthotels.com\nWebsite: Hotel in Penticton\, British Columbia | Coast Penticton Hotel\nNaramata Scottish Country Dancers has reserved a block of 10 rooms for\nApril 24-25\, for out-of-town attendees (these prices will be honoured for the 23rd and 26th if people\nwould like to arrive early or stay an extra day).\nDouble Queen Room (QQ3): $ 99 per night + taxes\nKing Kitchenette Suite (SK1): $115 per night + taxes\nEach room has a mini fridge\, microwave and coffee maker and parking is complimentary for all\nguests\nUse group Block Code: Naramata Scottish Country Dancers\, available until April 10th\nNSCD will also provide a limited number of billets\, contact Nancy Laramie at\nnancylaramie@hotmail.com \nWe hope that you can join us!
URL:https://kelvernceltic.ca/event/rscds-penticton-workshop-tea-dance/
LOCATION:TBA\, to be announced
CATEGORIES:Ceilidh Dance,Class
ATTACH;FMTTYPE=image/webp:https://kelvernceltic.ca/wp-content/uploads/2024/10/wheel.webp
ORGANIZER;CN="Vernon Scottish Country Dancers":MAILTO:vernonscd@gmail.com
END:VEVENT
BEGIN:VEVENT
DTSTART;TZID=America/Vancouver:20260428T190000
DTEND;TZID=America/Vancouver:20260428T210000
DTSTAMP:20260420T210417
CREATED:20260118T214326Z
LAST-MODIFIED:20260119T002459Z
UID:10005444-1777402800-1777410000@kelvernceltic.ca
SUMMARY:Kelowna Scottish Country Dancers - General Class
DESCRIPTION:Kelowna Scottish Dancers will dance to the end of April\, 2026.  Our General\nClass runs from 7pm to 9pm every Tuesday.  Our Foundation Class runs\nfrom 5:45 pm until 6:45 pm every Tuesday.ry
URL:https://kelvernceltic.ca/event/kelowna-scottish-country-dancers-general-class/2026-04-28/
LOCATION:Central Okanagan United Church\, 721 Bernard Ave\, Kelowna\, British Columbia\, Canada
CATEGORIES:Class,practice,Scottish Country Dance
ATTACH;FMTTYPE=image/jpeg:https://kelvernceltic.ca/wp-content/uploads/2026/01/Kelowna-Scottish-Country-Dancers.jpg
END:VEVENT
BEGIN:VEVENT
DTSTART;TZID=America/Vancouver:20260505T190000
DTEND;TZID=America/Vancouver:20260505T210000
DTSTAMP:20260420T210417
CREATED:20260118T214326Z
LAST-MODIFIED:20260119T002459Z
UID:10005445-1778007600-1778014800@kelvernceltic.ca
SUMMARY:Kelowna Scottish Country Dancers - General Class
DESCRIPTION:Kelowna Scottish Dancers will dance to the end of April\, 2026.  Our General\nClass runs from 7pm to 9pm every Tuesday.  Our Foundation Class runs\nfrom 5:45 pm until 6:45 pm every Tuesday.ry
URL:https://kelvernceltic.ca/event/kelowna-scottish-country-dancers-general-class/2026-05-05/
LOCATION:Central Okanagan United Church\, 721 Bernard Ave\, Kelowna\, British Columbia\, Canada
CATEGORIES:Class,practice,Scottish Country Dance
ATTACH;FMTTYPE=image/jpeg:https://kelvernceltic.ca/wp-content/uploads/2026/01/Kelowna-Scottish-Country-Dancers.jpg
END:VEVENT
BEGIN:VEVENT
DTSTART;TZID=America/Vancouver:20260512T190000
DTEND;TZID=America/Vancouver:20260512T210000
DTSTAMP:20260420T210417
CREATED:20260118T214326Z
LAST-MODIFIED:20260119T002459Z
UID:10005446-1778612400-1778619600@kelvernceltic.ca
SUMMARY:Kelowna Scottish Country Dancers - General Class
DESCRIPTION:Kelowna Scottish Dancers will dance to the end of April\, 2026.  Our General\nClass runs from 7pm to 9pm every Tuesday.  Our Foundation Class runs\nfrom 5:45 pm until 6:45 pm every Tuesday.ry
URL:https://kelvernceltic.ca/event/kelowna-scottish-country-dancers-general-class/2026-05-12/
LOCATION:Central Okanagan United Church\, 721 Bernard Ave\, Kelowna\, British Columbia\, Canada
CATEGORIES:Class,practice,Scottish Country Dance
ATTACH;FMTTYPE=image/jpeg:https://kelvernceltic.ca/wp-content/uploads/2026/01/Kelowna-Scottish-Country-Dancers.jpg
END:VEVENT
BEGIN:VEVENT
DTSTART;TZID=America/Vancouver:20260519T190000
DTEND;TZID=America/Vancouver:20260519T210000
DTSTAMP:20260420T210417
CREATED:20260118T214326Z
LAST-MODIFIED:20260119T002459Z
UID:10005447-1779217200-1779224400@kelvernceltic.ca
SUMMARY:Kelowna Scottish Country Dancers - General Class
DESCRIPTION:Kelowna Scottish Dancers will dance to the end of April\, 2026.  Our General\nClass runs from 7pm to 9pm every Tuesday.  Our Foundation Class runs\nfrom 5:45 pm until 6:45 pm every Tuesday.ry
URL:https://kelvernceltic.ca/event/kelowna-scottish-country-dancers-general-class/2026-05-19/
LOCATION:Central Okanagan United Church\, 721 Bernard Ave\, Kelowna\, British Columbia\, Canada
CATEGORIES:Class,practice,Scottish Country Dance
ATTACH;FMTTYPE=image/jpeg:https://kelvernceltic.ca/wp-content/uploads/2026/01/Kelowna-Scottish-Country-Dancers.jpg
END:VEVENT
BEGIN:VEVENT
DTSTART;TZID=America/Vancouver:20260526T190000
DTEND;TZID=America/Vancouver:20260526T210000
DTSTAMP:20260420T210417
CREATED:20260118T214326Z
LAST-MODIFIED:20260119T002459Z
UID:10005448-1779822000-1779829200@kelvernceltic.ca
SUMMARY:Kelowna Scottish Country Dancers - General Class
DESCRIPTION:Kelowna Scottish Dancers will dance to the end of April\, 2026.  Our General\nClass runs from 7pm to 9pm every Tuesday.  Our Foundation Class runs\nfrom 5:45 pm until 6:45 pm every Tuesday.ry
URL:https://kelvernceltic.ca/event/kelowna-scottish-country-dancers-general-class/2026-05-26/
LOCATION:Central Okanagan United Church\, 721 Bernard Ave\, Kelowna\, British Columbia\, Canada
CATEGORIES:Class,practice,Scottish Country Dance
ATTACH;FMTTYPE=image/jpeg:https://kelvernceltic.ca/wp-content/uploads/2026/01/Kelowna-Scottish-Country-Dancers.jpg
END:VEVENT
BEGIN:VEVENT
DTSTART;TZID=America/Vancouver:20260602T190000
DTEND;TZID=America/Vancouver:20260602T210000
DTSTAMP:20260420T210417
CREATED:20260118T214326Z
LAST-MODIFIED:20260119T002459Z
UID:10005449-1780426800-1780434000@kelvernceltic.ca
SUMMARY:Kelowna Scottish Country Dancers - General Class
DESCRIPTION:Kelowna Scottish Dancers will dance to the end of April\, 2026.  Our General\nClass runs from 7pm to 9pm every Tuesday.  Our Foundation Class runs\nfrom 5:45 pm until 6:45 pm every Tuesday.ry
URL:https://kelvernceltic.ca/event/kelowna-scottish-country-dancers-general-class/2026-06-02/
LOCATION:Central Okanagan United Church\, 721 Bernard Ave\, Kelowna\, British Columbia\, Canada
CATEGORIES:Class,practice,Scottish Country Dance
ATTACH;FMTTYPE=image/jpeg:https://kelvernceltic.ca/wp-content/uploads/2026/01/Kelowna-Scottish-Country-Dancers.jpg
END:VEVENT
BEGIN:VEVENT
DTSTART;TZID=America/Vancouver:20260609T190000
DTEND;TZID=America/Vancouver:20260609T210000
DTSTAMP:20260420T210417
CREATED:20260118T214326Z
LAST-MODIFIED:20260119T002459Z
UID:10005450-1781031600-1781038800@kelvernceltic.ca
SUMMARY:Kelowna Scottish Country Dancers - General Class
DESCRIPTION:Kelowna Scottish Dancers will dance to the end of April\, 2026.  Our General\nClass runs from 7pm to 9pm every Tuesday.  Our Foundation Class runs\nfrom 5:45 pm until 6:45 pm every Tuesday.ry
URL:https://kelvernceltic.ca/event/kelowna-scottish-country-dancers-general-class/2026-06-09/
LOCATION:Central Okanagan United Church\, 721 Bernard Ave\, Kelowna\, British Columbia\, Canada
CATEGORIES:Class,practice,Scottish Country Dance
ATTACH;FMTTYPE=image/jpeg:https://kelvernceltic.ca/wp-content/uploads/2026/01/Kelowna-Scottish-Country-Dancers.jpg
END:VEVENT
BEGIN:VEVENT
DTSTART;TZID=America/Vancouver:20260616T190000
DTEND;TZID=America/Vancouver:20260616T210000
DTSTAMP:20260420T210417
CREATED:20260118T214326Z
LAST-MODIFIED:20260119T002459Z
UID:10005451-1781636400-1781643600@kelvernceltic.ca
SUMMARY:Kelowna Scottish Country Dancers - General Class
DESCRIPTION:Kelowna Scottish Dancers will dance to the end of April\, 2026.  Our General\nClass runs from 7pm to 9pm every Tuesday.  Our Foundation Class runs\nfrom 5:45 pm until 6:45 pm every Tuesday.ry
URL:https://kelvernceltic.ca/event/kelowna-scottish-country-dancers-general-class/2026-06-16/
LOCATION:Central Okanagan United Church\, 721 Bernard Ave\, Kelowna\, British Columbia\, Canada
CATEGORIES:Class,practice,Scottish Country Dance
ATTACH;FMTTYPE=image/jpeg:https://kelvernceltic.ca/wp-content/uploads/2026/01/Kelowna-Scottish-Country-Dancers.jpg
END:VEVENT
BEGIN:VEVENT
DTSTART;TZID=America/Vancouver:20260623T190000
DTEND;TZID=America/Vancouver:20260623T210000
DTSTAMP:20260420T210417
CREATED:20260118T214326Z
LAST-MODIFIED:20260119T002459Z
UID:10005452-1782241200-1782248400@kelvernceltic.ca
SUMMARY:Kelowna Scottish Country Dancers - General Class
DESCRIPTION:Kelowna Scottish Dancers will dance to the end of April\, 2026.  Our General\nClass runs from 7pm to 9pm every Tuesday.  Our Foundation Class runs\nfrom 5:45 pm until 6:45 pm every Tuesday.ry
URL:https://kelvernceltic.ca/event/kelowna-scottish-country-dancers-general-class/2026-06-23/
LOCATION:Central Okanagan United Church\, 721 Bernard Ave\, Kelowna\, British Columbia\, Canada
CATEGORIES:Class,practice,Scottish Country Dance
ATTACH;FMTTYPE=image/jpeg:https://kelvernceltic.ca/wp-content/uploads/2026/01/Kelowna-Scottish-Country-Dancers.jpg
END:VEVENT
BEGIN:VEVENT
DTSTART;TZID=America/Vancouver:20260630T190000
DTEND;TZID=America/Vancouver:20260630T210000
DTSTAMP:20260420T210417
CREATED:20260118T214326Z
LAST-MODIFIED:20260119T002459Z
UID:10005453-1782846000-1782853200@kelvernceltic.ca
SUMMARY:Kelowna Scottish Country Dancers - General Class
DESCRIPTION:Kelowna Scottish Dancers will dance to the end of April\, 2026.  Our General\nClass runs from 7pm to 9pm every Tuesday.  Our Foundation Class runs\nfrom 5:45 pm until 6:45 pm every Tuesday.ry
URL:https://kelvernceltic.ca/event/kelowna-scottish-country-dancers-general-class/2026-06-30/
LOCATION:Central Okanagan United Church\, 721 Bernard Ave\, Kelowna\, British Columbia\, Canada
CATEGORIES:Class,practice,Scottish Country Dance
ATTACH;FMTTYPE=image/jpeg:https://kelvernceltic.ca/wp-content/uploads/2026/01/Kelowna-Scottish-Country-Dancers.jpg
END:VEVENT
BEGIN:VEVENT
DTSTART;TZID=America/Vancouver:20260707T190000
DTEND;TZID=America/Vancouver:20260707T210000
DTSTAMP:20260420T210417
CREATED:20260118T214326Z
LAST-MODIFIED:20260119T002459Z
UID:10005454-1783450800-1783458000@kelvernceltic.ca
SUMMARY:Kelowna Scottish Country Dancers - General Class
DESCRIPTION:Kelowna Scottish Dancers will dance to the end of April\, 2026.  Our General\nClass runs from 7pm to 9pm every Tuesday.  Our Foundation Class runs\nfrom 5:45 pm until 6:45 pm every Tuesday.ry
URL:https://kelvernceltic.ca/event/kelowna-scottish-country-dancers-general-class/2026-07-07/
LOCATION:Central Okanagan United Church\, 721 Bernard Ave\, Kelowna\, British Columbia\, Canada
CATEGORIES:Class,practice,Scottish Country Dance
ATTACH;FMTTYPE=image/jpeg:https://kelvernceltic.ca/wp-content/uploads/2026/01/Kelowna-Scottish-Country-Dancers.jpg
END:VEVENT
BEGIN:VEVENT
DTSTART;TZID=America/Vancouver:20260714T190000
DTEND;TZID=America/Vancouver:20260714T210000
DTSTAMP:20260420T210417
CREATED:20260118T214326Z
LAST-MODIFIED:20260119T002459Z
UID:10005455-1784055600-1784062800@kelvernceltic.ca
SUMMARY:Kelowna Scottish Country Dancers - General Class
DESCRIPTION:Kelowna Scottish Dancers will dance to the end of April\, 2026.  Our General\nClass runs from 7pm to 9pm every Tuesday.  Our Foundation Class runs\nfrom 5:45 pm until 6:45 pm every Tuesday.ry
URL:https://kelvernceltic.ca/event/kelowna-scottish-country-dancers-general-class/2026-07-14/
LOCATION:Central Okanagan United Church\, 721 Bernard Ave\, Kelowna\, British Columbia\, Canada
CATEGORIES:Class,practice,Scottish Country Dance
ATTACH;FMTTYPE=image/jpeg:https://kelvernceltic.ca/wp-content/uploads/2026/01/Kelowna-Scottish-Country-Dancers.jpg
END:VEVENT
BEGIN:VEVENT
DTSTART;TZID=America/Vancouver:20260721T190000
DTEND;TZID=America/Vancouver:20260721T210000
DTSTAMP:20260420T210417
CREATED:20260118T214326Z
LAST-MODIFIED:20260119T002459Z
UID:10005456-1784660400-1784667600@kelvernceltic.ca
SUMMARY:Kelowna Scottish Country Dancers - General Class
DESCRIPTION:Kelowna Scottish Dancers will dance to the end of April\, 2026.  Our General\nClass runs from 7pm to 9pm every Tuesday.  Our Foundation Class runs\nfrom 5:45 pm until 6:45 pm every Tuesday.ry
URL:https://kelvernceltic.ca/event/kelowna-scottish-country-dancers-general-class/2026-07-21/
LOCATION:Central Okanagan United Church\, 721 Bernard Ave\, Kelowna\, British Columbia\, Canada
CATEGORIES:Class,practice,Scottish Country Dance
ATTACH;FMTTYPE=image/jpeg:https://kelvernceltic.ca/wp-content/uploads/2026/01/Kelowna-Scottish-Country-Dancers.jpg
END:VEVENT
END:VCALENDAR